{"text_format":"1","workbook":"xlsx","n_sheets":11,"sheets":["B","VG","İL","KMSYN","RAYİÇ","TM","YM","PAT","ONAY","MKT","PROFORMA"],"not_rendered":{"charts":0,"images":0,"macros":1,"external_links":0,"defined_names":0,"comments":0,"pivot_tables":0},"unopened":[],"bounds":{"document_bytes":16777216,"sheet_cells":100000,"rows_first":2000,"rows_last":500,"rows_between":2000,"halvings":0,"cell_chars":16384,"cell_head_chars":4096},"cells_cut":0,"cells_raw":0,"read":"whole","date_system":"1900"}

{"sheet":"B","index":0,"n_rows":28,"n_cols":8,"rows_kept":28,"cut":false,"hidden":true,"merged":[[9,0,9,5],[26,0,26,6],[27,0,27,6]]}
[{"$f":"UPPER(VG!A7)","v":"ERDEM BAYAZIT İMAM HATİP ORTAOKULU MÜDÜRLÜĞÜ"}," ","NE","-903.07.01/",null,{"$f":"MAX(VG!A35:A134)","v":3}," "," Kalem "]
[{"$f":"UPPER(VG!G7)","v":"OSMANİYE"}," ",null,"-934.01/"]
[" ihtiyaç duyulan aşağıda adı, özellikleri ve miktarı yazılı Malın / malzemenin temin edilmesi hususunda;\n          Gereğini arz ederim.","           "," / "]
["          Yukarıda Adı, Özellikleri ve miktarı belirtilen"]
[" ihtiyaç duyulan malın / malzemenin satın alınması uygundur.\n          Gereğini rica ederim."]
[]
["          Okulumuza ",{"$f":"TEXT(VG!D24,\"yyyy\")","v":"2021"}," mali yılı ödeneğinde yer alan miktar doğrultusunda oluşturulacak komisyon marifetiyle 4734 sayılı Kamu İhale Kanununun 22/d maddesine göre doğrudan temin yöntemi ile "]
["satın alınacaktır.  \n          Söz konusu malzeme alımı için piyasa araştırması yapılması, teklif mektuplarının dağıtılması, değerlendirilmesi ve alınan malın / malzemenin muayene ve kabulünü yapmak üzere aşağıda adı soyadı ile unvanları yazılı personellerin görevlendirilmesini \n          Olurlarınıza arz ederim.\n"]
["MUAYENE KABUL TUTANAĞI"]
["          Yukarıda Adı ve miktarları yazılı "]
["Malın / Malzemenin ihale evraklarında yazılı nitelikleri muayene edilmiş olup komisyonumuzca tespit edilen niteliklere uygundur."]
[]
[]
[]
[{"$f":"CONCATENATE(A25,A24)","v":"Erdem Bayazıt İmam Hatip Ortaokulu Müdürlüğünün isteği doğrultusunda temin edilecek malzemelerin 1. sınıf kalitede olmasına özen gösterilecektir. Malzemeler muayene ve teslim alma komisyonunca muayene edildikten sonra teslim alınacaktır.  Malzemeler sağlam olarak teslim alındıktan sonara fatura kesilecek ve ödeme yapılacaktır. Verilen teklifler KDV hariç birim fiyatı üzerinden rakam ve yazı ile yazılacaktır. Teklif mektupları kapalı zarf içerisinde "}]
[]
[" tarihinde saat "]
["’e kadar satın alma komisyon başkanına teslim edilecektir.e kadar satın alma komisyon başkanına teslim edilecektir."]
[{"$f":"VG!D28","v":44462}]
[{"$f":"VG!H28","v":"10:00"}]
[]
[]
[]
[" Müdürlüğünün isteği doğrultusunda temin edilecek malzemelerin 1. sınıf kalitede olmasına özen gösterilecektir. Malzemeler muayene ve teslim alma komisyonunca muayene edildikten sonra teslim alınacaktır.  Malzemeler sağlam olarak teslim alındıktan sonara fatura kesilecek ve ödeme yapılacaktır. Verilen teklifler KDV hariç birim fiyatı üzerinden rakam ve yazı ile yazılacaktır. Teklif mektupları kapalı zarf içerisinde "]
[{"$f":"VG!D9","v":"Erdem Bayazıt İmam Hatip Ortaokulu"}]
[" Müdürlüğünün"]
["          "]
[" ihtiyacı olan aşağıda adı, özelliği ve miktarı yazılı malzeme doğrudan temin yoluyla satın alınacaktır."]

{"sheet":"VG","index":1,"n_rows":134,"n_cols":25,"rows_kept":134,"cut":false,"hidden":false,"merged":[[0,0,1,24],[2,22,2,23],[3,20,3,21],[4,20,4,21],[5,20,5,21],[6,20,6,21],[7,20,7,21],[8,20,8,21],[9,20,9,21],[3,22,3,23],[4,22,4,23],[5,22,5,23],[6,22,6,23],[7,22,7,23],[8,22,8,23],[9,22,9,23],[2,17,2,19],[3,17,3,19],[4,17,4,19],[5,17,5,19],[6,17,6,19],[7,17,7,19],[8,17,8,19],[9,17,9,19],[2,20,2,21],[131,1,131,3],[132,1,132,3],[133,1,133,3],[126,1,126,3],[127,1,127,3],[128,1,128,3],[129,1,129,3],[130,1,130,3],[121,1,121,3],[122,1,122,3],[123,1,123,3],[124,1,124,3],[125,1,125,3],[116,1,116,3],[117,1,117,3],[118,1,118,3],[119,1,119,3],[120,1,120,3],[111,1,111,3],[112,1,112,3],[113,1,113,3],[114,1,114,3],[115,1,115,3],[106,1,106,3],[107,1,107,3],[108,1,108,3],[109,1,109,3],[110,1,110,3],[101,1,101,3],[102,1,102,3],[103,1,103,3],[104,1,104,3],[105,1,105,3],[96,1,96,3],[97,1,97,3],[98,1,98,3],[99,1,99,3],[100,1,100,3],[91,1,91,3],[92,1,92,3],[93,1,93,3],[94,1,94,3],[95,1,95,3],[86,1,86,3],[87,1,87,3],[88,1,88,3],[89,1,89,3],[90,1,90,3],[81,1,81,3],[82,1,82,3],[83,1,83,3],[84,1,84,3],[85,1,85,3],[76,1,76,3],[77,1,77,3],[78,1,78,3],[79,1,79,3],[80,1,80,3],[71,1,71,3],[72,1,72,3],[73,1,73,3],[74,1,74,3],[75,1,75,3],[66,1,66,3],[67,1,67,3],[68,1,68,3],[69,1,69,3],[70,1,70,3],[61,1,61,3],[62,1,62,3],[63,1,63,3],[64,1,64,3],[65,1,65,3],[56,1,56,3],[57,1,57,3],[58,1,58,3],[59,1,59,3],[60,1,60,3],[51,1,51,3],[52,1,52,3],[53,1,53,3],[54,1,54,3],[55,1,55,3],[46,1,46,3],[47,1,47,3],[48,1,48,3],[49,1,49,3],[50,1,50,3],[131,4,131,5],[132,4,132,5],[133,4,133,5],[34,1,34,3],[35,1,35,3],[36,1,36,3],[37,1,37,3],[38,1,38,3],[39,1,39,3],[40,1,40,3],[41,1,41,3],[42,1,42,3],[43,1,43,3],[44,1,44,3],[45,1,45,3],[126,4,126,5],[127,4,127,5],[128,4,128,5],[129,4,129,5],[130,4,130,5],[121,4,121,5],[122,4,122,5],[123,4,123,5],[124,4,124,5],[125,4,125,5],[116,4,116,5],[117,4,117,5],[118,4,118,5],[119,4,119,5],[120,4,120,5],[111,4,111,5],[112,4,112,5],[113,4,113,5],[114,4,114,5],[115,4,115,5],[106,4,106,5],[107,4,107,5],[108,4,108,5],[109,4,109,5],[110,4,110,5],[101,4,101,5],[102,4,102,5],[103,4,103,5],[104,4,104,5],[105,4,105,5],[96,4,96,5],[97,4,97,5],[98,4,98,5],[99,4,99,5],[100,4,100,5],[91,4,91,5],[92,4,92,5],[93,4,93,5],[94,4,94,5],[95,4,95,5],[86,4,86,5],[87,4,87,5],[88,4,88,5],[89,4,89,5],[90,4,90,5],[81,4,81,5],[82,4,82,5],[83,4,83,5],[84,4,84,5],[85,4,85,5],[76,4,76,5],[77,4,77,5],[78,4,78,5],[79,4,79,5],[80,4,80,5],[71,4,71,5],[72,4,72,5],[73,4,73,5],[74,4,74,5],[75,4,75,5],[66,4,66,5],[67,4,67,5],[68,4,68,5],[69,4,69,5],[70,4,70,5],[61,4,61,5],[62,4,62,5],[63,4,63,5],[64,4,64,5],[65,4,65,5],[56,4,56,5],[57,4,57,5],[58,4,58,5],[59,4,59,5],[60,4,60,5],[51,4,51,5],[52,4,52,5],[53,4,53,5],[54,4,54,5],[55,4,55,5],[46,4,46,5],[47,4,47,5],[48,4,48,5],[49,4,49,5],[50,4,50,5],[34,4,34,5],[31,9,31,16],[32,9,32,10],[32,11,32,12],[32,13,32,14],[32,15,32,16],[31,8,33,8],[31,0,32,7],[33,1,33,3],[33,4,33,5],[7,9,7,11],[7,12,7,13],[7,14,7,16],[8,9,8,16],[9,9,9,11],[9,12,9,13],[9,14,9,16],[15,9,15,10],[15,11,15,16],[12,9,12,11],[12,12,12,13],[12,14,12,16],[13,9,13,16],[14,9,14,10],[14,11,14,16],[5,9,5,11],[5,12,5,13],[5,14,5,16],[6,9,6,11],[6,12,6,13],[6,14,6,16],[2,9,2,16],[3,9,3,16],[4,9,4,11],[4,12,4,13],[4,14,4,16],[2,0,3,7],[4,0,4,7],[5,0,5,7],[7,0,7,7],[12,3,12,7],[13,3,13,7],[14,0,14,7],[8,0,8,2],[9,0,9,2],[10,0,10,2],[11,0,11,2],[12,0,12,2],[13,0,13,2],[6,6,6,7],[6,0,6,5],[15,0,15,2],[8,3,8,7],[9,3,9,7],[10,3,10,7],[11,3,11,7],[15,3,15,6],[17,3,17,7],[18,3,18,7],[19,3,19,7],[16,3,16,6],[17,0,17,2],[18,0,18,2],[19,0,19,2],[16,0,16,2],[21,0,21,2],[23,0,23,2],[24,0,24,2],[25,0,25,2],[26,0,26,2],[27,0,27,2],[29,0,29,2],[22,0,22,2],[20,0,20,7],[21,3,21,4],[21,5,21,6],[22,3,22,4],[22,5,22,6],[23,3,23,4],[23,5,23,6],[24,3,24,4],[24,5,24,6],[28,0,28,2],[28,3,28,4],[32,23,32,24],[31,17,31,24],[41,4,41,5],[42,4,42,5],[43,4,43,5],[44,4,44,5],[45,4,45,5],[25,3,25,4],[25,5,25,6],[26,3,26,4],[26,5,26,6],[27,3,27,4],[27,5,27,6],[29,3,29,4],[29,5,29,6],[36,4,36,5],[37,4,37,5],[38,4,38,5],[39,4,39,5],[40,4,40,5],[35,4,35,5],[32,17,32,18],[32,19,32,20],[32,21,32,22],[18,9,18,16],[12,17,13,24],[10,17,11,24],[14,17,17,24],[19,9,19,12],[19,13,19,16],[10,9,10,11],[10,12,10,13],[10,14,10,16],[11,9,11,11],[11,12,11,13],[11,14,11,16],[16,9,16,10],[16,11,16,16],[17,9,17,10],[17,11,17,16],[18,17,19,24],[29,13,29,16],[20,13,20,16],[21,13,21,16],[22,13,22,16],[23,13,23,16],[24,13,24,16],[25,13,25,16],[26,13,26,16],[27,13,27,16],[28,13,28,16]]}
["DOĞRUDAN TEMİN PROĞRAMI"]
[]
["BAŞLIK",null,null,null,null,null,null,null,null,"KOMİSYONLAR",null,null,null,null,null,null,null,"ÜNVANLAR",null,null,"BİRİMLER",null,"ONAYLAR",null,"KDV"]
[null,null,null,null,null,null,null,null,null,"SATIN ALMA KOMİSYONU",null,null,null,null,null,null,null,"Okul Müdürü",null,null,"Adet",null,"Evet",null,8]
["T.C.",null,null,null,null,null,null,null,null,"ADI SOYADI",null,null,"ÜNVANI",null,"KOMİSYON GÖREVİ",null,null,"Müdür Yardımcsısı",null,null,"Koli",null,"Hayır",null,18]
["OSMANİYE VALİLİĞİ",null,null,null,null,null,null,null,null,null,null,null,"Öğretmen",null,"Komisyon Üyesi",null,null,"Öğretmen",null,null,"Kg"]
["Erdem Bayazıt İmam Hatip Ortaokulu Müdürlüğü",null,null,null,null,null,"OSMANİYE",null,null,null,null,null,"Öğretmen",null,"Komisyon Üyesi",null,null,"Komisyon Başkanı",null,null,"Litre"]
["KURUM BİLGİLERİ",null,null,null,null,null,null,null,null,null,null,null,"Müdür Yardımcsısı",null,"Komisyon Başkanı",null,null,"Komisyon Üyesi",null,null,"Top"]
["Kurum Adı",null,null,"Erdem Bayazıt İmam Hatip Ortaokulu",null,null,null,null,null,"MUAYENE VE KABUL KOMİSYONU",null,null,null,null,null,null,null,null,null,null,"Metrekare"]
["Kurum DTV (Yazışma) Kodu",null,null,null,null,null,null,null,null,"ADI SOYADI",null,null,"ÜNVANI",null,"KOMİSYON GÖREVİ"]
["Kurum Yetkilisi Adı Soyadı",null,null,null,null,null,null,null,null,null,null,null,"Öğretmen",null,"Komisyon Üyesi",null,null,"1. AŞAMA EVRAKLAR : İHTİYAÇ LİSTESİ, KOMİSYON GÖREVLENDİRME, RAYİÇ, TEKLİF MEKTUBU"]
["Kurum Yetkilisi Ünvanı",null,null,"Okul Müdürü",null,null,null,null,null,null,null,null,"Öğretmen",null,"Komisyon Üyesi"]
["İhale Sorumlusu Adı Soyadı",null,null,null,null,null,null,null,null,null,null,null,null,null,null,null,null,"2. AŞAMA EVRAKLAR: YAKLAŞIK MALİYET CETVELİ, PİYASA ARAŞTIRMA TUTANAĞI, İHALE ONAY BELGESİ, MUAYENE VE KABUL TUTANAĞI"]
["İhale Sorumlusu Ünvanı",null,null,"Müdür Yardımcsısı",null,null,null,null,null,"UYGUN GÖRÜLEN FİRMA / KİŞİ"]
["İHALE BİLGİLERİ",null,null,null,null,null,null,null,null,"ADI",null,null,null,null,null,null,null,"Satın Alınacak Malzeme Bilgilerini girdikten sonra 1 AŞAMA EVRAKLARI hazırlayıp yazdırın RAYİÇ ve TEKLİF MEKTUPLARI nı aldıktan sonra teklifleri aşağıdaki listeye giriniz ve değerlendirme sonucunda mal alımının uygun görüldüğü firma bilgilerini girip 2 AŞAMA EVRAKLARI hazırlayıp yazdırın"]
["İşin Adı",null,null,"Büro Mefruşat Alımları",null,null,null," Alımı",null,"VERGİ NUMARASI"]
["İşin Niteliği (neden alınıyor ?)",null,null,"Okul İhtiyacı",null,null,null,"  için ",null,"ADRESİ"]
["Bütçe Tertibi (hangi bütçeden ?)",null,null,"Okul Bütçesinden",null,null,null,null,null,"İLİ/İLÇESİ"]
["Şartname Düzenlenecek Mi ?",null,null,"Hayır",null,null,null,null,null,"İHALE DÖKÜMANLARI",null,null,null,null,null,null,null,"İstenmesi Halinde Satın Alınacak Malzemenin bilgileri girildikten sonra "]
["Sözleşme Düzenlenecek Mil ?",null,null,"Hayır",null,null,null,null,null,"1. AŞAMA EVRAKLAR",null,null,null,"2. AŞAMA EVRAKLAR"]
["BELGE TARİH VE SAYILARI",null,null,null,null,null,null,null,null,null,null,null,null,null,null,null,null,null,null,null,null,"Hazırlayabilirsiniz"]
["BELGE ADI",null,null,"TARİHİ",null,"SAYISI",null,"SAATİ",null,null,null,null,"1 ADET"]
["İhitiyaç Listesi",null,null,"2021-09-21"]
["Komisyon Görevlendirme",null,null,"2021-09-21",null,"2021-1",null,null,null,null,null,null,"1 ADET"]
["Rayiç (Piyasa Tespiti)",null,null,"2021-09-21",null,"2021-1"]
["İhale Onay Belgesi",null,null,"2021-09-21",null,"2021-1",null,null,null,null,null,null,"EN AZ 3"]
["Teklif Mektubu",null,null,"2021-09-21",null,"2021-1"]
["Teklif Mektubu Son Teslim",null,null,"2021-09-23",null,null,null,"10:00",null,null,null,null,"EN AZ 3"]
["Yaklaşık Maliyet",null,null,"2021-09-25"]
["Muayene ve Kabul Belgesi",null,null,"2021-09-25"]
[]
["SATIN ALINACAK MALIN / MALZEMENİN",null,null,null,null,null,null,null,"KDV ORANI %","PİYASA FİYATI (RAYİÇ) ALINAN FİRMALAR /KİŞİLER / KURUMLAR",null,null,null,null,null,null,null,"TEKLİF ALINAN FİRMALAR / KİŞİLER"]
[null,null,null,null,null,null,null,null,null,"GÖKTÜRK MEFRUŞAT",null,"YILDIZLAR MANİFATURA",null,"DENGE TEKSTİL",null,null,null,"GÖKTÜRK MEFRUŞAT",null,"YILDIZLAR MANİFATURA",null,"DENGE TEKSTİL"]
["SIRA","ALINACAK MALIN ADI",null,null,"ÖZELLİĞİ",null,"MİKTARI","BİRİMİ",null,"BİRİM FİYATI","TOPLAM FİYAT","BİRİM FİYATI","TOPLAM FİYAT","BİRİM FİYATI","TOPLAM FİYAT","BİRİM FİYATI","TOPLAM FİYAT","BİRİM FİYATI","TOPLAM FİYAT","BİRİM FİYATI","TOPLAM FİYAT","BİRİM FİYATI","TOPLAM FİYAT","BİRİM FİYATI","TOPLAM FİYAT"]
[{"$f":"IF(ISBLANK(B35),\"\",1)","v":1}," Perde",null,null,"Fon",null,120,"Metrekare",8,70,{"$f":"G35*J35","v":8400},70,{"$f":"G35*L35","v":8400},70,{"$f":"G35*N35","v":8400},null,{"$f":"IF(ISBLANK(P35),\"\",G35*P35)","v":""},70,{"$f":"G35*R35","v":8400},70,{"$f":"G35*T35","v":8400},70,{"$f":"G35*V35","v":8400},null,{"$f":"IF(ISBLANK(X35),\"\",G35*X35)","v":""}]
[{"$f":"IF(ISBLANK(B36),\"\",2)","v":2}," Perde",null,null,"Zebra",null,30,"Metrekare",{"$f":"I35","v":8},50,{"$f":"G36*J36","v":1500},80,{"$f":"G36*L36","v":2400},80,{"$f":"G36*N36","v":2400},null,{"$f":"IF(ISBLANK(P36),\"\",G36*P36)","v":""},50,{"$f":"G36*R36","v":1500},80,{"$f":"G36*T36","v":2400},80,{"$f":"G36*V36","v":2400},null,{"$f":"IF(ISBLANK(X36),\"\",G36*X36)","v":""}]
[{"$f":"IF(ISBLANK(B37),\"\",3)","v":3},"Perde",null,null,"Karartma",null,34,"Metrekare",{"$f":"I36","v":8},45,1530,65,2210,60,2040,null,"",45,1530,65,2210,60,2040,null,""]
[{"$f":"IF(ISBLANK(B38),\"\",4)","v":""},null,null,null,null,null,null,null,8,null,0,null,0,null,0,null,"",null,0,null,0,null,0,null,""]
[{"$f":"IF(ISBLANK(B39),\"\",5)","v":""},null,null,null,null,null,null,null,8,null,0,null,0,null,0,null,"",null,0,null,0,null,0,null,""]
[{"$f":"IF(ISBLANK(B40),\"\",6)","v":""},null,null,null,null,null,null,null,8,null,0,null,0,null,0,null,"",null,0,null,0,null,0,null,""]
[{"$f":"IF(ISBLANK(B41),\"\",7)","v":""},null,null,null,null,null,null,null,8,null,0,null,0,null,0,null,"",null,0,null,0,null,0,null,""]
[{"$f":"IF(ISBLANK(B42),\"\",8)","v":""},null,null,null,null,null,null,null,8,null,0,null,0,null,0,null,"",null,0,null,0,null,0,null,""]
[{"$f":"IF(ISBLANK(B43),\"\",9)","v":""},null,null,null,null,null,null,null,8,null,0,null,0,null,0,null,"",null,0,null,0,null,0,null,""]
[{"$f":"IF(ISBLANK(B44),\"\",10)","v":""},null,null,null,null,null,null,null,8,null,0,null,0,null,0,null,"",null,0,null,0,null,0,null,""]
[{"$f":"IF(ISBLANK(B45),\"\",11)","v":""},null,null,null,null,null,null,null,8,null,0,null,0,null,0,null,"",null,0,null,0,null,0,null,""]
[{"$f":"IF(ISBLANK(B46),\"\",12)","v":""},null,null,null,null,null,null,null,8,null,0,null,0,null,0,null,"",null,0,null,0,null,0,null,""]
[{"$f":"IF(ISBLANK(B47),\"\",13)","v":""},null,null,null,null,null,null,null,8,null,0,null,0,null,0,null,"",null,0,null,0,null,0,null,""]
[{"$f":"IF(ISBLANK(B48),\"\",14)","v":""},null,null,null,null,null,null,null,8,null,0,null,0,null,0,null,"",null,0,null,0,null,0,null,""]
[{"$f":"IF(ISBLANK(B49),\"\",15)","v":""},null,null,null,null,null,null,null,8,null,0,null,0,null,0,null,"",null,0,null,0,null,0,null,""]
[{"$f":"IF(ISBLANK(B50),\"\",16)","v":""},null,null,null,null,null,null,null,8,null,0,null,0,null,0,null,"",null,0,null,0,null,0,null,""]
[{"$f":"IF(ISBLANK(B51),\"\",17)","v":""},null,null,null,null,null,null,null,8,null,0,null,0,null,0,null,"",null,0,null,0,null,0,null,""]
[{"$f":"IF(ISBLANK(B52),\"\",18)","v":""},null,null,null,null,null,null,null,8,null,0,null,0,null,0,null,"",null,0,null,0,null,0,null,""]
[{"$f":"IF(ISBLANK(B53),\"\",19)","v":""},null,null,null,null,null,null,null,8,null,0,null,0,null,0,null,"",null,0,null,0,null,0,null,""]
[{"$f":"IF(ISBLANK(B54),\"\",20)","v":""},null,null,null,null,null,null,null,8,null,0,null,0,null,0,null,"",null,0,null,0,null,0,null,""]
[{"$f":"IF(ISBLANK(B55),\"\",21)","v":""},null,null,null,null,null,null,null,8,null,0,null,0,null,0,null,"",null,0,null,0,null,0,null,""]
[{"$f":"IF(ISBLANK(B56),\"\",22)","v":""},null,null,null,null,null,null,null,8,null,0,null,0,null,0,null,"",null,0,null,0,null,0,null,""]
[{"$f":"IF(ISBLANK(B57),\"\",23)","v":""},null,null,null,null,null,null,null,8,null,0,null,0,null,0,null,"",null,0,null,0,null,0,null,""]
[{"$f":"IF(ISBLANK(B58),\"\",24)","v":""},null,null,null,null,null,null,null,8,null,0,null,0,null,0,null,"",null,0,null,0,null,0,null,""]
[{"$f":"IF(ISBLANK(B59),\"\",25)","v":""},null,null,null,null,null,null,null,8,null,0,null,0,null,0,null,"",null,0,null,0,null,0,null,""]
[{"$f":"IF(ISBLANK(B60),\"\",26)","v":""},null,null,null,null,null,null,null,8,null,0,null,0,null,0,null,"",null,0,null,0,null,0,null,""]
[{"$f":"IF(ISBLANK(B61),\"\",27)","v":""},null,null,null,null,null,null,null,8,null,0,null,0,null,0,null,"",null,0,null,0,null,0,null,""]
[{"$f":"IF(ISBLANK(B62),\"\",28)","v":""},null,null,null,null,null,null,null,8,null,0,null,0,null,0,null,"",null,0,null,0,null,0,null,""]
[{"$f":"IF(ISBLANK(B63),\"\",29)","v":""},null,null,null,null,null,null,null,8,null,0,null,0,null,0,null,"",null,0,null,0,null,0,null,""]
[{"$f":"IF(ISBLANK(B64),\"\",30)","v":""},null,null,null,null,null,null,null,8,null,0,null,0,null,0,null,"",null,0,null,0,null,0,null,""]
[{"$f":"IF(ISBLANK(B65),\"\",31)","v":""},null,null,null,null,null,null,null,8,null,0,null,0,null,0,null,"",null,0,null,0,null,0,null,""]
[{"$f":"IF(ISBLANK(B66),\"\",32)","v":""},null,null,null,null,null,null,null,8,null,0,null,0,null,0,null,"",null,0,null,0,null,0,null,""]
[{"$f":"IF(ISBLANK(B67),\"\",33)","v":""},null,null,null,null,null,null,null,8,null,0,null,0,null,0,null,"",null,0,null,0,null,0,null,""]
[{"$f":"IF(ISBLANK(B68),\"\",34)","v":""},null,null,null,null,null,null,null,8,null,0,null,0,null,0,null,"",null,0,null,0,null,0,null,""]
[{"$f":"IF(ISBLANK(B69),\"\",26)","v":""},null,null,null,null,null,null,null,8,null,0,null,0,null,0,null,"",null,0,null,0,null,0,null,""]
[{"$f":"IF(ISBLANK(B70),\"\",36)","v":""},null,null,null,null,null,null,null,8,null,0,null,0,null,0,null,"",null,0,null,0,null,0,null,""]
[{"$f":"IF(ISBLANK(B71),\"\",37)","v":""},null,null,null,null,null,null,null,8,null,0,null,0,null,0,null,"",null,0,null,0,null,0,null,""]
[{"$f":"IF(ISBLANK(B72),\"\",38)","v":""},null,null,null,null,null,null,null,8,null,0,null,0,null,0,null,"",null,0,null,0,null,0,null,""]
[{"$f":"IF(ISBLANK(B73),\"\",39)","v":""},null,null,null,null,null,null,null,8,null,0,null,0,null,0,null,"",null,0,null,0,null,0,null,""]
[{"$f":"IF(ISBLANK(B74),\"\",40)","v":""},null,null,null,null,null,null,null,8,null,0,null,0,null,0,null,"",null,0,null,0,null,0,null,""]
[{"$f":"IF(ISBLANK(B75),\"\",41)","v":""},null,null,null,null,null,null,null,8,null,0,null,0,null,0,null,"",null,0,null,0,null,0,null,""]
[{"$f":"IF(ISBLANK(B76),\"\",42)","v":""},null,null,null,null,null,null,null,8,null,0,null,0,null,0,null,"",null,0,null,0,null,0,null,""]
[{"$f":"IF(ISBLANK(B77),\"\",43)","v":""},null,null,null,null,null,null,null,8,null,0,null,0,null,0,null,"",null,0,null,0,null,0,null,""]
[{"$f":"IF(ISBLANK(B78),\"\",44)","v":""},null,null,null,null,null,null,null,8,null,0,null,0,null,0,null,"",null,0,null,0,null,0,null,""]
[{"$f":"IF(ISBLANK(B79),\"\",45)","v":""},null,null,null,null,null,null,null,8,null,0,null,0,null,0,null,"",null,0,null,0,null,0,null,""]
[{"$f":"IF(ISBLANK(B80),\"\",46)","v":""},null,null,null,null,null,null,null,8,null,0,null,0,null,0,null,"",null,0,null,0,null,0,null,""]
[{"$f":"IF(ISBLANK(B81),\"\",47)","v":""},null,null,null,null,null,null,null,8,null,0,null,0,null,0,null,"",null,0,null,0,null,0,null,""]
[{"$f":"IF(ISBLANK(B82),\"\",48)","v":""},null,null,null,null,null,null,null,8,null,0,null,0,null,0,null,"",null,0,null,0,null,0,null,""]
[{"$f":"IF(ISBLANK(B83),\"\",49)","v":""},null,null,null,null,null,null,null,8,null,0,null,0,null,0,null,"",null,0,null,0,null,0,null,""]
[{"$f":"IF(ISBLANK(B84),\"\",50)","v":""},null,null,null,null,null,null,null,8,null,0,null,0,null,0,null,"",null,0,null,0,null,0,null,""]
[{"$f":"IF(ISBLANK(B85),\"\",51)","v":""},null,null,null,null,null,null,null,8,null,0,null,0,null,0,null,"",null,0,null,0,null,0,null,""]
[{"$f":"IF(ISBLANK(B86),\"\",52)","v":""},null,null,null,null,null,null,null,8,null,0,null,0,null,0,null,"",null,0,null,0,null,0,null,""]
[{"$f":"IF(ISBLANK(B87),\"\",53)","v":""},null,null,null,null,null,null,null,8,null,0,null,0,null,0,null,"",null,0,null,0,null,0,null,""]
[{"$f":"IF(ISBLANK(B88),\"\",54)","v":""},null,null,null,null,null,null,null,8,null,0,null,0,null,0,null,"",null,0,null,0,null,0,null,""]
[{"$f":"IF(ISBLANK(B89),\"\",55)","v":""},null,null,null,null,null,null,null,8,null,0,null,0,null,0,null,"",null,0,null,0,null,0,null,""]
[{"$f":"IF(ISBLANK(B90),\"\",56)","v":""},null,null,null,null,null,null,null,8,null,0,null,0,null,0,null,"",null,0,null,0,null,0,null,""]
[{"$f":"IF(ISBLANK(B91),\"\",57)","v":""},null,null,null,null,null,null,null,8,null,0,null,0,null,0,null,"",null,0,null,0,null,0,null,""]
[{"$f":"IF(ISBLANK(B92),\"\",58)","v":""},null,null,null,null,null,null,null,8,null,0,null,0,null,0,null,"",null,0,null,0,null,0,null,""]
[{"$f":"IF(ISBLANK(B93),\"\",59)","v":""},null,null,null,null,null,null,null,8,null,0,null,0,null,0,null,"",null,0,null,0,null,0,null,""]
[{"$f":"IF(ISBLANK(B94),\"\",60)","v":""},null,null,null,null,null,null,null,8,null,0,null,0,null,0,null,"",null,0,null,0,null,0,null,""]
[{"$f":"IF(ISBLANK(B95),\"\",61)","v":""},null,null,null,null,null,null,null,8,null,0,null,0,null,0,null,"",null,0,null,0,null,0,null,""]
[{"$f":"IF(ISBLANK(B96),\"\",62)","v":""},null,null,null,null,null,null,null,8,null,0,null,0,null,0,null,"",null,0,null,0,null,0,null,""]
[{"$f":"IF(ISBLANK(B97),\"\",63)","v":""},null,null,null,null,null,null,null,8,null,0,null,0,null,0,null,"",null,0,null,0,null,0,null,""]
[{"$f":"IF(ISBLANK(B98),\"\",64)","v":""},null,null,null,null,null,null,null,8,null,0,null,0,null,0,null,"",null,0,null,0,null,0,null,""]
[{"$f":"IF(ISBLANK(B99),\"\",65)","v":""},null,null,null,null,null,null,null,8,null,0,null,0,null,0,null,"",null,0,null,0,null,0,null,""]
[{"$f":"IF(ISBLANK(B100),\"\",66)","v":""},null,null,null,null,null,null,null,8,null,{"$f":"G100*J100","v":0},null,{"$f":"G100*L100","v":0},null,{"$f":"G100*N100","v":0},null,{"$f":"IF(ISBLANK(P100),\"\",G100*P100)","v":""},null,{"$f":"G100*R100","v":0},null,{"$f":"G100*T100","v":0},null,{"$f":"G100*V100","v":0},null,{"$f":"IF(ISBLANK(X100),\"\",G100*X100)","v":""}]
[{"$f":"IF(ISBLANK(B101),\"\",67)","v":""},null,null,null,null,null,null,null,{"$f":"I100","v":8},null,0,null,0,null,0,null,"",null,0,null,0,null,0,null,""]
[{"$f":"IF(ISBLANK(B102),\"\",68)","v":""},null,null,null,null,null,null,null,8,null,0,null,0,null,0,null,"",null,0,null,0,null,0,null,""]
[{"$f":"IF(ISBLANK(B103),\"\",69)","v":""},null,null,null,null,null,null,null,8,null,0,null,0,null,0,null,"",null,0,null,0,null,0,null,""]
[{"$f":"IF(ISBLANK(B104),\"\",70)","v":""},null,null,null,null,null,null,null,8,null,0,null,0,null,0,null,"",null,0,null,0,null,0,null,""]
[{"$f":"IF(ISBLANK(B105),\"\",71)","v":""},null,null,null,null,null,null,null,8,null,0,null,0,null,0,null,"",null,0,null,0,null,0,null,""]
[{"$f":"IF(ISBLANK(B106),\"\",72)","v":""},null,null,null,null,null,null,null,8,null,0,null,0,null,0,null,"",null,0,null,0,null,0,null,""]
[{"$f":"IF(ISBLANK(B107),\"\",73)","v":""},null,null,null,null,null,null,null,8,null,0,null,0,null,0,null,"",null,0,null,0,null,0,null,""]
[{"$f":"IF(ISBLANK(B108),\"\",74)","v":""},null,null,null,null,null,null,null,8,null,0,null,0,null,0,null,"",null,0,null,0,null,0,null,""]
[{"$f":"IF(ISBLANK(B109),\"\",75)","v":""},null,null,null,null,null,null,null,8,null,0,null,0,null,0,null,"",null,0,null,0,null,0,null,""]
[{"$f":"IF(ISBLANK(B110),\"\",76)","v":""},null,null,null,null,null,null,null,8,null,0,null,0,null,0,null,"",null,0,null,0,null,0,null,""]
[{"$f":"IF(ISBLANK(B111),\"\",77)","v":""},null,null,null,null,null,null,null,8,null,0,null,0,null,0,null,"",null,0,null,0,null,0,null,""]
[{"$f":"IF(ISBLANK(B112),\"\",78)","v":""},null,null,null,null,null,null,null,8,null,0,null,0,null,0,null,"",null,0,null,0,null,0,null,""]
[{"$f":"IF(ISBLANK(B113),\"\",79)","v":""},null,null,null,null,null,null,null,8,null,0,null,0,null,0,null,"",null,0,null,0,null,0,null,""]
[{"$f":"IF(ISBLANK(B114),\"\",80)","v":""},null,null,null,null,null,null,null,8,null,0,null,0,null,0,null,"",null,0,null,0,null,0,null,""]
[{"$f":"IF(ISBLANK(B115),\"\",81)","v":""},null,null,null,null,null,null,null,8,null,0,null,0,null,0,null,"",null,0,null,0,null,0,null,""]
[{"$f":"IF(ISBLANK(B116),\"\",82)","v":""},null,null,null,null,null,null,null,8,null,0,null,0,null,0,null,"",null,0,null,0,null,0,null,""]
[{"$f":"IF(ISBLANK(B117),\"\",83)","v":""},null,null,null,null,null,null,null,8,null,0,null,0,null,0,null,"",null,0,null,0,null,0,null,""]
[{"$f":"IF(ISBLANK(B118),\"\",84)","v":""},null,null,null,null,null,null,null,8,null,0,null,0,null,0,null,"",null,0,null,0,null,0,null,""]
[{"$f":"IF(ISBLANK(B119),\"\",85)","v":""},null,null,null,null,null,null,null,8,null,0,null,0,null,0,null,"",null,0,null,0,null,0,null,""]
[{"$f":"IF(ISBLANK(B120),\"\",86)","v":""},null,null,null,null,null,null,null,8,null,0,null,0,null,0,null,"",null,0,null,0,null,0,null,""]
[{"$f":"IF(ISBLANK(B121),\"\",87)","v":""},null,null,null,null,null,null,null,8,null,0,null,0,null,0,null,"",null,0,null,0,null,0,null,""]
[{"$f":"IF(ISBLANK(B122),\"\",88)","v":""},null,null,null,null,null,null,null,8,null,0,null,0,null,0,null,"",null,0,null,0,null,0,null,""]
[{"$f":"IF(ISBLANK(B123),\"\",89)","v":""},null,null,null,null,null,null,null,8,null,0,null,0,null,0,null,"",null,0,null,0,null,0,null,""]
[{"$f":"IF(ISBLANK(B124),\"\",90)","v":""},null,null,null,null,null,null,null,8,null,0,null,0,null,0,null,"",null,0,null,0,null,0,null,""]
[{"$f":"IF(ISBLANK(B125),\"\",91)","v":""},null,null,null,null,null,null,null,8,null,0,null,0,null,0,null,"",null,0,null,0,null,0,null,""]
[{"$f":"IF(ISBLANK(B126),\"\",92)","v":""},null,null,null,null,null,null,null,8,null,0,null,0,null,0,null,"",null,0,null,0,null,0,null,""]
[{"$f":"IF(ISBLANK(B127),\"\",93)","v":""},null,null,null,null,null,null,null,8,null,0,null,0,null,0,null,"",null,0,null,0,null,0,null,""]
[{"$f":"IF(ISBLANK(B128),\"\",94)","v":""},null,null,null,null,null,null,null,8,null,0,null,0,null,0,null,"",null,0,null,0,null,0,null,""]
[{"$f":"IF(ISBLANK(B129),\"\",95)","v":""},null,null,null,null,null,null,null,8,null,0,null,0,null,0,null,"",null,0,null,0,null,0,null,""]
[{"$f":"IF(ISBLANK(B130),\"\",96)","v":""},null,null,null,null,null,null,null,8,null,0,null,0,null,0,null,"",null,0,null,0,null,0,null,""]
[{"$f":"IF(ISBLANK(B131),\"\",97)","v":""},null,null,null,null,null,null,null,8,null,0,null,0,null,0,null,"",null,0,null,0,null,0,null,""]
[{"$f":"IF(ISBLANK(B132),\"\",98)","v":""},null,null,null,null,null,null,null,8,null,0,null,0,null,0,null,"",null,0,null,0,null,0,null,""]
[{"$f":"IF(ISBLANK(B133),\"\",99)","v":""},null,null,null,null,null,null,null,8,null,0,null,0,null,0,null,"",null,0,null,0,null,0,null,""]
[{"$f":"IF(ISBLANK(B134),\"\",100)","v":""},null,null,null,null,null,null,null,8,null,0,null,0,null,0,null,"",null,0,null,0,null,0,null,""]

{"sheet":"İL","index":2,"n_rows":116,"n_cols":5,"rows_kept":116,"cut":false,"hidden":false,"merged":[[115,3,115,4],[0,0,0,4],[3,0,3,4],[6,3,6,4],[7,3,7,4],[111,0,111,4],[114,3,114,4],[5,3,5,4]]}
[{"$f":"CONCATENATE(B!A2,B!B1,B!A1,B!C1)","v":"OSMANİYE ERDEM BAYAZIT İMAM HATİP ORTAOKULU MÜDÜRLÜĞÜNE"}]
[]
[]
[{"$f":"CONCATENATE(B!B3,VG!D9,B!B1,VG!D17,VG!H17,B!A3)","v":"           Erdem Bayazıt İmam Hatip Ortaokulu Okul İhtiyacı  için  ihtiyaç duyulan aşağıda adı, özellikleri ve miktarı yazılı Malın / malzemenin temin edilmesi hususunda;\n          Gereğini arz ederim."}]
[]
[null,null,null,{"$f":"VG!D23","v":"2021-09-21"}]
[null,null,null,{"$f":"VG!D13","v":0}]
[null,null,null,{"$f":"VG!D14","v":"Müdür Yardımcsısı"}]
[]
["SIRA","ADI","ÖZELLİĞİ","MİKTARI","BİRİMİ"]
[{"$f":"VG!A35","v":1},{"$f":"VG!B35","v":" Perde"},{"$f":"VG!E35","v":"Fon"},{"$f":"VG!G35","v":120},{"$f":"VG!H35","v":"Metrekare"}]
[{"$f":"VG!A36","v":2},{"$f":"VG!B36","v":" Perde"},{"$f":"VG!E36","v":"Zebra"},{"$f":"VG!G36","v":30},{"$f":"VG!H36","v":"Metrekare"}]
[{"$f":"VG!A37","v":3},{"$f":"VG!B37","v":"Perde"},{"$f":"VG!E37","v":"Karartma"},{"$f":"VG!G37","v":34},{"$f":"VG!H37","v":"Metrekare"}]
[{"$f":"VG!A38","v":""},{"$f":"VG!B38","v":0},{"$f":"VG!E38","v":0},{"$f":"VG!G38","v":0},{"$f":"VG!H38","v":0}]
[{"$f":"VG!A39","v":""},{"$f":"VG!B39","v":0},{"$f":"VG!E39","v":0},{"$f":"VG!G39","v":0},{"$f":"VG!H39","v":0}]
[{"$f":"VG!A40","v":""},{"$f":"VG!B40","v":0},{"$f":"VG!E40","v":0},{"$f":"VG!G40","v":0},{"$f":"VG!H40","v":0}]
[{"$f":"VG!A41","v":""},{"$f":"VG!B41","v":0},{"$f":"VG!E41","v":0},{"$f":"VG!G41","v":0},{"$f":"VG!H41","v":0}]
[{"$f":"VG!A42","v":""},{"$f":"VG!B42","v":0},{"$f":"VG!E42","v":0},{"$f":"VG!G42","v":0},{"$f":"VG!H42","v":0}]
[{"$f":"VG!A43","v":""},{"$f":"VG!B43","v":0},{"$f":"VG!E43","v":0},{"$f":"VG!G43","v":0},{"$f":"VG!H43","v":0}]
[{"$f":"VG!A44","v":""},{"$f":"VG!B44","v":0},{"$f":"VG!E44","v":0},{"$f":"VG!G44","v":0},{"$f":"VG!H44","v":0}]
[{"$f":"VG!A45","v":""},{"$f":"VG!B45","v":0},{"$f":"VG!E45","v":0},{"$f":"VG!G45","v":0},{"$f":"VG!H45","v":0}]
[{"$f":"VG!A46","v":""},{"$f":"VG!B46","v":0},{"$f":"VG!E46","v":0},{"$f":"VG!G46","v":0},{"$f":"VG!H46","v":0}]
[{"$f":"VG!A47","v":""},{"$f":"VG!B47","v":0},{"$f":"VG!E47","v":0},{"$f":"VG!G47","v":0},{"$f":"VG!H47","v":0}]
[{"$f":"VG!A48","v":""},{"$f":"VG!B48","v":0},{"$f":"VG!E48","v":0},{"$f":"VG!G48","v":0},{"$f":"VG!H48","v":0}]
[{"$f":"VG!A49","v":""},{"$f":"VG!B49","v":0},{"$f":"VG!E49","v":0},{"$f":"VG!G49","v":0},{"$f":"VG!H49","v":0}]
[{"$f":"VG!A50","v":""},{"$f":"VG!B50","v":0},{"$f":"VG!E50","v":0},{"$f":"VG!G50","v":0},{"$f":"VG!H50","v":0}]
[{"$f":"VG!A51","v":""},{"$f":"VG!B51","v":0},{"$f":"VG!E51","v":0},{"$f":"VG!G51","v":0},{"$f":"VG!H51","v":0}]
[{"$f":"VG!A52","v":""},{"$f":"VG!B52","v":0},{"$f":"VG!E52","v":0},{"$f":"VG!G52","v":0},{"$f":"VG!H52","v":0}]
[{"$f":"VG!A53","v":""},{"$f":"VG!B53","v":0},{"$f":"VG!E53","v":0},{"$f":"VG!G53","v":0},{"$f":"VG!H53","v":0}]
[{"$f":"VG!A54","v":""},{"$f":"VG!B54","v":0},{"$f":"VG!E54","v":0},{"$f":"VG!G54","v":0},{"$f":"VG!H54","v":0}]
[{"$f":"VG!A55","v":""},{"$f":"VG!B55","v":0},{"$f":"VG!E55","v":0},{"$f":"VG!G55","v":0},{"$f":"VG!H55","v":0}]
[{"$f":"VG!A56","v":""},{"$f":"VG!B56","v":0},{"$f":"VG!E56","v":0},{"$f":"VG!G56","v":0},{"$f":"VG!H56","v":0}]
[{"$f":"VG!A57","v":""},{"$f":"VG!B57","v":0},{"$f":"VG!E57","v":0},{"$f":"VG!G57","v":0},{"$f":"VG!H57","v":0}]
[{"$f":"VG!A58","v":""},{"$f":"VG!B58","v":0},{"$f":"VG!E58","v":0},{"$f":"VG!G58","v":0},{"$f":"VG!H58","v":0}]
[{"$f":"VG!A59","v":""},{"$f":"VG!B59","v":0},{"$f":"VG!E59","v":0},{"$f":"VG!G59","v":0},{"$f":"VG!H59","v":0}]
[{"$f":"VG!A60","v":""},{"$f":"VG!B60","v":0},{"$f":"VG!E60","v":0},{"$f":"VG!G60","v":0},{"$f":"VG!H60","v":0}]
[{"$f":"VG!A61","v":""},{"$f":"VG!B61","v":0},{"$f":"VG!E61","v":0},{"$f":"VG!G61","v":0},{"$f":"VG!H61","v":0}]
[{"$f":"VG!A62","v":""},{"$f":"VG!B62","v":0},{"$f":"VG!E62","v":0},{"$f":"VG!G62","v":0},{"$f":"VG!H62","v":0}]
[{"$f":"VG!A63","v":""},{"$f":"VG!B63","v":0},{"$f":"VG!E63","v":0},{"$f":"VG!G63","v":0},{"$f":"VG!H63","v":0}]
[{"$f":"VG!A64","v":""},{"$f":"VG!B64","v":0},{"$f":"VG!E64","v":0},{"$f":"VG!G64","v":0},{"$f":"VG!H64","v":0}]
[{"$f":"VG!A65","v":""},{"$f":"VG!B65","v":0},{"$f":"VG!E65","v":0},{"$f":"VG!G65","v":0},{"$f":"VG!H65","v":0}]
[{"$f":"VG!A66","v":""},{"$f":"VG!B66","v":0},{"$f":"VG!E66","v":0},{"$f":"VG!G66","v":0},{"$f":"VG!H66","v":0}]
[{"$f":"VG!A67","v":""},{"$f":"VG!B67","v":0},{"$f":"VG!E67","v":0},{"$f":"VG!G67","v":0},{"$f":"VG!H67","v":0}]
[{"$f":"VG!A68","v":""},{"$f":"VG!B68","v":0},{"$f":"VG!E68","v":0},{"$f":"VG!G68","v":0},{"$f":"VG!H68","v":0}]
[{"$f":"VG!A69","v":""},{"$f":"VG!B69","v":0},{"$f":"VG!E69","v":0},{"$f":"VG!G69","v":0},{"$f":"VG!H69","v":0}]
[{"$f":"VG!A70","v":""},{"$f":"VG!B70","v":0},{"$f":"VG!E70","v":0},{"$f":"VG!G70","v":0},{"$f":"VG!H70","v":0}]
[{"$f":"VG!A71","v":""},{"$f":"VG!B71","v":0},{"$f":"VG!E71","v":0},{"$f":"VG!G71","v":0},{"$f":"VG!H71","v":0}]
[{"$f":"VG!A72","v":""},{"$f":"VG!B72","v":0},{"$f":"VG!E72","v":0},{"$f":"VG!G72","v":0},{"$f":"VG!H72","v":0}]
[{"$f":"VG!A73","v":""},{"$f":"VG!B73","v":0},{"$f":"VG!E73","v":0},{"$f":"VG!G73","v":0},{"$f":"VG!H73","v":0}]
[{"$f":"VG!A74","v":""},{"$f":"VG!B74","v":0},{"$f":"VG!E74","v":0},{"$f":"VG!G74","v":0},{"$f":"VG!H74","v":0}]
[{"$f":"VG!A75","v":""},{"$f":"VG!B75","v":0},{"$f":"VG!E75","v":0},{"$f":"VG!G75","v":0},{"$f":"VG!H75","v":0}]
[{"$f":"VG!A76","v":""},{"$f":"VG!B76","v":0},{"$f":"VG!E76","v":0},{"$f":"VG!G76","v":0},{"$f":"VG!H76","v":0}]
[{"$f":"VG!A77","v":""},{"$f":"VG!B77","v":0},{"$f":"VG!E77","v":0},{"$f":"VG!G77","v":0},{"$f":"VG!H77","v":0}]
[{"$f":"VG!A78","v":""},{"$f":"VG!B78","v":0},{"$f":"VG!E78","v":0},{"$f":"VG!G78","v":0},{"$f":"VG!H78","v":0}]
[{"$f":"VG!A79","v":""},{"$f":"VG!B79","v":0},{"$f":"VG!E79","v":0},{"$f":"VG!G79","v":0},{"$f":"VG!H79","v":0}]
[{"$f":"VG!A80","v":""},{"$f":"VG!B80","v":0},{"$f":"VG!E80","v":0},{"$f":"VG!G80","v":0},{"$f":"VG!H80","v":0}]
[{"$f":"VG!A81","v":""},{"$f":"VG!B81","v":0},{"$f":"VG!E81","v":0},{"$f":"VG!G81","v":0},{"$f":"VG!H81","v":0}]
[{"$f":"VG!A82","v":""},{"$f":"VG!B82","v":0},{"$f":"VG!E82","v":0},{"$f":"VG!G82","v":0},{"$f":"VG!H82","v":0}]
[{"$f":"VG!A83","v":""},{"$f":"VG!B83","v":0},{"$f":"VG!E83","v":0},{"$f":"VG!G83","v":0},{"$f":"VG!H83","v":0}]
[{"$f":"VG!A84","v":""},{"$f":"VG!B84","v":0},{"$f":"VG!E84","v":0},{"$f":"VG!G84","v":0},{"$f":"VG!H84","v":0}]
[{"$f":"VG!A85","v":""},{"$f":"VG!B85","v":0},{"$f":"VG!E85","v":0},{"$f":"VG!G85","v":0},{"$f":"VG!H85","v":0}]
[{"$f":"VG!A86","v":""},{"$f":"VG!B86","v":0},{"$f":"VG!E86","v":0},{"$f":"VG!G86","v":0},{"$f":"VG!H86","v":0}]
[{"$f":"VG!A87","v":""},{"$f":"VG!B87","v":0},{"$f":"VG!E87","v":0},{"$f":"VG!G87","v":0},{"$f":"VG!H87","v":0}]
[{"$f":"VG!A88","v":""},{"$f":"VG!B88","v":0},{"$f":"VG!E88","v":0},{"$f":"VG!G88","v":0},{"$f":"VG!H88","v":0}]
[{"$f":"VG!A89","v":""},{"$f":"VG!B89","v":0},{"$f":"VG!E89","v":0},{"$f":"VG!G89","v":0},{"$f":"VG!H89","v":0}]
[{"$f":"VG!A90","v":""},{"$f":"VG!B90","v":0},{"$f":"VG!E90","v":0},{"$f":"VG!G90","v":0},{"$f":"VG!H90","v":0}]
[{"$f":"VG!A91","v":""},{"$f":"VG!B91","v":0},{"$f":"VG!E91","v":0},{"$f":"VG!G91","v":0},{"$f":"VG!H91","v":0}]
[{"$f":"VG!A92","v":""},{"$f":"VG!B92","v":0},{"$f":"VG!E92","v":0},{"$f":"VG!G92","v":0},{"$f":"VG!H92","v":0}]
[{"$f":"VG!A93","v":""},{"$f":"VG!B93","v":0},{"$f":"VG!E93","v":0},{"$f":"VG!G93","v":0},{"$f":"VG!H93","v":0}]
[{"$f":"VG!A94","v":""},{"$f":"VG!B94","v":0},{"$f":"VG!E94","v":0},{"$f":"VG!G94","v":0},{"$f":"VG!H94","v":0}]
[{"$f":"VG!A95","v":""},{"$f":"VG!B95","v":0},{"$f":"VG!E95","v":0},{"$f":"VG!G95","v":0},{"$f":"VG!H95","v":0}]
[{"$f":"VG!A96","v":""},{"$f":"VG!B96","v":0},{"$f":"VG!E96","v":0},{"$f":"VG!G96","v":0},{"$f":"VG!H96","v":0}]
[{"$f":"VG!A97","v":""},{"$f":"VG!B97","v":0},{"$f":"VG!E97","v":0},{"$f":"VG!G97","v":0},{"$f":"VG!H97","v":0}]
[{"$f":"VG!A98","v":""},{"$f":"VG!B98","v":0},{"$f":"VG!E98","v":0},{"$f":"VG!G98","v":0},{"$f":"VG!H98","v":0}]
[{"$f":"VG!A99","v":""},{"$f":"VG!B99","v":0},{"$f":"VG!E99","v":0},{"$f":"VG!G99","v":0},{"$f":"VG!H99","v":0}]
[{"$f":"VG!A100","v":""},{"$f":"VG!B100","v":0},{"$f":"VG!E100","v":0},{"$f":"VG!G100","v":0},{"$f":"VG!H100","v":0}]
[{"$f":"VG!A101","v":""},{"$f":"VG!B101","v":0},{"$f":"VG!E101","v":0},{"$f":"VG!G101","v":0},{"$f":"VG!H101","v":0}]
[{"$f":"VG!A102","v":""},{"$f":"VG!B102","v":0},{"$f":"VG!E102","v":0},{"$f":"VG!G102","v":0},{"$f":"VG!H102","v":0}]
[{"$f":"VG!A103","v":""},{"$f":"VG!B103","v":0},{"$f":"VG!E103","v":0},{"$f":"VG!G103","v":0},{"$f":"VG!H103","v":0}]
[{"$f":"VG!A104","v":""},{"$f":"VG!B104","v":0},{"$f":"VG!E104","v":0},{"$f":"VG!G104","v":0},{"$f":"VG!H104","v":0}]
[{"$f":"VG!A105","v":""},{"$f":"VG!B105","v":0},{"$f":"VG!E105","v":0},{"$f":"VG!G105","v":0},{"$f":"VG!H105","v":0}]
[{"$f":"VG!A106","v":""},{"$f":"VG!B106","v":0},{"$f":"VG!E106","v":0},{"$f":"VG!G106","v":0},{"$f":"VG!H106","v":0}]
[{"$f":"VG!A107","v":""},{"$f":"VG!B107","v":0},{"$f":"VG!E107","v":0},{"$f":"VG!G107","v":0},{"$f":"VG!H107","v":0}]
[{"$f":"VG!A108","v":""},{"$f":"VG!B108","v":0},{"$f":"VG!E108","v":0},{"$f":"VG!G108","v":0},{"$f":"VG!H108","v":0}]
[{"$f":"VG!A109","v":""},{"$f":"VG!B109","v":0},{"$f":"VG!E109","v":0},{"$f":"VG!G109","v":0},{"$f":"VG!H109","v":0}]
[{"$f":"VG!A110","v":""},{"$f":"VG!B110","v":0},{"$f":"VG!E110","v":0},{"$f":"VG!G110","v":0},{"$f":"VG!H110","v":0}]
[{"$f":"VG!A111","v":""},{"$f":"VG!B111","v":0},{"$f":"VG!E111","v":0},{"$f":"VG!G111","v":0},{"$f":"VG!H111","v":0}]
[{"$f":"VG!A112","v":""},{"$f":"VG!B112","v":0},{"$f":"VG!E112","v":0},{"$f":"VG!G112","v":0},{"$f":"VG!H112","v":0}]
[{"$f":"VG!A113","v":""},{"$f":"VG!B113","v":0},{"$f":"VG!E113","v":0},{"$f":"VG!G113","v":0},{"$f":"VG!H113","v":0}]
[{"$f":"VG!A114","v":""},{"$f":"VG!B114","v":0},{"$f":"VG!E114","v":0},{"$f":"VG!G114","v":0},{"$f":"VG!H114","v":0}]
[{"$f":"VG!A115","v":""},{"$f":"VG!B115","v":0},{"$f":"VG!E115","v":0},{"$f":"VG!G115","v":0},{"$f":"VG!H115","v":0}]
[{"$f":"VG!A116","v":""},{"$f":"VG!B116","v":0},{"$f":"VG!E116","v":0},{"$f":"VG!G116","v":0},{"$f":"VG!H116","v":0}]
[{"$f":"VG!A117","v":""},{"$f":"VG!B117","v":0},{"$f":"VG!E117","v":0},{"$f":"VG!G117","v":0},{"$f":"VG!H117","v":0}]
[{"$f":"VG!A118","v":""},{"$f":"VG!B118","v":0},{"$f":"VG!E118","v":0},{"$f":"VG!G118","v":0},{"$f":"VG!H118","v":0}]
[{"$f":"VG!A119","v":""},{"$f":"VG!B119","v":0},{"$f":"VG!E119","v":0},{"$f":"VG!G119","v":0},{"$f":"VG!H119","v":0}]
[{"$f":"VG!A120","v":""},{"$f":"VG!B120","v":0},{"$f":"VG!E120","v":0},{"$f":"VG!G120","v":0},{"$f":"VG!H120","v":0}]
[{"$f":"VG!A121","v":""},{"$f":"VG!B121","v":0},{"$f":"VG!E121","v":0},{"$f":"VG!G121","v":0},{"$f":"VG!H121","v":0}]
[{"$f":"VG!A122","v":""},{"$f":"VG!B122","v":0},{"$f":"VG!E122","v":0},{"$f":"VG!G122","v":0},{"$f":"VG!H122","v":0}]
[{"$f":"VG!A123","v":""},{"$f":"VG!B123","v":0},{"$f":"VG!E123","v":0},{"$f":"VG!G123","v":0},{"$f":"VG!H123","v":0}]
[{"$f":"VG!A124","v":""},{"$f":"VG!B124","v":0},{"$f":"VG!E124","v":0},{"$f":"VG!G124","v":0},{"$f":"VG!H124","v":0}]
[{"$f":"VG!A125","v":""},{"$f":"VG!B125","v":0},{"$f":"VG!E125","v":0},{"$f":"VG!G125","v":0},{"$f":"VG!H125","v":0}]
[{"$f":"VG!A126","v":""},{"$f":"VG!B126","v":0},{"$f":"VG!E126","v":0},{"$f":"VG!G126","v":0},{"$f":"VG!H126","v":0}]
[{"$f":"VG!A127","v":""},{"$f":"VG!B127","v":0},{"$f":"VG!E127","v":0},{"$f":"VG!G127","v":0},{"$f":"VG!H127","v":0}]
[{"$f":"VG!A128","v":""},{"$f":"VG!B128","v":0},{"$f":"VG!E128","v":0},{"$f":"VG!G128","v":0},{"$f":"VG!H128","v":0}]
[{"$f":"VG!A129","v":""},{"$f":"VG!B129","v":0},{"$f":"VG!E129","v":0},{"$f":"VG!G129","v":0},{"$f":"VG!H129","v":0}]
[{"$f":"VG!A130","v":""},{"$f":"VG!B130","v":0},{"$f":"VG!E130","v":0},{"$f":"VG!G130","v":0},{"$f":"VG!H130","v":0}]
[{"$f":"VG!A131","v":""},{"$f":"VG!B131","v":0},{"$f":"VG!E131","v":0},{"$f":"VG!G131","v":0},{"$f":"VG!H131","v":0}]
[{"$f":"VG!A132","v":""},{"$f":"VG!B132","v":0},{"$f":"VG!E132","v":0},{"$f":"VG!G132","v":0},{"$f":"VG!H132","v":0}]
[{"$f":"VG!A133","v":""},{"$f":"VG!B133","v":0},{"$f":"VG!E133","v":0},{"$f":"VG!G133","v":0},{"$f":"VG!H133","v":0}]
[{"$f":"VG!A134","v":""},{"$f":"VG!B134","v":0},{"$f":"VG!E134","v":0},{"$f":"VG!G134","v":0},{"$f":"VG!H134","v":0}]
[]
[{"$f":"CONCATENATE(B!A4,B!B1,VG!D17,VG!H17,B!A5)","v":"          Yukarıda Adı, Özellikleri ve miktarı belirtilen Okul İhtiyacı  için  ihtiyaç duyulan malın / malzemenin satın alınması uygundur.\n          Gereğini rica ederim."}]
[]
[]
[null,null,null,{"$f":"VG!D11","v":0}]
[null,null,null,{"$f":"VG!D12","v":"Okul Müdürü"}]

{"sheet":"KMSYN","index":3,"n_rows":45,"n_cols":6,"rows_kept":45,"cut":false,"hidden":false,"merged":[[28,0,28,5],[0,0,0,5],[1,0,1,5],[2,0,2,5],[9,0,9,5],[12,0,18,5],[21,4,21,5],[22,4,22,5],[27,0,27,5],[5,1,5,2],[44,1,44,2],[29,0,29,5],[30,0,30,5],[31,0,31,5],[37,1,37,4],[38,1,38,2],[39,1,39,2],[40,1,40,2],[41,1,41,4],[42,1,42,2],[43,1,43,2]]}
[{"$f":"VG!A5","v":"T.C."}]
[{"$f":"VG!A6","v":"OSMANİYE VALİLİĞİ"}]
[{"$f":"VG!A7","v":"Erdem Bayazıt İmam Hatip Ortaokulu Müdürlüğü"}]
[]
[]
["Sayı  :",{"$f":"CONCATENATE(VG!D10,B!D1,VG!F24)","v":"-903.07.01/2021-1"},null,null,null,{"$f":"VG!D24","v":"2021-09-21"}]
["Konu:","Komisyon Görevlendirme"]
[]
[]
["MÜDÜRLÜK MAKAMINA"]
[]
[]
[{"$f":"CONCATENATE(B!A7,VG!D17,VG!H17,B!B7,B!C7,B!A8)","v":"          Okulumuza Okul İhtiyacı  için 2021 mali yılı ödeneğinde yer alan miktar doğrultusunda oluşturulacak komisyon marifetiyle 4734 sayılı Kamu İhale Kanununun 22/d maddesine göre doğrudan temin yöntemi ile satın alınacaktır.  \n          Söz konusu malzeme alımı için piyasa araştırması yapılması, teklif mektuplarının dağıtılması, değerlendirilmesi ve alınan malın / malzemenin muayene ve kabulünü yapmak üzere aşağıda adı soyadı ile unvanları yazılı personellerin görevlendirilmesini \n          Olurlarınıza arz ederim.\n"}]
[]
[]
[]
[]
[]
[]
[]
[]
[null,null,null,null,{"$f":"VG!D13","v":0}]
[null,null,null,null,"Müdür Yardımcısı"]
[]
[]
[]
[]
["OLUR"]
[]
[{"$f":"VG!D24","v":"2021-09-21"}]
[{"$f":"VG!D11","v":0}]
[{"$f":"VG!D12","v":"Okul Müdürü"}]
[]
[]
[]
[]
[]
[null,"SATIN ALMA KOMİSYONU"]
[null,{"$f":"VG!J6","v":0},null,{"$f":"VG!M6","v":"Öğretmen"}]
[null,{"$f":"VG!J7","v":0},null,{"$f":"VG!M7","v":"Öğretmen"}]
[null,{"$f":"VG!J8","v":0},null,{"$f":"VG!M8","v":"Müdür Yardımcsısı"}]
[null,"MUAYENE VE KABUL KOMİSYONU"]
[null,{"$f":"VG!J11","v":0},null,{"$f":"VG!M11","v":"Öğretmen"}]
[null,{"$f":"VG!J12","v":0},null,{"$f":"VG!M12","v":"Öğretmen"}]
[null,{"$f":"VG!J13","v":0},null,{"$f":"VG!M13","v":0}]

{"sheet":"RAYİÇ","index":4,"n_rows":125,"n_cols":8,"rows_kept":125,"cut":false,"hidden":false,"merged":[[0,0,0,7],[1,0,1,7],[2,0,2,7],[11,0,11,7],[123,0,123,7],[116,0,122,1],[116,4,116,5],[118,2,118,3],[119,2,119,3],[118,4,118,5],[119,4,119,5],[118,6,118,7],[119,6,119,7],[19,1,19,2],[20,1,20,2],[21,1,21,2],[22,1,22,2],[23,1,23,2],[115,0,115,1],[3,0,3,5],[5,4,5,5],[6,4,6,5],[31,1,31,2],[32,1,32,2],[33,1,33,2],[24,1,24,2],[25,1,25,2],[26,1,26,2],[27,1,27,2],[28,1,28,2],[39,1,39,2],[34,1,34,2],[35,1,35,2],[36,1,36,2],[37,1,37,2],[38,1,38,2],[12,1,12,2],[13,1,13,2],[14,1,14,2],[15,1,15,2],[16,1,16,2],[17,1,17,2],[18,1,18,2],[29,1,29,2],[30,1,30,2],[49,1,49,2],[50,1,50,2],[51,1,51,2],[52,1,52,2],[40,1,40,2],[41,1,41,2],[42,1,42,2],[43,1,43,2],[53,1,53,2],[44,1,44,2],[45,1,45,2],[46,1,46,2],[47,1,47,2],[48,1,48,2],[59,1,59,2],[60,1,60,2],[61,1,61,2],[62,1,62,2],[63,1,63,2],[54,1,54,2],[55,1,55,2],[56,1,56,2],[57,1,57,2],[58,1,58,2],[69,1,69,2],[70,1,70,2],[71,1,71,2],[72,1,72,2],[73,1,73,2],[64,1,64,2],[65,1,65,2],[66,1,66,2],[67,1,67,2],[68,1,68,2],[79,1,79,2],[80,1,80,2],[81,1,81,2],[82,1,82,2],[83,1,83,2],[74,1,74,2],[75,1,75,2],[76,1,76,2],[77,1,77,2],[78,1,78,2],[89,1,89,2],[90,1,90,2],[91,1,91,2],[92,1,92,2],[93,1,93,2],[84,1,84,2],[85,1,85,2],[86,1,86,2],[87,1,87,2],[88,1,88,2],[113,0,114,6],[113,7,114,7],[7,2,7,3],[115,2,115,7],[124,0,125,7],[109,1,109,2],[110,1,110,2],[111,1,111,2],[112,1,112,2],[104,1,104,2],[105,1,105,2],[106,1,106,2],[107,1,107,2],[108,1,108,2],[99,1,99,2],[100,1,100,2],[101,1,101,2],[102,1,102,2],[103,1,103,2],[94,1,94,2],[95,1,95,2],[96,1,96,2],[97,1,97,2],[98,1,98,2]]}
[{"$f":"VG!A5","v":"T.C."}]
[{"$f":"VG!A6","v":"OSMANİYE VALİLİĞİ"}]
[{"$f":"VG!A7","v":"Erdem Bayazıt İmam Hatip Ortaokulu Müdürlüğü"}]
[]
[]
[null,"Piyasa Fiyatının Ait Olduğu Tarih                :",{"$f":"VG!D25","v":"2021-09-21"}]
[null,"Fiyat Tespitinin Yapıldığı Tarih                    :",{"$f":"VG!D25","v":"2021-09-21"}]
[null,"Evrak Numarası                                             :",{"$f":"CONCATENATE(VG!D10,B!D2,VG!F25)","v":"-934.01/2021-1"}]
[]
[]
[]
["PİYASA ARAŞTIRMASI (RAYİÇ FİYAT TESPİTİ)"]
["SIRA","ADI",null,"ÖZELLİĞİ","MİKTARI","BİRİMİ","BİRİM FİYATI","TOPLAM TUTAR"]
[{"$f":"VG!A35","v":1},{"$f":"VG!B35","v":" Perde"},null,{"$f":"VG!E35","v":"Fon"},{"$f":"VG!G35","v":120},{"$f":"VG!H35","v":"Metrekare"}]
[{"$f":"VG!A36","v":2},{"$f":"VG!B36","v":" Perde"},null,{"$f":"VG!E36","v":"Zebra"},{"$f":"VG!G36","v":30},{"$f":"VG!H36","v":"Metrekare"}]
[{"$f":"VG!A37","v":3},{"$f":"VG!B37","v":"Perde"},null,{"$f":"VG!E37","v":"Karartma"},{"$f":"VG!G37","v":34},{"$f":"VG!H37","v":"Metrekare"}]
[{"$f":"VG!A38","v":""},{"$f":"VG!B38","v":0},null,{"$f":"VG!E38","v":0},{"$f":"VG!G38","v":0},{"$f":"VG!H38","v":0}]
[{"$f":"VG!A39","v":""},{"$f":"VG!B39","v":0},null,{"$f":"VG!E39","v":0},{"$f":"VG!G39","v":0},{"$f":"VG!H39","v":0}]
[{"$f":"VG!A40","v":""},{"$f":"VG!B40","v":0},null,{"$f":"VG!E40","v":0},{"$f":"VG!G40","v":0},{"$f":"VG!H40","v":0}]
[{"$f":"VG!A41","v":""},{"$f":"VG!B41","v":0},null,{"$f":"VG!E41","v":0},{"$f":"VG!G41","v":0},{"$f":"VG!H41","v":0}]
[{"$f":"VG!A42","v":""},{"$f":"VG!B42","v":0},null,{"$f":"VG!E42","v":0},{"$f":"VG!G42","v":0},{"$f":"VG!H42","v":0}]
[{"$f":"VG!A43","v":""},{"$f":"VG!B43","v":0},null,{"$f":"VG!E43","v":0},{"$f":"VG!G43","v":0},{"$f":"VG!H43","v":0}]
[{"$f":"VG!A44","v":""},{"$f":"VG!B44","v":0},null,{"$f":"VG!E44","v":0},{"$f":"VG!G44","v":0},{"$f":"VG!H44","v":0}]
[{"$f":"VG!A45","v":""},{"$f":"VG!B45","v":0},null,{"$f":"VG!E45","v":0},{"$f":"VG!G45","v":0},{"$f":"VG!H45","v":0}]
[{"$f":"VG!A46","v":""},{"$f":"VG!B46","v":0},null,{"$f":"VG!E46","v":0},{"$f":"VG!G46","v":0},{"$f":"VG!H46","v":0}]
[{"$f":"VG!A47","v":""},{"$f":"VG!B47","v":0},null,{"$f":"VG!E47","v":0},{"$f":"VG!G47","v":0},{"$f":"VG!H47","v":0}]
[{"$f":"VG!A48","v":""},{"$f":"VG!B48","v":0},null,{"$f":"VG!E48","v":0},{"$f":"VG!G48","v":0},{"$f":"VG!H48","v":0}]
[{"$f":"VG!A49","v":""},{"$f":"VG!B49","v":0},null,{"$f":"VG!E49","v":0},{"$f":"VG!G49","v":0},{"$f":"VG!H49","v":0}]
[{"$f":"VG!A50","v":""},{"$f":"VG!B50","v":0},null,{"$f":"VG!E50","v":0},{"$f":"VG!G50","v":0},{"$f":"VG!H50","v":0}]
[{"$f":"VG!A51","v":""},{"$f":"VG!B51","v":0},null,{"$f":"VG!E51","v":0},{"$f":"VG!G51","v":0},{"$f":"VG!H51","v":0}]
[{"$f":"VG!A52","v":""},{"$f":"VG!B52","v":0},null,{"$f":"VG!E52","v":0},{"$f":"VG!G52","v":0},{"$f":"VG!H52","v":0}]
[{"$f":"VG!A53","v":""},{"$f":"VG!B53","v":0},null,{"$f":"VG!E53","v":0},{"$f":"VG!G53","v":0},{"$f":"VG!H53","v":0}]
[{"$f":"VG!A54","v":""},{"$f":"VG!B54","v":0},null,{"$f":"VG!E54","v":0},{"$f":"VG!G54","v":0},{"$f":"VG!H54","v":0}]
[{"$f":"VG!A55","v":""},{"$f":"VG!B55","v":0},null,{"$f":"VG!E55","v":0},{"$f":"VG!G55","v":0},{"$f":"VG!H55","v":0}]
[{"$f":"VG!A56","v":""},{"$f":"VG!B56","v":0},null,{"$f":"VG!E56","v":0},{"$f":"VG!G56","v":0},{"$f":"VG!H56","v":0}]
[{"$f":"VG!A57","v":""},{"$f":"VG!B57","v":0},null,{"$f":"VG!E57","v":0},{"$f":"VG!G57","v":0},{"$f":"VG!H57","v":0}]
[{"$f":"VG!A58","v":""},{"$f":"VG!B58","v":0},null,{"$f":"VG!E58","v":0},{"$f":"VG!G58","v":0},{"$f":"VG!H58","v":0}]
[{"$f":"VG!A59","v":""},{"$f":"VG!B59","v":0},null,{"$f":"VG!E59","v":0},{"$f":"VG!G59","v":0},{"$f":"VG!H59","v":0}]
[{"$f":"VG!A60","v":""},{"$f":"VG!B60","v":0},null,{"$f":"VG!E60","v":0},{"$f":"VG!G60","v":0},{"$f":"VG!H60","v":0}]
[{"$f":"VG!A61","v":""},{"$f":"VG!B61","v":0},null,{"$f":"VG!E61","v":0},{"$f":"VG!G61","v":0},{"$f":"VG!H61","v":0}]
[{"$f":"VG!A62","v":""},{"$f":"VG!B62","v":0},null,{"$f":"VG!E62","v":0},{"$f":"VG!G62","v":0},{"$f":"VG!H62","v":0}]
[{"$f":"VG!A63","v":""},{"$f":"VG!B63","v":0},null,{"$f":"VG!E63","v":0},{"$f":"VG!G63","v":0},{"$f":"VG!H63","v":0}]
[{"$f":"VG!A64","v":""},{"$f":"VG!B64","v":0},null,{"$f":"VG!E64","v":0},{"$f":"VG!G64","v":0},{"$f":"VG!H64","v":0}]
[{"$f":"VG!A65","v":""},{"$f":"VG!B65","v":0},null,{"$f":"VG!E65","v":0},{"$f":"VG!G65","v":0},{"$f":"VG!H65","v":0}]
[{"$f":"VG!A66","v":""},{"$f":"VG!B66","v":0},null,{"$f":"VG!E66","v":0},{"$f":"VG!G66","v":0},{"$f":"VG!H66","v":0}]
[{"$f":"VG!A67","v":""},{"$f":"VG!B67","v":0},null,{"$f":"VG!E67","v":0},{"$f":"VG!G67","v":0},{"$f":"VG!H67","v":0}]
[{"$f":"VG!A68","v":""},{"$f":"VG!B68","v":0},null,{"$f":"VG!E68","v":0},{"$f":"VG!G68","v":0},{"$f":"VG!H68","v":0}]
[{"$f":"VG!A69","v":""},{"$f":"VG!B69","v":0},null,{"$f":"VG!E69","v":0},{"$f":"VG!G69","v":0},{"$f":"VG!H69","v":0}]
[{"$f":"VG!A70","v":""},{"$f":"VG!B70","v":0},null,{"$f":"VG!E70","v":0},{"$f":"VG!G70","v":0},{"$f":"VG!H70","v":0}]
[{"$f":"VG!A71","v":""},{"$f":"VG!B71","v":0},null,{"$f":"VG!E71","v":0},{"$f":"VG!G71","v":0},{"$f":"VG!H71","v":0}]
[{"$f":"VG!A72","v":""},{"$f":"VG!B72","v":0},null,{"$f":"VG!E72","v":0},{"$f":"VG!G72","v":0},{"$f":"VG!H72","v":0}]
[{"$f":"VG!A73","v":""},{"$f":"VG!B73","v":0},null,{"$f":"VG!E73","v":0},{"$f":"VG!G73","v":0},{"$f":"VG!H73","v":0}]
[{"$f":"VG!A74","v":""},{"$f":"VG!B74","v":0},null,{"$f":"VG!E74","v":0},{"$f":"VG!G74","v":0},{"$f":"VG!H74","v":0}]
[{"$f":"VG!A75","v":""},{"$f":"VG!B75","v":0},null,{"$f":"VG!E75","v":0},{"$f":"VG!G75","v":0},{"$f":"VG!H75","v":0}]
[{"$f":"VG!A76","v":""},{"$f":"VG!B76","v":0},null,{"$f":"VG!E76","v":0},{"$f":"VG!G76","v":0},{"$f":"VG!H76","v":0}]
[{"$f":"VG!A77","v":""},{"$f":"VG!B77","v":0},null,{"$f":"VG!E77","v":0},{"$f":"VG!G77","v":0},{"$f":"VG!H77","v":0}]
[{"$f":"VG!A78","v":""},{"$f":"VG!B78","v":0},null,{"$f":"VG!E78","v":0},{"$f":"VG!G78","v":0},{"$f":"VG!H78","v":0}]
[{"$f":"VG!A79","v":""},{"$f":"VG!B79","v":0},null,{"$f":"VG!E79","v":0},{"$f":"VG!G79","v":0},{"$f":"VG!H79","v":0}]
[{"$f":"VG!A80","v":""},{"$f":"VG!B80","v":0},null,{"$f":"VG!E80","v":0},{"$f":"VG!G80","v":0},{"$f":"VG!H80","v":0}]
[{"$f":"VG!A81","v":""},{"$f":"VG!B81","v":0},null,{"$f":"VG!E81","v":0},{"$f":"VG!G81","v":0},{"$f":"VG!H81","v":0}]
[{"$f":"VG!A82","v":""},{"$f":"VG!B82","v":0},null,{"$f":"VG!E82","v":0},{"$f":"VG!G82","v":0},{"$f":"VG!H82","v":0}]
[{"$f":"VG!A83","v":""},{"$f":"VG!B83","v":0},null,{"$f":"VG!E83","v":0},{"$f":"VG!G83","v":0},{"$f":"VG!H83","v":0}]
[{"$f":"VG!A84","v":""},{"$f":"VG!B84","v":0},null,{"$f":"VG!E84","v":0},{"$f":"VG!G84","v":0},{"$f":"VG!H84","v":0}]
[{"$f":"VG!A85","v":""},{"$f":"VG!B85","v":0},null,{"$f":"VG!E85","v":0},{"$f":"VG!G85","v":0},{"$f":"VG!H85","v":0}]
[{"$f":"VG!A86","v":""},{"$f":"VG!B86","v":0},null,{"$f":"VG!E86","v":0},{"$f":"VG!G86","v":0},{"$f":"VG!H86","v":0}]
[{"$f":"VG!A87","v":""},{"$f":"VG!B87","v":0},null,{"$f":"VG!E87","v":0},{"$f":"VG!G87","v":0},{"$f":"VG!H87","v":0}]
[{"$f":"VG!A88","v":""},{"$f":"VG!B88","v":0},null,{"$f":"VG!E88","v":0},{"$f":"VG!G88","v":0},{"$f":"VG!H88","v":0}]
[{"$f":"VG!A89","v":""},{"$f":"VG!B89","v":0},null,{"$f":"VG!E89","v":0},{"$f":"VG!G89","v":0},{"$f":"VG!H89","v":0}]
[{"$f":"VG!A90","v":""},{"$f":"VG!B90","v":0},null,{"$f":"VG!E90","v":0},{"$f":"VG!G90","v":0},{"$f":"VG!H90","v":0}]
[{"$f":"VG!A91","v":""},{"$f":"VG!B91","v":0},null,{"$f":"VG!E91","v":0},{"$f":"VG!G91","v":0},{"$f":"VG!H91","v":0}]
[{"$f":"VG!A92","v":""},{"$f":"VG!B92","v":0},null,{"$f":"VG!E92","v":0},{"$f":"VG!G92","v":0},{"$f":"VG!H92","v":0}]
[{"$f":"VG!A93","v":""},{"$f":"VG!B93","v":0},null,{"$f":"VG!E93","v":0},{"$f":"VG!G93","v":0},{"$f":"VG!H93","v":0}]
[{"$f":"VG!A94","v":""},{"$f":"VG!B94","v":0},null,{"$f":"VG!E94","v":0},{"$f":"VG!G94","v":0},{"$f":"VG!H94","v":0}]
[{"$f":"VG!A95","v":""},{"$f":"VG!B95","v":0},null,{"$f":"VG!E95","v":0},{"$f":"VG!G95","v":0},{"$f":"VG!H95","v":0}]
[{"$f":"VG!A96","v":""},{"$f":"VG!B96","v":0},null,{"$f":"VG!E96","v":0},{"$f":"VG!G96","v":0},{"$f":"VG!H96","v":0}]
[{"$f":"VG!A97","v":""},{"$f":"VG!B97","v":0},null,{"$f":"VG!E97","v":0},{"$f":"VG!G97","v":0},{"$f":"VG!H97","v":0}]
[{"$f":"VG!A98","v":""},{"$f":"VG!B98","v":0},null,{"$f":"VG!E98","v":0},{"$f":"VG!G98","v":0},{"$f":"VG!H98","v":0}]
[{"$f":"VG!A99","v":""},{"$f":"VG!B99","v":0},null,{"$f":"VG!E99","v":0},{"$f":"VG!G99","v":0},{"$f":"VG!H99","v":0}]
[{"$f":"VG!A100","v":""},{"$f":"VG!B100","v":0},null,{"$f":"VG!E100","v":0},{"$f":"VG!G100","v":0},{"$f":"VG!H100","v":0}]
[{"$f":"VG!A101","v":""},{"$f":"VG!B101","v":0},null,{"$f":"VG!E101","v":0},{"$f":"VG!G101","v":0},{"$f":"VG!H101","v":0}]
[{"$f":"VG!A102","v":""},{"$f":"VG!B102","v":0},null,{"$f":"VG!E102","v":0},{"$f":"VG!G102","v":0},{"$f":"VG!H102","v":0}]
[{"$f":"VG!A103","v":""},{"$f":"VG!B103","v":0},null,{"$f":"VG!E103","v":0},{"$f":"VG!G103","v":0},{"$f":"VG!H103","v":0}]
[{"$f":"VG!A104","v":""},{"$f":"VG!B104","v":0},null,{"$f":"VG!E104","v":0},{"$f":"VG!G104","v":0},{"$f":"VG!H104","v":0}]
[{"$f":"VG!A105","v":""},{"$f":"VG!B105","v":0},null,{"$f":"VG!E105","v":0},{"$f":"VG!G105","v":0},{"$f":"VG!H105","v":0}]
[{"$f":"VG!A106","v":""},{"$f":"VG!B106","v":0},null,{"$f":"VG!E106","v":0},{"$f":"VG!G106","v":0},{"$f":"VG!H106","v":0}]
[{"$f":"VG!A107","v":""},{"$f":"VG!B107","v":0},null,{"$f":"VG!E107","v":0},{"$f":"VG!G107","v":0},{"$f":"VG!H107","v":0}]
[{"$f":"VG!A108","v":""},{"$f":"VG!B108","v":0},null,{"$f":"VG!E108","v":0},{"$f":"VG!G108","v":0},{"$f":"VG!H108","v":0}]
[{"$f":"VG!A109","v":""},{"$f":"VG!B109","v":0},null,{"$f":"VG!E109","v":0},{"$f":"VG!G109","v":0},{"$f":"VG!H109","v":0}]
[{"$f":"VG!A110","v":""},{"$f":"VG!B110","v":0},null,{"$f":"VG!E110","v":0},{"$f":"VG!G110","v":0},{"$f":"VG!H110","v":0}]
[{"$f":"VG!A111","v":""},{"$f":"VG!B111","v":0},null,{"$f":"VG!E111","v":0},{"$f":"VG!G111","v":0},{"$f":"VG!H111","v":0}]
[{"$f":"VG!A112","v":""},{"$f":"VG!B112","v":0},null,{"$f":"VG!E112","v":0},{"$f":"VG!G112","v":0},{"$f":"VG!H112","v":0}]
[{"$f":"VG!A113","v":""},{"$f":"VG!B113","v":0},null,{"$f":"VG!E113","v":0},{"$f":"VG!G113","v":0},{"$f":"VG!H113","v":0}]
[{"$f":"VG!A114","v":""},{"$f":"VG!B114","v":0},null,{"$f":"VG!E114","v":0},{"$f":"VG!G114","v":0},{"$f":"VG!H114","v":0}]
[{"$f":"VG!A115","v":""},{"$f":"VG!B115","v":0},null,{"$f":"VG!E115","v":0},{"$f":"VG!G115","v":0},{"$f":"VG!H115","v":0}]
[{"$f":"VG!A116","v":""},{"$f":"VG!B116","v":0},null,{"$f":"VG!E116","v":0},{"$f":"VG!G116","v":0},{"$f":"VG!H116","v":0}]
[{"$f":"VG!A117","v":""},{"$f":"VG!B117","v":0},null,{"$f":"VG!E117","v":0},{"$f":"VG!G117","v":0},{"$f":"VG!H117","v":0}]
[{"$f":"VG!A118","v":""},{"$f":"VG!B118","v":0},null,{"$f":"VG!E118","v":0},{"$f":"VG!G118","v":0},{"$f":"VG!H118","v":0}]
[{"$f":"VG!A119","v":""},{"$f":"VG!B119","v":0},null,{"$f":"VG!E119","v":0},{"$f":"VG!G119","v":0},{"$f":"VG!H119","v":0}]
[{"$f":"VG!A120","v":""},{"$f":"VG!B120","v":0},null,{"$f":"VG!E120","v":0},{"$f":"VG!G120","v":0},{"$f":"VG!H120","v":0}]
[{"$f":"VG!A121","v":""},{"$f":"VG!B121","v":0},null,{"$f":"VG!E121","v":0},{"$f":"VG!G121","v":0},{"$f":"VG!H121","v":0}]
[{"$f":"VG!A122","v":""},{"$f":"VG!B122","v":0},null,{"$f":"VG!E122","v":0},{"$f":"VG!G122","v":0},{"$f":"VG!H122","v":0}]
[{"$f":"VG!A123","v":""},{"$f":"VG!B123","v":0},null,{"$f":"VG!E123","v":0},{"$f":"VG!G123","v":0},{"$f":"VG!H123","v":0}]
[{"$f":"VG!A124","v":""},{"$f":"VG!B124","v":0},null,{"$f":"VG!E124","v":0},{"$f":"VG!G124","v":0},{"$f":"VG!H124","v":0}]
[{"$f":"VG!A125","v":""},{"$f":"VG!B125","v":0},null,{"$f":"VG!E125","v":0},{"$f":"VG!G125","v":0},{"$f":"VG!H125","v":0}]
[{"$f":"VG!A126","v":""},{"$f":"VG!B126","v":0},null,{"$f":"VG!E126","v":0},{"$f":"VG!G126","v":0},{"$f":"VG!H126","v":0}]
[{"$f":"VG!A127","v":""},{"$f":"VG!B127","v":0},null,{"$f":"VG!E127","v":0},{"$f":"VG!G127","v":0},{"$f":"VG!H127","v":0}]
[{"$f":"VG!A128","v":""},{"$f":"VG!B128","v":0},null,{"$f":"VG!E128","v":0},{"$f":"VG!G128","v":0},{"$f":"VG!H128","v":0}]
[{"$f":"VG!A129","v":""},{"$f":"VG!B129","v":0},null,{"$f":"VG!E129","v":0},{"$f":"VG!G129","v":0},{"$f":"VG!H129","v":0}]
[{"$f":"VG!A130","v":""},{"$f":"VG!B130","v":0},null,{"$f":"VG!E130","v":0},{"$f":"VG!G130","v":0},{"$f":"VG!H130","v":0}]
[{"$f":"VG!A131","v":""},{"$f":"VG!B131","v":0},null,{"$f":"VG!E131","v":0},{"$f":"VG!G131","v":0},{"$f":"VG!H131","v":0}]
[{"$f":"VG!A132","v":""},{"$f":"VG!B132","v":0},null,{"$f":"VG!E132","v":0},{"$f":"VG!G132","v":0},{"$f":"VG!H132","v":0}]
[{"$f":"VG!A133","v":""},{"$f":"VG!B133","v":0},null,{"$f":"VG!E133","v":0},{"$f":"VG!G133","v":0},{"$f":"VG!H133","v":0}]
[{"$f":"VG!A134","v":""},{"$f":"VG!B134","v":0},null,{"$f":"VG!E134","v":0},{"$f":"VG!G134","v":0},{"$f":"VG!H134","v":0}]
["TOPLAM(KDV HARİÇ)"]
[]
["Rayiç Fiyatın Alındığı Firma /Kişi /İşletme",null,"Tespiti Yapan Görevliler"]
["İmza / Kaşe",null,null,null,{"$f":"VG!D25","v":"2021-09-21"}]
[]
[null,null,{"$f":"VG!J8","v":0},null,{"$f":"VG!J7","v":0},null,{"$f":"VG!J6","v":0}]
[null,null,{"$f":"VG!M8","v":"Müdür Yardımcsısı"},null,{"$f":"VG!M7","v":"Öğretmen"},null,{"$f":"VG!M6","v":"Öğretmen"}]
[]
[]
[]
["Fiyat Tespitinde Aranacak Şartlar\n1- Fiyatlar KDV hariç olacaktır.\n2-  Teklif edilecek malın tamamı teslim edilecektir.(Hizmet Alımı Hariç)\n3- İstenen özelliklere hayiz olmayan malzemeler iade edilecektir.\n4-  Nakliye ücreti firmaya ait olup mal okula teslim edilecektir.\n"]
["NOT : - Bu form 2 nüsha tanzim edilecektir. 1. Nüsha fiyat alınan firmaya 2. Nüsha okula aittir.\n           - İmza ve kaşeyi vermeyi kabul eden işletmeden alınacak aksi halde alınmayacaktır\n"]

{"sheet":"TM","index":5,"n_rows":131,"n_cols":7,"rows_kept":131,"cut":false,"hidden":false,"merged":[[9,0,9,6],[12,0,12,6],[13,0,13,6],[14,0,14,6],[17,5,17,6],[18,5,18,6],[17,0,17,1],[18,0,18,1],[125,0,125,1],[125,2,125,6],[17,2,17,4],[18,2,18,4],[127,0,127,6],[129,3,129,6],[130,3,135,6],[124,0,124,1],[124,4,124,5],[7,2,7,3],[0,0,0,6],[1,0,1,6],[2,0,2,6],[3,0,3,4],[5,3,5,4],[6,3,6,4]]}
[{"$f":"VG!A5","v":"T.C."}]
[{"$f":"VG!A6","v":"OSMANİYE VALİLİĞİ"}]
[{"$f":"VG!A7","v":"Erdem Bayazıt İmam Hatip Ortaokulu Müdürlüğü"}]
[]
[]
["Sayı",{"$f":"CONCATENATE(VG!D10,B!D2,VG!F27)","v":"-934.01/2021-1"},null,null,null,null,{"$f":"VG!D27","v":"2021-09-21"}]
["Konu","Teklif Mektubu"]
[]
[]
["SAYIN FİRMA YETKİLİSİ"]
[]
[]
[{"$f":"CONCATENATE(B!A27,B!A25,B!A26,B!A28)","v":"          Erdem Bayazıt İmam Hatip Ortaokulu Müdürlüğünün ihtiyacı olan aşağıda adı, özelliği ve miktarı yazılı malzeme doğrudan temin yoluyla satın alınacaktır."}]
[{"$f":"CONCATENATE(B!A15,B!A19,B!A17,B!A20,B!A18)","v":"Erdem Bayazıt İmam Hatip Ortaokulu Müdürlüğünün isteği doğrultusunda temin edilecek malzemelerin 1. sınıf kalitede olmasına özen gösterilecektir. Malzemeler muayene ve teslim alma komisyonunca muayene edildikten sonra teslim alınacaktır.  Malzemeler sağlam olarak teslim alındıktan sonara fatura kesilecek ve ödeme yapılacaktır. Verilen teklifler KDV hariç birim fiyatı üzerinden rakam ve yazı ile yazılacaktır. Teklif mektupları kapalı zarf içerisinde 44462 tarihinde saat 10:00’e kadar satın alma komisyon başkanına teslim edilecektir.e kadar satın alma komisyon başkanına teslim edilecektir."}]
["          Fiyat teklifinde bulunmanız rica olunur. "]
[]
[]
[{"$f":"VG!J8","v":0},null,{"$f":"VG!J7","v":0},null,null,{"$f":"VG!J6","v":0}]
[{"$f":"VG!M8","v":"Müdür Yardımcsısı"},null,{"$f":"VG!M7","v":"Öğretmen"},null,null,{"$f":"VG!M6","v":"Öğretmen"}]
[]
[]
[]
[]
["SIRA","ADI","ÖZELLİĞİ","MİKTARI","BİRİMİ","BİRİM FİYATI","TOPLAM TUTAR"]
[{"$f":"VG!A35","v":1},{"$f":"VG!B35","v":" Perde"},{"$f":"VG!E35","v":"Fon"},{"$f":"VG!G35","v":120},{"$f":"VG!H35","v":"Metrekare"}]
[{"$f":"VG!A36","v":2},{"$f":"VG!B36","v":" Perde"},{"$f":"VG!E36","v":"Zebra"},{"$f":"VG!G36","v":30},{"$f":"VG!H36","v":"Metrekare"}]
[{"$f":"VG!A37","v":3},{"$f":"VG!B37","v":"Perde"},{"$f":"VG!E37","v":"Karartma"},{"$f":"VG!G37","v":34},{"$f":"VG!H37","v":"Metrekare"}]
[{"$f":"VG!A38","v":""},{"$f":"VG!B38","v":0},{"$f":"VG!E38","v":0},{"$f":"VG!G38","v":0},{"$f":"VG!H38","v":0}]
[{"$f":"VG!A39","v":""},{"$f":"VG!B39","v":0},{"$f":"VG!E39","v":0},{"$f":"VG!G39","v":0},{"$f":"VG!H39","v":0}]
[{"$f":"VG!A40","v":""},{"$f":"VG!B40","v":0},{"$f":"VG!E40","v":0},{"$f":"VG!G40","v":0},{"$f":"VG!H40","v":0}]
[{"$f":"VG!A41","v":""},{"$f":"VG!B41","v":0},{"$f":"VG!E41","v":0},{"$f":"VG!G41","v":0},{"$f":"VG!H41","v":0}]
[{"$f":"VG!A42","v":""},{"$f":"VG!B42","v":0},{"$f":"VG!E42","v":0},{"$f":"VG!G42","v":0},{"$f":"VG!H42","v":0}]
[{"$f":"VG!A43","v":""},{"$f":"VG!B43","v":0},{"$f":"VG!E43","v":0},{"$f":"VG!G43","v":0},{"$f":"VG!H43","v":0}]
[{"$f":"VG!A44","v":""},{"$f":"VG!B44","v":0},{"$f":"VG!E44","v":0},{"$f":"VG!G44","v":0},{"$f":"VG!H44","v":0}]
[{"$f":"VG!A45","v":""},{"$f":"VG!B45","v":0},{"$f":"VG!E45","v":0},{"$f":"VG!G45","v":0},{"$f":"VG!H45","v":0}]
[{"$f":"VG!A46","v":""},{"$f":"VG!B46","v":0},{"$f":"VG!E46","v":0},{"$f":"VG!G46","v":0},{"$f":"VG!H46","v":0}]
[{"$f":"VG!A47","v":""},{"$f":"VG!B47","v":0},{"$f":"VG!E47","v":0},{"$f":"VG!G47","v":0},{"$f":"VG!H47","v":0}]
[{"$f":"VG!A48","v":""},{"$f":"VG!B48","v":0},{"$f":"VG!E48","v":0},{"$f":"VG!G48","v":0},{"$f":"VG!H48","v":0}]
[{"$f":"VG!A49","v":""},{"$f":"VG!B49","v":0},{"$f":"VG!E49","v":0},{"$f":"VG!G49","v":0},{"$f":"VG!H49","v":0}]
[{"$f":"VG!A50","v":""},{"$f":"VG!B50","v":0},{"$f":"VG!E50","v":0},{"$f":"VG!G50","v":0},{"$f":"VG!H50","v":0}]
[{"$f":"VG!A51","v":""},{"$f":"VG!B51","v":0},{"$f":"VG!E51","v":0},{"$f":"VG!G51","v":0},{"$f":"VG!H51","v":0}]
[{"$f":"VG!A52","v":""},{"$f":"VG!B52","v":0},{"$f":"VG!E52","v":0},{"$f":"VG!G52","v":0},{"$f":"VG!H52","v":0}]
[{"$f":"VG!A53","v":""},{"$f":"VG!B53","v":0},{"$f":"VG!E53","v":0},{"$f":"VG!G53","v":0},{"$f":"VG!H53","v":0}]
[{"$f":"VG!A54","v":""},{"$f":"VG!B54","v":0},{"$f":"VG!E54","v":0},{"$f":"VG!G54","v":0},{"$f":"VG!H54","v":0}]
[{"$f":"VG!A55","v":""},{"$f":"VG!B55","v":0},{"$f":"VG!E55","v":0},{"$f":"VG!G55","v":0},{"$f":"VG!H55","v":0}]
[{"$f":"VG!A56","v":""},{"$f":"VG!B56","v":0},{"$f":"VG!E56","v":0},{"$f":"VG!G56","v":0},{"$f":"VG!H56","v":0}]
[{"$f":"VG!A57","v":""},{"$f":"VG!B57","v":0},{"$f":"VG!E57","v":0},{"$f":"VG!G57","v":0},{"$f":"VG!H57","v":0}]
[{"$f":"VG!A58","v":""},{"$f":"VG!B58","v":0},{"$f":"VG!E58","v":0},{"$f":"VG!G58","v":0},{"$f":"VG!H58","v":0}]
[{"$f":"VG!A59","v":""},{"$f":"VG!B59","v":0},{"$f":"VG!E59","v":0},{"$f":"VG!G59","v":0},{"$f":"VG!H59","v":0}]
[{"$f":"VG!A60","v":""},{"$f":"VG!B60","v":0},{"$f":"VG!E60","v":0},{"$f":"VG!G60","v":0},{"$f":"VG!H60","v":0}]
[{"$f":"VG!A61","v":""},{"$f":"VG!B61","v":0},{"$f":"VG!E61","v":0},{"$f":"VG!G61","v":0},{"$f":"VG!H61","v":0}]
[{"$f":"VG!A62","v":""},{"$f":"VG!B62","v":0},{"$f":"VG!E62","v":0},{"$f":"VG!G62","v":0},{"$f":"VG!H62","v":0}]
[{"$f":"VG!A63","v":""},{"$f":"VG!B63","v":0},{"$f":"VG!E63","v":0},{"$f":"VG!G63","v":0},{"$f":"VG!H63","v":0}]
[{"$f":"VG!A64","v":""},{"$f":"VG!B64","v":0},{"$f":"VG!E64","v":0},{"$f":"VG!G64","v":0},{"$f":"VG!H64","v":0}]
[{"$f":"VG!A65","v":""},{"$f":"VG!B65","v":0},{"$f":"VG!E65","v":0},{"$f":"VG!G65","v":0},{"$f":"VG!H65","v":0}]
[{"$f":"VG!A66","v":""},{"$f":"VG!B66","v":0},{"$f":"VG!E66","v":0},{"$f":"VG!G66","v":0},{"$f":"VG!H66","v":0}]
[{"$f":"VG!A67","v":""},{"$f":"VG!B67","v":0},{"$f":"VG!E67","v":0},{"$f":"VG!G67","v":0},{"$f":"VG!H67","v":0}]
[{"$f":"VG!A68","v":""},{"$f":"VG!B68","v":0},{"$f":"VG!E68","v":0},{"$f":"VG!G68","v":0},{"$f":"VG!H68","v":0}]
[{"$f":"VG!A69","v":""},{"$f":"VG!B69","v":0},{"$f":"VG!E69","v":0},{"$f":"VG!G69","v":0},{"$f":"VG!H69","v":0}]
[{"$f":"VG!A70","v":""},{"$f":"VG!B70","v":0},{"$f":"VG!E70","v":0},{"$f":"VG!G70","v":0},{"$f":"VG!H70","v":0}]
[{"$f":"VG!A71","v":""},{"$f":"VG!B71","v":0},{"$f":"VG!E71","v":0},{"$f":"VG!G71","v":0},{"$f":"VG!H71","v":0}]
[{"$f":"VG!A72","v":""},{"$f":"VG!B72","v":0},{"$f":"VG!E72","v":0},{"$f":"VG!G72","v":0},{"$f":"VG!H72","v":0}]
[{"$f":"VG!A73","v":""},{"$f":"VG!B73","v":0},{"$f":"VG!E73","v":0},{"$f":"VG!G73","v":0},{"$f":"VG!H73","v":0}]
[{"$f":"VG!A74","v":""},{"$f":"VG!B74","v":0},{"$f":"VG!E74","v":0},{"$f":"VG!G74","v":0},{"$f":"VG!H74","v":0}]
[{"$f":"VG!A75","v":""},{"$f":"VG!B75","v":0},{"$f":"VG!E75","v":0},{"$f":"VG!G75","v":0},{"$f":"VG!H75","v":0}]
[{"$f":"VG!A76","v":""},{"$f":"VG!B76","v":0},{"$f":"VG!E76","v":0},{"$f":"VG!G76","v":0},{"$f":"VG!H76","v":0}]
[{"$f":"VG!A77","v":""},{"$f":"VG!B77","v":0},{"$f":"VG!E77","v":0},{"$f":"VG!G77","v":0},{"$f":"VG!H77","v":0}]
[{"$f":"VG!A78","v":""},{"$f":"VG!B78","v":0},{"$f":"VG!E78","v":0},{"$f":"VG!G78","v":0},{"$f":"VG!H78","v":0}]
[{"$f":"VG!A79","v":""},{"$f":"VG!B79","v":0},{"$f":"VG!E79","v":0},{"$f":"VG!G79","v":0},{"$f":"VG!H79","v":0}]
[{"$f":"VG!A80","v":""},{"$f":"VG!B80","v":0},{"$f":"VG!E80","v":0},{"$f":"VG!G80","v":0},{"$f":"VG!H80","v":0}]
[{"$f":"VG!A81","v":""},{"$f":"VG!B81","v":0},{"$f":"VG!E81","v":0},{"$f":"VG!G81","v":0},{"$f":"VG!H81","v":0}]
[{"$f":"VG!A82","v":""},{"$f":"VG!B82","v":0},{"$f":"VG!E82","v":0},{"$f":"VG!G82","v":0},{"$f":"VG!H82","v":0}]
[{"$f":"VG!A83","v":""},{"$f":"VG!B83","v":0},{"$f":"VG!E83","v":0},{"$f":"VG!G83","v":0},{"$f":"VG!H83","v":0}]
[{"$f":"VG!A84","v":""},{"$f":"VG!B84","v":0},{"$f":"VG!E84","v":0},{"$f":"VG!G84","v":0},{"$f":"VG!H84","v":0}]
[{"$f":"VG!A85","v":""},{"$f":"VG!B85","v":0},{"$f":"VG!E85","v":0},{"$f":"VG!G85","v":0},{"$f":"VG!H85","v":0}]
[{"$f":"VG!A86","v":""},{"$f":"VG!B86","v":0},{"$f":"VG!E86","v":0},{"$f":"VG!G86","v":0},{"$f":"VG!H86","v":0}]
[{"$f":"VG!A87","v":""},{"$f":"VG!B87","v":0},{"$f":"VG!E87","v":0},{"$f":"VG!G87","v":0},{"$f":"VG!H87","v":0}]
[{"$f":"VG!A88","v":""},{"$f":"VG!B88","v":0},{"$f":"VG!E88","v":0},{"$f":"VG!G88","v":0},{"$f":"VG!H88","v":0}]
[{"$f":"VG!A89","v":""},{"$f":"VG!B89","v":0},{"$f":"VG!E89","v":0},{"$f":"VG!G89","v":0},{"$f":"VG!H89","v":0}]
[{"$f":"VG!A90","v":""},{"$f":"VG!B90","v":0},{"$f":"VG!E90","v":0},{"$f":"VG!G90","v":0},{"$f":"VG!H90","v":0}]
[{"$f":"VG!A91","v":""},{"$f":"VG!B91","v":0},{"$f":"VG!E91","v":0},{"$f":"VG!G91","v":0},{"$f":"VG!H91","v":0}]
[{"$f":"VG!A92","v":""},{"$f":"VG!B92","v":0},{"$f":"VG!E92","v":0},{"$f":"VG!G92","v":0},{"$f":"VG!H92","v":0}]
[{"$f":"VG!A93","v":""},{"$f":"VG!B93","v":0},{"$f":"VG!E93","v":0},{"$f":"VG!G93","v":0},{"$f":"VG!H93","v":0}]
[{"$f":"VG!A94","v":""},{"$f":"VG!B94","v":0},{"$f":"VG!E94","v":0},{"$f":"VG!G94","v":0},{"$f":"VG!H94","v":0}]
[{"$f":"VG!A95","v":""},{"$f":"VG!B95","v":0},{"$f":"VG!E95","v":0},{"$f":"VG!G95","v":0},{"$f":"VG!H95","v":0}]
[{"$f":"VG!A96","v":""},{"$f":"VG!B96","v":0},{"$f":"VG!E96","v":0},{"$f":"VG!G96","v":0},{"$f":"VG!H96","v":0}]
[{"$f":"VG!A97","v":""},{"$f":"VG!B97","v":0},{"$f":"VG!E97","v":0},{"$f":"VG!G97","v":0},{"$f":"VG!H97","v":0}]
[{"$f":"VG!A98","v":""},{"$f":"VG!B98","v":0},{"$f":"VG!E98","v":0},{"$f":"VG!G98","v":0},{"$f":"VG!H98","v":0}]
[{"$f":"VG!A99","v":""},{"$f":"VG!B99","v":0},{"$f":"VG!E99","v":0},{"$f":"VG!G99","v":0},{"$f":"VG!H99","v":0}]
[{"$f":"VG!A100","v":""},{"$f":"VG!B100","v":0},{"$f":"VG!E100","v":0},{"$f":"VG!G100","v":0},{"$f":"VG!H100","v":0}]
[{"$f":"VG!A101","v":""},{"$f":"VG!B101","v":0},{"$f":"VG!E101","v":0},{"$f":"VG!G101","v":0},{"$f":"VG!H101","v":0}]
[{"$f":"VG!A102","v":""},{"$f":"VG!B102","v":0},{"$f":"VG!E102","v":0},{"$f":"VG!G102","v":0},{"$f":"VG!H102","v":0}]
[{"$f":"VG!A103","v":""},{"$f":"VG!B103","v":0},{"$f":"VG!E103","v":0},{"$f":"VG!G103","v":0},{"$f":"VG!H103","v":0}]
[{"$f":"VG!A104","v":""},{"$f":"VG!B104","v":0},{"$f":"VG!E104","v":0},{"$f":"VG!G104","v":0},{"$f":"VG!H104","v":0}]
[{"$f":"VG!A105","v":""},{"$f":"VG!B105","v":0},{"$f":"VG!E105","v":0},{"$f":"VG!G105","v":0},{"$f":"VG!H105","v":0}]
[{"$f":"VG!A106","v":""},{"$f":"VG!B106","v":0},{"$f":"VG!E106","v":0},{"$f":"VG!G106","v":0},{"$f":"VG!H106","v":0}]
[{"$f":"VG!A107","v":""},{"$f":"VG!B107","v":0},{"$f":"VG!E107","v":0},{"$f":"VG!G107","v":0},{"$f":"VG!H107","v":0}]
[{"$f":"VG!A108","v":""},{"$f":"VG!B108","v":0},{"$f":"VG!E108","v":0},{"$f":"VG!G108","v":0},{"$f":"VG!H108","v":0}]
[{"$f":"VG!A109","v":""},{"$f":"VG!B109","v":0},{"$f":"VG!E109","v":0},{"$f":"VG!G109","v":0},{"$f":"VG!H109","v":0}]
[{"$f":"VG!A110","v":""},{"$f":"VG!B110","v":0},{"$f":"VG!E110","v":0},{"$f":"VG!G110","v":0},{"$f":"VG!H110","v":0}]
[{"$f":"VG!A111","v":""},{"$f":"VG!B111","v":0},{"$f":"VG!E111","v":0},{"$f":"VG!G111","v":0},{"$f":"VG!H111","v":0}]
[{"$f":"VG!A112","v":""},{"$f":"VG!B112","v":0},{"$f":"VG!E112","v":0},{"$f":"VG!G112","v":0},{"$f":"VG!H112","v":0}]
[{"$f":"VG!A113","v":""},{"$f":"VG!B113","v":0},{"$f":"VG!E113","v":0},{"$f":"VG!G113","v":0},{"$f":"VG!H113","v":0}]
[{"$f":"VG!A114","v":""},{"$f":"VG!B114","v":0},{"$f":"VG!E114","v":0},{"$f":"VG!G114","v":0},{"$f":"VG!H114","v":0}]
[{"$f":"VG!A115","v":""},{"$f":"VG!B115","v":0},{"$f":"VG!E115","v":0},{"$f":"VG!G115","v":0},{"$f":"VG!H115","v":0}]
[{"$f":"VG!A116","v":""},{"$f":"VG!B116","v":0},{"$f":"VG!E116","v":0},{"$f":"VG!G116","v":0},{"$f":"VG!H116","v":0}]
[{"$f":"VG!A117","v":""},{"$f":"VG!B117","v":0},{"$f":"VG!E117","v":0},{"$f":"VG!G117","v":0},{"$f":"VG!H117","v":0}]
[{"$f":"VG!A118","v":""},{"$f":"VG!B118","v":0},{"$f":"VG!E118","v":0},{"$f":"VG!G118","v":0},{"$f":"VG!H118","v":0}]
[{"$f":"VG!A119","v":""},{"$f":"VG!B119","v":0},{"$f":"VG!E119","v":0},{"$f":"VG!G119","v":0},{"$f":"VG!H119","v":0}]
[{"$f":"VG!A120","v":""},{"$f":"VG!B120","v":0},{"$f":"VG!E120","v":0},{"$f":"VG!G120","v":0},{"$f":"VG!H120","v":0}]
[{"$f":"VG!A121","v":""},{"$f":"VG!B121","v":0},{"$f":"VG!E121","v":0},{"$f":"VG!G121","v":0},{"$f":"VG!H121","v":0}]
[{"$f":"VG!A122","v":""},{"$f":"VG!B122","v":0},{"$f":"VG!E122","v":0},{"$f":"VG!G122","v":0},{"$f":"VG!H122","v":0}]
[{"$f":"VG!A123","v":""},{"$f":"VG!B123","v":0},{"$f":"VG!E123","v":0},{"$f":"VG!G123","v":0},{"$f":"VG!H123","v":0}]
[{"$f":"VG!A124","v":""},{"$f":"VG!B124","v":0},{"$f":"VG!E124","v":0},{"$f":"VG!G124","v":0},{"$f":"VG!H124","v":0}]
[{"$f":"VG!A125","v":""},{"$f":"VG!B125","v":0},{"$f":"VG!E125","v":0},{"$f":"VG!G125","v":0},{"$f":"VG!H125","v":0}]
[{"$f":"VG!A126","v":""},{"$f":"VG!B126","v":0},{"$f":"VG!E126","v":0},{"$f":"VG!G126","v":0},{"$f":"VG!H126","v":0}]
[{"$f":"VG!A127","v":""},{"$f":"VG!B127","v":0},{"$f":"VG!E127","v":0},{"$f":"VG!G127","v":0},{"$f":"VG!H127","v":0}]
[{"$f":"VG!A128","v":""},{"$f":"VG!B128","v":0},{"$f":"VG!E128","v":0},{"$f":"VG!G128","v":0},{"$f":"VG!H128","v":0}]
[{"$f":"VG!A129","v":""},{"$f":"VG!B129","v":0},{"$f":"VG!E129","v":0},{"$f":"VG!G129","v":0},{"$f":"VG!H129","v":0}]
[{"$f":"VG!A130","v":""},{"$f":"VG!B130","v":0},{"$f":"VG!E130","v":0},{"$f":"VG!G130","v":0},{"$f":"VG!H130","v":0}]
[{"$f":"VG!A131","v":""},{"$f":"VG!B131","v":0},{"$f":"VG!E131","v":0},{"$f":"VG!G131","v":0},{"$f":"VG!H131","v":0}]
[{"$f":"VG!A132","v":""},{"$f":"VG!B132","v":0},{"$f":"VG!E132","v":0},{"$f":"VG!G132","v":0},{"$f":"VG!H132","v":0}]
[{"$f":"VG!A133","v":""},{"$f":"VG!B133","v":0},{"$f":"VG!E133","v":0},{"$f":"VG!G133","v":0},{"$f":"VG!H133","v":0}]
[{"$f":"VG!A134","v":""},{"$f":"VG!B134","v":0},{"$f":"VG!E134","v":0},{"$f":"VG!G134","v":0},{"$f":"VG!H134","v":0}]
[null,null,null,null,"TOPLAM(KDV HARİÇ)"]
["TEKLİF TOPLAMI YAZIYLA"]
[]
["         Yukarda Adı, özelliği ve miktarı yazılı malzemeleri belirtmiş olduğum fiyattan ve istenilen şartlar doğrultusunda vermeyi taahhüt ediyorum."]
[]
[null,null,null,"TEKLİF YAPAN FİRMA/KİŞİ"]
[null,null,null,"İmza / Kaşe/Adres"]

{"sheet":"YM","index":6,"n_rows":113,"n_cols":21,"rows_kept":113,"cut":false,"hidden":false,"merged":[[111,13,111,15],[112,1,112,3],[108,0,108,16],[113,13,113,15],[5,15,6,15],[5,16,6,16],[111,1,111,3],[111,7,111,9],[112,7,112,9],[112,13,112,15],[113,7,113,8],[109,0,109,14],[107,0,107,6],[105,1,105,2],[105,3,105,4],[106,1,106,2],[106,3,106,4],[102,1,102,2],[102,3,102,4],[103,1,103,2],[103,3,103,4],[104,1,104,2],[104,3,104,4],[99,1,99,2],[99,3,99,4],[100,1,100,2],[100,3,100,4],[101,1,101,2],[101,3,101,4],[96,1,96,2],[96,3,96,4],[97,1,97,2],[97,3,97,4],[98,1,98,2],[98,3,98,4],[93,1,93,2],[93,3,93,4],[94,1,94,2],[94,3,94,4],[95,1,95,2],[95,3,95,4],[90,1,90,2],[90,3,90,4],[91,1,91,2],[91,3,91,4],[92,1,92,2],[92,3,92,4],[87,1,87,2],[87,3,87,4],[88,1,88,2],[88,3,88,4],[89,1,89,2],[89,3,89,4],[84,1,84,2],[84,3,84,4],[85,1,85,2],[85,3,85,4],[86,1,86,2],[86,3,86,4],[81,1,81,2],[81,3,81,4],[82,1,82,2],[82,3,82,4],[83,1,83,2],[83,3,83,4],[78,1,78,2],[78,3,78,4],[79,1,79,2],[79,3,79,4],[80,1,80,2],[80,3,80,4],[75,1,75,2],[75,3,75,4],[76,1,76,2],[76,3,76,4],[77,1,77,2],[77,3,77,4],[72,1,72,2],[72,3,72,4],[73,1,73,2],[73,3,73,4],[74,1,74,2],[74,3,74,4],[69,1,69,2],[69,3,69,4],[70,1,70,2],[70,3,70,4],[71,1,71,2],[71,3,71,4],[66,1,66,2],[66,3,66,4],[67,1,67,2],[67,3,67,4],[68,1,68,2],[68,3,68,4],[63,1,63,2],[63,3,63,4],[64,1,64,2],[64,3,64,4],[65,1,65,2],[65,3,65,4],[60,1,60,2],[60,3,60,4],[61,1,61,2],[61,3,61,4],[62,1,62,2],[62,3,62,4],[57,1,57,2],[57,3,57,4],[58,1,58,2],[58,3,58,4],[59,1,59,2],[59,3,59,4],[54,1,54,2],[54,3,54,4],[55,1,55,2],[55,3,55,4],[56,1,56,2],[56,3,56,4],[51,1,51,2],[51,3,51,4],[52,1,52,2],[52,3,52,4],[53,1,53,2],[53,3,53,4],[48,1,48,2],[48,3,48,4],[49,1,49,2],[49,3,49,4],[50,1,50,2],[50,3,50,4],[45,1,45,2],[45,3,45,4],[46,1,46,2],[46,3,46,4],[47,1,47,2],[47,3,47,4],[42,1,42,2],[42,3,42,4],[43,1,43,2],[43,3,43,4],[44,1,44,2],[44,3,44,4],[39,1,39,2],[39,3,39,4],[40,1,40,2],[40,3,40,4],[41,1,41,2],[41,3,41,4],[36,1,36,2],[36,3,36,4],[37,1,37,2],[37,3,37,4],[38,1,38,2],[38,3,38,4],[33,1,33,2],[33,3,33,4],[34,1,34,2],[34,3,34,4],[35,1,35,2],[35,3,35,4],[30,1,30,2],[30,3,30,4],[31,1,31,2],[31,3,31,4],[32,1,32,2],[32,3,32,4],[27,1,27,2],[27,3,27,4],[28,1,28,2],[28,3,28,4],[29,1,29,2],[29,3,29,4],[24,1,24,2],[24,3,24,4],[25,1,25,2],[25,3,25,4],[26,1,26,2],[26,3,26,4],[21,1,21,2],[21,3,21,4],[22,1,22,2],[22,3,22,4],[23,1,23,2],[23,3,23,4],[18,1,18,2],[18,3,18,4],[19,1,19,2],[19,3,19,4],[20,1,20,2],[20,3,20,4],[15,1,15,2],[15,3,15,4],[16,1,16,2],[16,3,16,4],[17,1,17,2],[17,3,17,4],[12,1,12,2],[12,3,12,4],[13,1,13,2],[13,3,13,4],[14,1,14,2],[14,3,14,4],[9,1,9,2],[9,3,9,4],[10,1,10,2],[10,3,10,4],[11,1,11,2],[11,3,11,4],[6,1,6,2],[6,3,6,4],[7,1,7,2],[7,3,7,4],[8,1,8,2],[8,3,8,4],[0,15,4,16],[4,0,5,6],[4,7,4,14],[5,7,5,8],[5,9,5,10],[5,11,5,12],[5,13,5,14],[0,0,0,14],[1,0,1,4],[1,5,1,14],[2,0,2,4],[2,5,2,14],[3,0,3,4],[3,5,3,14]]}
["YAKLAŞIK MALİYET HESAP CETVELİ",null,null,null,null,null,null,null,null,null,null,null,null,null,null,"İdarece Tespit ve Takdir Edilen Yaklaşık Maliyet (KDV HARİÇ)"]
["İdarenin Adı",null,null,null,null,{"$f":"PAT!F2","v":"Erdem Bayazıt İmam Hatip Ortaokulu"}]
["Yapılan Alımın Adı, Niteliği",null,null,null,null,{"$f":"PAT!F3","v":"Okul İhtiyacı  için Büro Mefruşat Alımları Alımı"}]
["Düzenleme Tarihi",null,null,null,null,{"$f":"VG!D29","v":"2021-09-25"}]
["Yaklaşık Maliyeti Hesaplanacak Malın / Hizmetin",null,null,null,null,null,null,"Kişiler / Kurumlar / Firmalar ve Yaklaşık Maliyet için Bildirilen Fiyatlar (KDV HARİÇ)"]
[null,null,null,null,null,null,null,{"$f":"VG!J33","v":"GÖKTÜRK MEFRUŞAT"},null,{"$f":"VG!L33","v":"YILDIZLAR MANİFATURA"},null,{"$f":"VG!N33","v":"DENGE TEKSTİL"},null,{"$f":"IF(ISBLANK(VG!P33),\"\",VG!P33)","v":""},null,"Birim Yaklaşık Maliyet Fiyatı","Toplam Yaklaşık Maliyet Fiyatı"]
["SIRA","Cinsi",null,"Özelliği",null,"Miktarı","Ölçüsü","Birim Fiyat","Toplam Fiyat","Birim Fiyat","Toplam Fiyat","Birim Fiyat","Toplam Fiyat","Birim Fiyat","Toplam Fiyat"]
[{"$f":"VG!A35","v":1},{"$f":"VG!B35","v":" Perde"},null,{"$f":"VG!E35","v":"Fon"},null,{"$f":"VG!G35","v":120},{"$f":"VG!H35","v":"Metrekare"},{"$f":"VG!J35","v":70},{"$f":"VG!K35","v":8400},{"$f":"VG!L35","v":70},{"$f":"VG!M35","v":8400},{"$f":"VG!N35","v":70},{"$f":"VG!O35","v":8400},{"$f":"IF(ISBLANK(VG!P35),\"\",VG!P35)","v":""},{"$f":"IF(ISBLANK(VG!Q35),\"\",VG!Q35)","v":""},{"$f":"IF(ISBLANK(VG!P33),(YM!H8+YM!J8+YM!L8)/3,(YM!H8+YM!J8+YM!L8+YM!N8)/4)","v":70},{"$f":"IF(ISBLANK(VG!P33),(YM!I8+YM!K8+YM!M8)/3,(YM!I8+YM!K8+YM!M8+YM!O8)/4)","v":8400},{"$f":"H8+J8+L8","v":210},{"$f":"SUM(H8,J8,L8,N8)","v":210},{"$f":"SUM(I8,K8,M8)","v":25200},{"$f":"SUM(I8,K8,M8,O8)","v":25200}]
[{"$f":"VG!A36","v":2},{"$f":"VG!B36","v":" Perde"},null,{"$f":"VG!E36","v":"Zebra"},null,{"$f":"VG!G36","v":30},{"$f":"VG!H36","v":"Metrekare"},{"$f":"VG!J36","v":50},{"$f":"VG!K36","v":1500},{"$f":"VG!L36","v":80},{"$f":"VG!M36","v":2400},{"$f":"VG!N36","v":80},{"$f":"VG!O36","v":2400},{"$f":"IF(ISBLANK(VG!P36),\"\",VG!P36)","v":""},{"$f":"VG!Q36","v":""},{"$f":"IF(ISBLANK(VG!P33),(YM!H9+YM!J9+YM!L9)/3,(YM!H9+YM!J9+YM!L9+YM!N9)/4)","v":70},{"$f":"IF(ISBLANK(VG!P33),(YM!I9+YM!K9+YM!M9)/3,(YM!I9+YM!K9+YM!M9+YM!O9)/4)","v":2100},{"$f":"H9+J9+L9","v":210},{"$f":"SUM(H9,J9,L9,N9)","v":210},{"$f":"SUM(I9,K9,M9)","v":6300},{"$f":"SUM(I9,K9,M9,O9)","v":6300}]
[{"$f":"VG!A37","v":3},{"$f":"VG!B37","v":"Perde"},null,{"$f":"VG!E37","v":"Karartma"},null,{"$f":"VG!G37","v":34},{"$f":"VG!H37","v":"Metrekare"},{"$f":"VG!J37","v":45},{"$f":"VG!K37","v":1530},{"$f":"VG!L37","v":65},{"$f":"VG!M37","v":2210},{"$f":"VG!N37","v":60},{"$f":"VG!O37","v":2040},{"$f":"IF(ISBLANK(VG!P37),\"\",VG!P37)","v":""},{"$f":"VG!Q37","v":""},{"$f":"IF(ISBLANK(VG!P33),(YM!H10+YM!J10+YM!L10)/3,(YM!H10+YM!J10+YM!L10+YM!N10)/4)","v":56.666666666666664},{"$f":"IF(ISBLANK(VG!P33),(YM!I10+YM!K10+YM!M10)/3,(YM!I10+YM!K10+YM!M10+YM!O10)/4)","v":1926.6666666666667},170,170,5780,5780]
[{"$f":"VG!A38","v":""},{"$f":"VG!B38","v":0},null,{"$f":"VG!E38","v":0},null,{"$f":"VG!G38","v":0},{"$f":"VG!H38","v":0},{"$f":"VG!J38","v":0},{"$f":"VG!K38","v":0},{"$f":"VG!L38","v":0},{"$f":"VG!M38","v":0},{"$f":"VG!N38","v":0},{"$f":"VG!O38","v":0},{"$f":"IF(ISBLANK(VG!P38),\"\",VG!P38)","v":""},{"$f":"VG!Q38","v":""},{"$f":"IF(ISBLANK(VG!P33),(YM!H11+YM!J11+YM!L11)/3,(YM!H11+YM!J11+YM!L11+YM!N11)/4)","v":0},{"$f":"IF(ISBLANK(VG!P33),(YM!I11+YM!K11+YM!M11)/3,(YM!I11+YM!K11+YM!M11+YM!O11)/4)","v":0},0,0,0,0]
[{"$f":"VG!A39","v":""},{"$f":"VG!B39","v":0},null,{"$f":"VG!E39","v":0},null,{"$f":"VG!G39","v":0},{"$f":"VG!H39","v":0},{"$f":"VG!J39","v":0},{"$f":"VG!K39","v":0},{"$f":"VG!L39","v":0},{"$f":"VG!M39","v":0},{"$f":"VG!N39","v":0},{"$f":"VG!O39","v":0},{"$f":"IF(ISBLANK(VG!P39),\"\",VG!P39)","v":""},{"$f":"VG!Q39","v":""},{"$f":"IF(ISBLANK(VG!P33),(YM!H12+YM!J12+YM!L12)/3,(YM!H12+YM!J12+YM!L12+YM!N12)/4)","v":0},{"$f":"IF(ISBLANK(VG!P33),(YM!I12+YM!K12+YM!M12)/3,(YM!I12+YM!K12+YM!M12+YM!O12)/4)","v":0},0,0,0,0]
[{"$f":"VG!A40","v":""},{"$f":"VG!B40","v":0},null,{"$f":"VG!E40","v":0},null,{"$f":"VG!G40","v":0},{"$f":"VG!H40","v":0},{"$f":"VG!J40","v":0},{"$f":"VG!K40","v":0},{"$f":"VG!L40","v":0},{"$f":"VG!M40","v":0},{"$f":"VG!N40","v":0},{"$f":"VG!O40","v":0},{"$f":"IF(ISBLANK(VG!P40),\"\",VG!P40)","v":""},{"$f":"VG!Q40","v":""},{"$f":"IF(ISBLANK(VG!P33),(YM!H13+YM!J13+YM!L13)/3,(YM!H13+YM!J13+YM!L13+YM!N13)/4)","v":0},{"$f":"IF(ISBLANK(VG!P33),(YM!I13+YM!K13+YM!M13)/3,(YM!I13+YM!K13+YM!M13+YM!O13)/4)","v":0},0,0,0,0]
[{"$f":"VG!A41","v":""},{"$f":"VG!B41","v":0},null,{"$f":"VG!E41","v":0},null,{"$f":"VG!G41","v":0},{"$f":"VG!H41","v":0},{"$f":"VG!J41","v":0},{"$f":"VG!K41","v":0},{"$f":"VG!L41","v":0},{"$f":"VG!M41","v":0},{"$f":"VG!N41","v":0},{"$f":"VG!O41","v":0},{"$f":"IF(ISBLANK(VG!P41),\"\",VG!P41)","v":""},{"$f":"VG!Q41","v":""},{"$f":"IF(ISBLANK(VG!P33),(YM!H14+YM!J14+YM!L14)/3,(YM!H14+YM!J14+YM!L14+YM!N14)/4)","v":0},{"$f":"IF(ISBLANK(VG!P33),(YM!I14+YM!K14+YM!M14)/3,(YM!I14+YM!K14+YM!M14+YM!O14)/4)","v":0},0,0,0,0]
[{"$f":"VG!A42","v":""},{"$f":"VG!B42","v":0},null,{"$f":"VG!E42","v":0},null,{"$f":"VG!G42","v":0},{"$f":"VG!H42","v":0},{"$f":"VG!J42","v":0},{"$f":"VG!K42","v":0},{"$f":"VG!L42","v":0},{"$f":"VG!M42","v":0},{"$f":"VG!N42","v":0},{"$f":"VG!O42","v":0},{"$f":"IF(ISBLANK(VG!P42),\"\",VG!P42)","v":""},{"$f":"VG!Q42","v":""},{"$f":"IF(ISBLANK(VG!P33),(YM!H15+YM!J15+YM!L15)/3,(YM!H15+YM!J15+YM!L15+YM!N15)/4)","v":0},{"$f":"IF(ISBLANK(VG!P33),(YM!I15+YM!K15+YM!M15)/3,(YM!I15+YM!K15+YM!M15+YM!O15)/4)","v":0},0,0,0,0]
[{"$f":"VG!A43","v":""},{"$f":"VG!B43","v":0},null,{"$f":"VG!E43","v":0},null,{"$f":"VG!G43","v":0},{"$f":"VG!H43","v":0},{"$f":"VG!J43","v":0},{"$f":"VG!K43","v":0},{"$f":"VG!L43","v":0},{"$f":"VG!M43","v":0},{"$f":"VG!N43","v":0},{"$f":"VG!O43","v":0},{"$f":"IF(ISBLANK(VG!P43),\"\",VG!P43)","v":""},{"$f":"VG!Q43","v":""},{"$f":"IF(ISBLANK(VG!P33),(YM!H16+YM!J16+YM!L16)/3,(YM!H16+YM!J16+YM!L16+YM!N16)/4)","v":0},{"$f":"IF(ISBLANK(VG!P33),(YM!I16+YM!K16+YM!M16)/3,(YM!I16+YM!K16+YM!M16+YM!O16)/4)","v":0},0,0,0,0]
[{"$f":"VG!A44","v":""},{"$f":"VG!B44","v":0},null,{"$f":"VG!E44","v":0},null,{"$f":"VG!G44","v":0},{"$f":"VG!H44","v":0},{"$f":"VG!J44","v":0},{"$f":"VG!K44","v":0},{"$f":"VG!L44","v":0},{"$f":"VG!M44","v":0},{"$f":"VG!N44","v":0},{"$f":"VG!O44","v":0},{"$f":"IF(ISBLANK(VG!P44),\"\",VG!P44)","v":""},{"$f":"VG!Q44","v":""},{"$f":"IF(ISBLANK(VG!P33),(YM!H17+YM!J17+YM!L17)/3,(YM!H17+YM!J17+YM!L17+YM!N17)/4)","v":0},{"$f":"IF(ISBLANK(VG!P33),(YM!I17+YM!K17+YM!M17)/3,(YM!I17+YM!K17+YM!M17+YM!O17)/4)","v":0},0,0,0,0]
[{"$f":"VG!A45","v":""},{"$f":"VG!B45","v":0},null,{"$f":"VG!E45","v":0},null,{"$f":"VG!G45","v":0},{"$f":"VG!H45","v":0},{"$f":"VG!J45","v":0},{"$f":"VG!K45","v":0},{"$f":"VG!L45","v":0},{"$f":"VG!M45","v":0},{"$f":"VG!N45","v":0},{"$f":"VG!O45","v":0},{"$f":"IF(ISBLANK(VG!P45),\"\",VG!P45)","v":""},{"$f":"VG!Q45","v":""},{"$f":"IF(ISBLANK(VG!P33),(YM!H18+YM!J18+YM!L18)/3,(YM!H18+YM!J18+YM!L18+YM!N18)/4)","v":0},{"$f":"IF(ISBLANK(VG!P33),(YM!I18+YM!K18+YM!M18)/3,(YM!I18+YM!K18+YM!M18+YM!O18)/4)","v":0},0,0,0,0]
[{"$f":"VG!A46","v":""},{"$f":"VG!B46","v":0},null,{"$f":"VG!E46","v":0},null,{"$f":"VG!G46","v":0},{"$f":"VG!H46","v":0},{"$f":"VG!J46","v":0},{"$f":"VG!K46","v":0},{"$f":"VG!L46","v":0},{"$f":"VG!M46","v":0},{"$f":"VG!N46","v":0},{"$f":"VG!O46","v":0},{"$f":"IF(ISBLANK(VG!P46),\"\",VG!P46)","v":""},{"$f":"VG!Q46","v":""},{"$f":"IF(ISBLANK(VG!P4433),(YM!H19+YM!J19+YM!L19)/3,(YM!H19+YM!J19+YM!L19+YM!N19)/4)","v":0},{"$f":"IF(ISBLANK(VG!P33),(YM!I19+YM!K19+YM!M19)/3,(YM!I19+YM!K19+YM!M19+YM!O19)/4)","v":0},0,0,0,0]
[{"$f":"VG!A47","v":""},{"$f":"VG!B47","v":0},null,{"$f":"VG!E47","v":0},null,{"$f":"VG!G47","v":0},{"$f":"VG!H47","v":0},{"$f":"VG!J47","v":0},{"$f":"VG!K47","v":0},{"$f":"VG!L47","v":0},{"$f":"VG!M47","v":0},{"$f":"VG!N47","v":0},{"$f":"VG!O47","v":0},{"$f":"IF(ISBLANK(VG!P47),\"\",VG!P47)","v":""},{"$f":"VG!Q47","v":""},{"$f":"IF(ISBLANK(VG!P45),(YM!H20+YM!J20+YM!L20)/3,(YM!H20+YM!J20+YM!L20+YM!N20)/4)","v":0},{"$f":"IF(ISBLANK(VG!P33),(YM!I20+YM!K20+YM!M20)/3,(YM!I20+YM!K20+YM!M20+YM!O20)/4)","v":0},0,0,0,0]
[{"$f":"VG!A48","v":""},{"$f":"VG!B48","v":0},null,{"$f":"VG!E48","v":0},null,{"$f":"VG!G48","v":0},{"$f":"VG!H48","v":0},{"$f":"VG!J48","v":0},{"$f":"VG!K48","v":0},{"$f":"VG!L48","v":0},{"$f":"VG!M48","v":0},{"$f":"VG!N48","v":0},{"$f":"VG!O48","v":0},{"$f":"IF(ISBLANK(VG!P48),\"\",VG!P48)","v":""},{"$f":"VG!Q48","v":""},{"$f":"IF(ISBLANK(VG!P33),(YM!H21+YM!J21+YM!L21)/3,(YM!H21+YM!J21+YM!L21+YM!N21)/4)","v":0},{"$f":"IF(ISBLANK(VG!P33),(YM!I21+YM!K21+YM!M21)/3,(YM!I21+YM!K21+YM!M21+YM!O21)/4)","v":0},0,0,0,0]
[{"$f":"VG!A49","v":""},{"$f":"VG!B49","v":0},null,{"$f":"VG!E49","v":0},null,{"$f":"VG!G49","v":0},{"$f":"VG!H49","v":0},{"$f":"VG!J49","v":0},{"$f":"VG!K49","v":0},{"$f":"VG!L49","v":0},{"$f":"VG!M49","v":0},{"$f":"VG!N49","v":0},{"$f":"VG!O49","v":0},{"$f":"IF(ISBLANK(VG!P49),\"\",VG!P49)","v":""},{"$f":"VG!Q49","v":""},{"$f":"IF(ISBLANK(VG!P33),(YM!H22+YM!J22+YM!L22)/3,(YM!H22+YM!J22+YM!L22+YM!N22)/4)","v":0},{"$f":"IF(ISBLANK(VG!P33),(YM!I22+YM!K22+YM!M22)/3,(YM!I22+YM!K22+YM!M22+YM!O22)/4)","v":0},0,0,0,0]
[{"$f":"VG!A50","v":""},{"$f":"VG!B50","v":0},null,{"$f":"VG!E50","v":0},null,{"$f":"VG!G50","v":0},{"$f":"VG!H50","v":0},{"$f":"VG!J50","v":0},{"$f":"VG!K50","v":0},{"$f":"VG!L50","v":0},{"$f":"VG!M50","v":0},{"$f":"VG!N50","v":0},{"$f":"VG!O50","v":0},{"$f":"IF(ISBLANK(VG!P50),\"\",VG!P50)","v":""},{"$f":"VG!Q50","v":""},{"$f":"IF(ISBLANK(VG!P33),(YM!H23+YM!J23+YM!L23)/3,(YM!H23+YM!J23+YM!L23+YM!N23)/4)","v":0},{"$f":"IF(ISBLANK(VG!P33),(YM!I23+YM!K23+YM!M23)/3,(YM!I23+YM!K23+YM!M23+YM!O23)/4)","v":0},0,0,0,0]
[{"$f":"VG!A51","v":""},{"$f":"VG!B51","v":0},null,{"$f":"VG!E51","v":0},null,{"$f":"VG!G51","v":0},{"$f":"VG!H51","v":0},{"$f":"VG!J51","v":0},{"$f":"VG!K51","v":0},{"$f":"VG!L51","v":0},{"$f":"VG!M51","v":0},{"$f":"VG!N51","v":0},{"$f":"VG!O51","v":0},{"$f":"IF(ISBLANK(VG!P51),\"\",VG!P51)","v":""},{"$f":"VG!Q51","v":""},{"$f":"IF(ISBLANK(VG!P33),(YM!H24+YM!J24+YM!L24)/3,(YM!H24+YM!J24+YM!L24+YM!N24)/4)","v":0},{"$f":"IF(ISBLANK(VG!P33),(YM!I24+YM!K24+YM!M24)/3,(YM!I24+YM!K24+YM!M24+YM!O24)/4)","v":0},0,0,0,0]
[{"$f":"VG!A52","v":""},{"$f":"VG!B52","v":0},null,{"$f":"VG!E52","v":0},null,{"$f":"VG!G52","v":0},{"$f":"VG!H52","v":0},{"$f":"VG!J52","v":0},{"$f":"VG!K52","v":0},{"$f":"VG!L52","v":0},{"$f":"VG!M52","v":0},{"$f":"VG!N52","v":0},{"$f":"VG!O52","v":0},{"$f":"IF(ISBLANK(VG!P52),\"\",VG!P52)","v":""},{"$f":"VG!Q52","v":""},{"$f":"IF(ISBLANK(VG!P33),(YM!H25+YM!J25+YM!L25)/3,(YM!H25+YM!J25+YM!L25+YM!N25)/4)","v":0},{"$f":"IF(ISBLANK(VG!P33),(YM!I25+YM!K25+YM!M25)/3,(YM!I25+YM!K25+YM!M25+YM!O25)/4)","v":0},0,0,0,0]
[{"$f":"VG!A53","v":""},{"$f":"VG!B53","v":0},null,{"$f":"VG!E53","v":0},null,{"$f":"VG!G53","v":0},{"$f":"VG!H53","v":0},{"$f":"VG!J53","v":0},{"$f":"VG!K53","v":0},{"$f":"VG!L53","v":0},{"$f":"VG!M53","v":0},{"$f":"VG!N53","v":0},{"$f":"VG!O53","v":0},{"$f":"IF(ISBLANK(VG!P53),\"\",VG!P53)","v":""},{"$f":"VG!Q53","v":""},{"$f":"IF(ISBLANK(VG!P33),(YM!H26+YM!J26+YM!L26)/3,(YM!H26+YM!J26+YM!L26+YM!N26)/4)","v":0},{"$f":"IF(ISBLANK(VG!P33),(YM!I26+YM!K26+YM!M26)/3,(YM!I26+YM!K26+YM!M26+YM!O26)/4)","v":0},0,0,0,0]
[{"$f":"VG!A54","v":""},{"$f":"VG!B54","v":0},null,{"$f":"VG!E54","v":0},null,{"$f":"VG!G54","v":0},{"$f":"VG!H54","v":0},{"$f":"VG!J54","v":0},{"$f":"VG!K54","v":0},{"$f":"VG!L54","v":0},{"$f":"VG!M54","v":0},{"$f":"VG!N54","v":0},{"$f":"VG!O54","v":0},{"$f":"IF(ISBLANK(VG!P54),\"\",VG!P54)","v":""},{"$f":"VG!Q54","v":""},{"$f":"IF(ISBLANK(VG!P33),(YM!H27+YM!J27+YM!L27)/3,(YM!H27+YM!J27+YM!L27+YM!N27)/4)","v":0},{"$f":"IF(ISBLANK(VG!P33),(YM!I27+YM!K27+YM!M27)/3,(YM!I27+YM!K27+YM!M27+YM!O27)/4)","v":0},0,0,0,0]
[{"$f":"VG!A55","v":""},{"$f":"VG!B55","v":0},null,{"$f":"VG!E55","v":0},null,{"$f":"VG!G55","v":0},{"$f":"VG!H55","v":0},{"$f":"VG!J55","v":0},{"$f":"VG!K55","v":0},{"$f":"VG!L55","v":0},{"$f":"VG!M55","v":0},{"$f":"VG!N55","v":0},{"$f":"VG!O55","v":0},{"$f":"IF(ISBLANK(VG!P55),\"\",VG!P55)","v":""},{"$f":"VG!Q55","v":""},{"$f":"IF(ISBLANK(VG!P33),(YM!H28+YM!J28+YM!L28)/3,(YM!H28+YM!J28+YM!L28+YM!N28)/4)","v":0},{"$f":"IF(ISBLANK(VG!P33),(YM!I28+YM!K28+YM!M28)/3,(YM!I28+YM!K28+YM!M28+YM!O28)/4)","v":0},0,0,0,0]
[{"$f":"VG!A56","v":""},{"$f":"VG!B56","v":0},null,{"$f":"VG!E56","v":0},null,{"$f":"VG!G56","v":0},{"$f":"VG!H56","v":0},{"$f":"VG!J56","v":0},{"$f":"VG!K56","v":0},{"$f":"VG!L56","v":0},{"$f":"VG!M56","v":0},{"$f":"VG!N56","v":0},{"$f":"VG!O56","v":0},{"$f":"IF(ISBLANK(VG!P56),\"\",VG!P56)","v":""},{"$f":"VG!Q56","v":""},{"$f":"IF(ISBLANK(VG!P33),(YM!H29+YM!J29+YM!L29)/3,(YM!H29+YM!J29+YM!L29+YM!N29)/4)","v":0},{"$f":"IF(ISBLANK(VG!P33),(YM!I29+YM!K29+YM!M29)/3,(YM!I29+YM!K29+YM!M29+YM!O29)/4)","v":0},0,0,0,0]
[{"$f":"VG!A57","v":""},{"$f":"VG!B57","v":0},null,{"$f":"VG!E57","v":0},null,{"$f":"VG!G57","v":0},{"$f":"VG!H57","v":0},{"$f":"VG!J57","v":0},{"$f":"VG!K57","v":0},{"$f":"VG!L57","v":0},{"$f":"VG!M57","v":0},{"$f":"VG!N57","v":0},{"$f":"VG!O57","v":0},{"$f":"IF(ISBLANK(VG!P57),\"\",VG!P57)","v":""},{"$f":"VG!Q57","v":""},{"$f":"IF(ISBLANK(VG!P33),(YM!H30+YM!J30+YM!L30)/3,(YM!H30+YM!J30+YM!L30+YM!N30)/4)","v":0},{"$f":"IF(ISBLANK(VG!P33),(YM!I30+YM!K30+YM!M30)/3,(YM!I30+YM!K30+YM!M30+YM!O30)/4)","v":0},0,0,0,0]
[{"$f":"VG!A58","v":""},{"$f":"VG!B58","v":0},null,{"$f":"VG!E58","v":0},null,{"$f":"VG!G58","v":0},{"$f":"VG!H58","v":0},{"$f":"VG!J58","v":0},{"$f":"VG!K58","v":0},{"$f":"VG!L58","v":0},{"$f":"VG!M58","v":0},{"$f":"VG!N58","v":0},{"$f":"VG!O58","v":0},{"$f":"IF(ISBLANK(VG!P58),\"\",VG!P58)","v":""},{"$f":"VG!Q58","v":""},{"$f":"IF(ISBLANK(VG!P33),(YM!H31+YM!J31+YM!L31)/3,(YM!H31+YM!J31+YM!L31+YM!N31)/4)","v":0},{"$f":"IF(ISBLANK(VG!P33),(YM!I31+YM!K31+YM!M31)/3,(YM!I31+YM!K31+YM!M31+YM!O31)/4)","v":0},0,0,0,0]
[{"$f":"VG!A59","v":""},{"$f":"VG!B59","v":0},null,{"$f":"VG!E59","v":0},null,{"$f":"VG!G59","v":0},{"$f":"VG!H59","v":0},{"$f":"VG!J59","v":0},{"$f":"VG!K59","v":0},{"$f":"VG!L59","v":0},{"$f":"VG!M59","v":0},{"$f":"VG!N59","v":0},{"$f":"VG!O59","v":0},{"$f":"IF(ISBLANK(VG!P59),\"\",VG!P59)","v":""},{"$f":"VG!Q59","v":""},{"$f":"IF(ISBLANK(VG!P33),(YM!H32+YM!J32+YM!L32)/3,(YM!H32+YM!J32+YM!L32+YM!N32)/4)","v":0},{"$f":"IF(ISBLANK(VG!P33),(YM!I32+YM!K32+YM!M32)/3,(YM!I32+YM!K32+YM!M32+YM!O32)/4)","v":0},0,0,0,0]
[{"$f":"VG!A60","v":""},{"$f":"VG!B60","v":0},null,{"$f":"VG!E60","v":0},null,{"$f":"VG!G60","v":0},{"$f":"VG!H60","v":0},{"$f":"VG!J60","v":0},{"$f":"VG!K60","v":0},{"$f":"VG!L60","v":0},{"$f":"VG!M60","v":0},{"$f":"VG!N60","v":0},{"$f":"VG!O60","v":0},{"$f":"IF(ISBLANK(VG!P60),\"\",VG!P60)","v":""},{"$f":"VG!Q60","v":""},{"$f":"IF(ISBLANK(VG!P33),(YM!H33+YM!J33+YM!L33)/3,(YM!H33+YM!J33+YM!L33+YM!N33)/4)","v":0},{"$f":"IF(ISBLANK(VG!P33),(YM!I33+YM!K33+YM!M33)/3,(YM!I33+YM!K33+YM!M33+YM!O33)/4)","v":0},0,0,0,0]
[{"$f":"VG!A61","v":""},{"$f":"VG!B61","v":0},null,{"$f":"VG!E61","v":0},null,{"$f":"VG!G61","v":0},{"$f":"VG!H61","v":0},{"$f":"VG!J61","v":0},{"$f":"VG!K61","v":0},{"$f":"VG!L61","v":0},{"$f":"VG!M61","v":0},{"$f":"VG!N61","v":0},{"$f":"VG!O61","v":0},{"$f":"IF(ISBLANK(VG!P61),\"\",VG!P61)","v":""},{"$f":"VG!Q61","v":""},{"$f":"IF(ISBLANK(VG!P33),(YM!H34+YM!J34+YM!L34)/3,(YM!H34+YM!J34+YM!L34+YM!N34)/4)","v":0},{"$f":"IF(ISBLANK(VG!P33),(YM!I34+YM!K34+YM!M34)/3,(YM!I34+YM!K34+YM!M34+YM!O34)/4)","v":0},0,0,0,0]
[{"$f":"VG!A62","v":""},{"$f":"VG!B62","v":0},null,{"$f":"VG!E62","v":0},null,{"$f":"VG!G62","v":0},{"$f":"VG!H62","v":0},{"$f":"VG!J62","v":0},{"$f":"VG!K62","v":0},{"$f":"VG!L62","v":0},{"$f":"VG!M62","v":0},{"$f":"VG!N62","v":0},{"$f":"VG!O62","v":0},{"$f":"IF(ISBLANK(VG!P62),\"\",VG!P62)","v":""},{"$f":"VG!Q62","v":""},{"$f":"IF(ISBLANK(VG!P33),(YM!H35+YM!J35+YM!L35)/3,(YM!H35+YM!J35+YM!L35+YM!N35)/4)","v":0},{"$f":"IF(ISBLANK(VG!P33),(YM!I35+YM!K35+YM!M35)/3,(YM!I35+YM!K35+YM!M35+YM!O35)/4)","v":0},0,0,0,0]
[{"$f":"VG!A63","v":""},{"$f":"VG!B63","v":0},null,{"$f":"VG!E63","v":0},null,{"$f":"VG!G63","v":0},{"$f":"VG!H63","v":0},{"$f":"VG!J63","v":0},{"$f":"VG!K63","v":0},{"$f":"VG!L63","v":0},{"$f":"VG!M63","v":0},{"$f":"VG!N63","v":0},{"$f":"VG!O63","v":0},{"$f":"IF(ISBLANK(VG!P63),\"\",VG!P63)","v":""},{"$f":"VG!Q63","v":""},{"$f":"IF(ISBLANK(VG!P33),(YM!H36+YM!J36+YM!L36)/3,(YM!H36+YM!J36+YM!L36+YM!N36)/4)","v":0},{"$f":"IF(ISBLANK(VG!P33),(YM!I36+YM!K36+YM!M36)/3,(YM!I36+YM!K36+YM!M36+YM!O36)/4)","v":0},0,0,0,0]
[{"$f":"VG!A64","v":""},{"$f":"VG!B64","v":0},null,{"$f":"VG!E64","v":0},null,{"$f":"VG!G64","v":0},{"$f":"VG!H64","v":0},{"$f":"VG!J64","v":0},{"$f":"VG!K64","v":0},{"$f":"VG!L64","v":0},{"$f":"VG!M64","v":0},{"$f":"VG!N64","v":0},{"$f":"VG!O64","v":0},{"$f":"IF(ISBLANK(VG!P64),\"\",VG!P64)","v":""},{"$f":"VG!Q64","v":""},{"$f":"IF(ISBLANK(VG!P33),(YM!H37+YM!J37+YM!L37)/3,(YM!H37+YM!J37+YM!L37+YM!N37)/4)","v":0},{"$f":"IF(ISBLANK(VG!P33),(YM!I37+YM!K37+YM!M37)/3,(YM!I37+YM!K37+YM!M37+YM!O37)/4)","v":0},0,0,0,0]
[{"$f":"VG!A65","v":""},{"$f":"VG!B65","v":0},null,{"$f":"VG!E65","v":0},null,{"$f":"VG!G65","v":0},{"$f":"VG!H65","v":0},{"$f":"VG!J65","v":0},{"$f":"VG!K65","v":0},{"$f":"VG!L65","v":0},{"$f":"VG!M65","v":0},{"$f":"VG!N65","v":0},{"$f":"VG!O65","v":0},{"$f":"IF(ISBLANK(VG!P65),\"\",VG!P65)","v":""},{"$f":"VG!Q65","v":""},{"$f":"IF(ISBLANK(VG!P33),(YM!H38+YM!J38+YM!L38)/3,(YM!H38+YM!J38+YM!L38+YM!N38)/4)","v":0},{"$f":"IF(ISBLANK(VG!P33),(YM!I38+YM!K38+YM!M38)/3,(YM!I38+YM!K38+YM!M38+YM!O38)/4)","v":0},0,0,0,0]
[{"$f":"VG!A66","v":""},{"$f":"VG!B66","v":0},null,{"$f":"VG!E66","v":0},null,{"$f":"VG!G66","v":0},{"$f":"VG!H66","v":0},{"$f":"VG!J66","v":0},{"$f":"VG!K66","v":0},{"$f":"VG!L66","v":0},{"$f":"VG!M66","v":0},{"$f":"VG!N66","v":0},{"$f":"VG!O66","v":0},{"$f":"IF(ISBLANK(VG!P66),\"\",VG!P66)","v":""},{"$f":"VG!Q66","v":""},{"$f":"IF(ISBLANK(VG!P33),(YM!H39+YM!J39+YM!L39)/3,(YM!H39+YM!J39+YM!L39+YM!N39)/4)","v":0},{"$f":"IF(ISBLANK(VG!P33),(YM!I39+YM!K39+YM!M39)/3,(YM!I39+YM!K39+YM!M39+YM!O39)/4)","v":0},0,0,0,0]
[{"$f":"VG!A67","v":""},{"$f":"VG!B67","v":0},null,{"$f":"VG!E67","v":0},null,{"$f":"VG!G67","v":0},{"$f":"VG!H67","v":0},{"$f":"VG!J67","v":0},{"$f":"VG!K67","v":0},{"$f":"VG!L67","v":0},{"$f":"VG!M67","v":0},{"$f":"VG!N67","v":0},{"$f":"VG!O67","v":0},{"$f":"IF(ISBLANK(VG!P67),\"\",VG!P67)","v":""},{"$f":"VG!Q67","v":""},{"$f":"IF(ISBLANK(VG!P33),(YM!H40+YM!J40+YM!L40)/3,(YM!H40+YM!J40+YM!L40+YM!N40)/4)","v":0},{"$f":"IF(ISBLANK(VG!P33),(YM!I40+YM!K40+YM!M40)/3,(YM!I40+YM!K40+YM!M40+YM!O40)/4)","v":0},0,0,0,0]
[{"$f":"VG!A68","v":""},{"$f":"VG!B68","v":0},null,{"$f":"VG!E68","v":0},null,{"$f":"VG!G68","v":0},{"$f":"VG!H68","v":0},{"$f":"VG!J68","v":0},{"$f":"VG!K68","v":0},{"$f":"VG!L68","v":0},{"$f":"VG!M68","v":0},{"$f":"VG!N68","v":0},{"$f":"VG!O68","v":0},{"$f":"IF(ISBLANK(VG!P68),\"\",VG!P68)","v":""},{"$f":"VG!Q68","v":""},{"$f":"IF(ISBLANK(VG!P33),(YM!H41+YM!J41+YM!L41)/3,(YM!H41+YM!J41+YM!L41+YM!N41)/4)","v":0},{"$f":"IF(ISBLANK(VG!P33),(YM!I41+YM!K41+YM!M41)/3,(YM!I41+YM!K41+YM!M41+YM!O41)/4)","v":0},0,0,0,0]
[{"$f":"VG!A69","v":""},{"$f":"VG!B69","v":0},null,{"$f":"VG!E69","v":0},null,{"$f":"VG!G69","v":0},{"$f":"VG!H69","v":0},{"$f":"VG!J69","v":0},{"$f":"VG!K69","v":0},{"$f":"VG!L69","v":0},{"$f":"VG!M69","v":0},{"$f":"VG!N69","v":0},{"$f":"VG!O69","v":0},{"$f":"IF(ISBLANK(VG!P69),\"\",VG!P69)","v":""},{"$f":"VG!Q69","v":""},{"$f":"IF(ISBLANK(VG!P33),(YM!H42+YM!J42+YM!L42)/3,(YM!H42+YM!J42+YM!L42+YM!N42)/4)","v":0},{"$f":"IF(ISBLANK(VG!P33),(YM!I42+YM!K42+YM!M42)/3,(YM!I42+YM!K42+YM!M42+YM!O42)/4)","v":0},0,0,0,0]
[{"$f":"VG!A70","v":""},{"$f":"VG!B70","v":0},null,{"$f":"VG!E70","v":0},null,{"$f":"VG!G70","v":0},{"$f":"VG!H70","v":0},{"$f":"VG!J70","v":0},{"$f":"VG!K70","v":0},{"$f":"VG!L70","v":0},{"$f":"VG!M70","v":0},{"$f":"VG!N70","v":0},{"$f":"VG!O70","v":0},{"$f":"IF(ISBLANK(VG!P70),\"\",VG!P70)","v":""},{"$f":"VG!Q70","v":""},{"$f":"IF(ISBLANK(VG!P33),(YM!H43+YM!J43+YM!L43)/3,(YM!H43+YM!J43+YM!L43+YM!N43)/4)","v":0},{"$f":"IF(ISBLANK(VG!P33),(YM!I43+YM!K43+YM!M43)/3,(YM!I43+YM!K43+YM!M43+YM!O43)/4)","v":0},0,0,0,0]
[{"$f":"VG!A71","v":""},{"$f":"VG!B71","v":0},null,{"$f":"VG!E71","v":0},null,{"$f":"VG!G71","v":0},{"$f":"VG!H71","v":0},{"$f":"VG!J71","v":0},{"$f":"VG!K71","v":0},{"$f":"VG!L71","v":0},{"$f":"VG!M71","v":0},{"$f":"VG!N71","v":0},{"$f":"VG!O71","v":0},{"$f":"IF(ISBLANK(VG!P71),\"\",VG!P71)","v":""},{"$f":"VG!Q71","v":""},{"$f":"IF(ISBLANK(VG!P33),(YM!H44+YM!J44+YM!L44)/3,(YM!H44+YM!J44+YM!L44+YM!N44)/4)","v":0},{"$f":"IF(ISBLANK(VG!P33),(YM!I44+YM!K44+YM!M44)/3,(YM!I44+YM!K44+YM!M44+YM!O44)/4)","v":0},0,0,0,0]
[{"$f":"VG!A72","v":""},{"$f":"VG!B72","v":0},null,{"$f":"VG!E72","v":0},null,{"$f":"VG!G72","v":0},{"$f":"VG!H72","v":0},{"$f":"VG!J72","v":0},{"$f":"VG!K72","v":0},{"$f":"VG!L72","v":0},{"$f":"VG!M72","v":0},{"$f":"VG!N72","v":0},{"$f":"VG!O72","v":0},{"$f":"IF(ISBLANK(VG!P72),\"\",VG!P72)","v":""},{"$f":"VG!Q72","v":""},{"$f":"IF(ISBLANK(VG!P33),(YM!H45+YM!J45+YM!L45)/3,(YM!H45+YM!J45+YM!L45+YM!N45)/4)","v":0},{"$f":"IF(ISBLANK(VG!P33),(YM!I45+YM!K45+YM!M45)/3,(YM!I45+YM!K45+YM!M45+YM!O45)/4)","v":0},0,0,0,0]
[{"$f":"VG!A73","v":""},{"$f":"VG!B73","v":0},null,{"$f":"VG!E73","v":0},null,{"$f":"VG!G73","v":0},{"$f":"VG!H73","v":0},{"$f":"VG!J73","v":0},{"$f":"VG!K73","v":0},{"$f":"VG!L73","v":0},{"$f":"VG!M73","v":0},{"$f":"VG!N73","v":0},{"$f":"VG!O73","v":0},{"$f":"IF(ISBLANK(VG!P73),\"\",VG!P73)","v":""},{"$f":"VG!Q73","v":""},{"$f":"IF(ISBLANK(VG!P33),(YM!H46+YM!J46+YM!L46)/3,(YM!H46+YM!J46+YM!L46+YM!N46)/4)","v":0},{"$f":"IF(ISBLANK(VG!P33),(YM!I46+YM!K46+YM!M46)/3,(YM!I46+YM!K46+YM!M46+YM!O46)/4)","v":0},0,0,0,0]
[{"$f":"VG!A74","v":""},{"$f":"VG!B74","v":0},null,{"$f":"VG!E74","v":0},null,{"$f":"VG!G74","v":0},{"$f":"VG!H74","v":0},{"$f":"VG!J74","v":0},{"$f":"VG!K74","v":0},{"$f":"VG!L74","v":0},{"$f":"VG!M74","v":0},{"$f":"VG!N74","v":0},{"$f":"VG!O74","v":0},{"$f":"IF(ISBLANK(VG!P74),\"\",VG!P74)","v":""},{"$f":"VG!Q74","v":""},{"$f":"IF(ISBLANK(VG!P33),(YM!H47+YM!J47+YM!L47)/3,(YM!H47+YM!J47+YM!L47+YM!N47)/4)","v":0},{"$f":"IF(ISBLANK(VG!P33),(YM!I47+YM!K47+YM!M47)/3,(YM!I47+YM!K47+YM!M47+YM!O47)/4)","v":0},0,0,0,0]
[{"$f":"VG!A75","v":""},{"$f":"VG!B75","v":0},null,{"$f":"VG!E75","v":0},null,{"$f":"VG!G75","v":0},{"$f":"VG!H75","v":0},{"$f":"VG!J75","v":0},{"$f":"VG!K75","v":0},{"$f":"VG!L75","v":0},{"$f":"VG!M75","v":0},{"$f":"VG!N75","v":0},{"$f":"VG!O75","v":0},{"$f":"IF(ISBLANK(VG!P75),\"\",VG!P75)","v":""},{"$f":"VG!Q75","v":""},{"$f":"IF(ISBLANK(VG!P33),(YM!H48+YM!J48+YM!L48)/3,(YM!H48+YM!J48+YM!L48+YM!N48)/4)","v":0},{"$f":"IF(ISBLANK(VG!P33),(YM!I48+YM!K48+YM!M48)/3,(YM!I48+YM!K48+YM!M48+YM!O48)/4)","v":0},0,0,0,0]
[{"$f":"VG!A76","v":""},{"$f":"VG!B76","v":0},null,{"$f":"VG!E76","v":0},null,{"$f":"VG!G76","v":0},{"$f":"VG!H76","v":0},{"$f":"VG!J76","v":0},{"$f":"VG!K76","v":0},{"$f":"VG!L76","v":0},{"$f":"VG!M76","v":0},{"$f":"VG!N76","v":0},{"$f":"VG!O76","v":0},{"$f":"IF(ISBLANK(VG!P76),\"\",VG!P76)","v":""},{"$f":"VG!Q76","v":""},{"$f":"IF(ISBLANK(VG!P33),(YM!H49+YM!J49+YM!L49)/3,(YM!H49+YM!J49+YM!L49+YM!N49)/4)","v":0},{"$f":"IF(ISBLANK(VG!P33),(YM!I49+YM!K49+YM!M49)/3,(YM!I49+YM!K49+YM!M49+YM!O49)/4)","v":0},0,0,0,0]
[{"$f":"VG!A77","v":""},{"$f":"VG!B77","v":0},null,{"$f":"VG!E77","v":0},null,{"$f":"VG!G77","v":0},{"$f":"VG!H77","v":0},{"$f":"VG!J77","v":0},{"$f":"VG!K77","v":0},{"$f":"VG!L77","v":0},{"$f":"VG!M77","v":0},{"$f":"VG!N77","v":0},{"$f":"VG!O77","v":0},{"$f":"IF(ISBLANK(VG!P77),\"\",VG!P77)","v":""},{"$f":"VG!Q77","v":""},{"$f":"IF(ISBLANK(VG!P33),(YM!H50+YM!J50+YM!L50)/3,(YM!H50+YM!J50+YM!L50+YM!N50)/4)","v":0},{"$f":"IF(ISBLANK(VG!P33),(YM!I50+YM!K50+YM!M50)/3,(YM!I50+YM!K50+YM!M50+YM!O50)/4)","v":0},0,0,0,0]
[{"$f":"VG!A78","v":""},{"$f":"VG!B78","v":0},null,{"$f":"VG!E78","v":0},null,{"$f":"VG!G78","v":0},{"$f":"VG!H78","v":0},{"$f":"VG!J78","v":0},{"$f":"VG!K78","v":0},{"$f":"VG!L78","v":0},{"$f":"VG!M78","v":0},{"$f":"VG!N78","v":0},{"$f":"VG!O78","v":0},{"$f":"IF(ISBLANK(VG!P78),\"\",VG!P78)","v":""},{"$f":"VG!Q78","v":""},{"$f":"IF(ISBLANK(VG!P33),(YM!H51+YM!J51+YM!L51)/3,(YM!H51+YM!J51+YM!L51+YM!N51)/4)","v":0},{"$f":"IF(ISBLANK(VG!P33),(YM!I51+YM!K51+YM!M51)/3,(YM!I51+YM!K51+YM!M51+YM!O51)/4)","v":0},0,0,0,0]
[{"$f":"VG!A79","v":""},{"$f":"VG!B79","v":0},null,{"$f":"VG!E79","v":0},null,{"$f":"VG!G79","v":0},{"$f":"VG!H79","v":0},{"$f":"VG!J79","v":0},{"$f":"VG!K79","v":0},{"$f":"VG!L79","v":0},{"$f":"VG!M79","v":0},{"$f":"VG!N79","v":0},{"$f":"VG!O79","v":0},{"$f":"IF(ISBLANK(VG!P79),\"\",VG!P79)","v":""},{"$f":"VG!Q79","v":""},{"$f":"IF(ISBLANK(VG!P33),(YM!H52+YM!J52+YM!L52)/3,(YM!H52+YM!J52+YM!L52+YM!N52)/4)","v":0},{"$f":"IF(ISBLANK(VG!P33),(YM!I52+YM!K52+YM!M52)/3,(YM!I52+YM!K52+YM!M52+YM!O52)/4)","v":0},0,0,0,0]
[{"$f":"VG!A80","v":""},{"$f":"VG!B80","v":0},null,{"$f":"VG!E80","v":0},null,{"$f":"VG!G80","v":0},{"$f":"VG!H80","v":0},{"$f":"VG!J80","v":0},{"$f":"VG!K80","v":0},{"$f":"VG!L80","v":0},{"$f":"VG!M80","v":0},{"$f":"VG!N80","v":0},{"$f":"VG!O80","v":0},{"$f":"IF(ISBLANK(VG!P80),\"\",VG!P80)","v":""},{"$f":"VG!Q80","v":""},{"$f":"IF(ISBLANK(VG!P33),(YM!H53+YM!J53+YM!L53)/3,(YM!H53+YM!J53+YM!L53+YM!N53)/4)","v":0},{"$f":"IF(ISBLANK(VG!P33),(YM!I53+YM!K53+YM!M53)/3,(YM!I53+YM!K53+YM!M53+YM!O53)/4)","v":0},0,0,0,0]
[{"$f":"VG!A81","v":""},{"$f":"VG!B81","v":0},null,{"$f":"VG!E81","v":0},null,{"$f":"VG!G81","v":0},{"$f":"VG!H81","v":0},{"$f":"VG!J81","v":0},{"$f":"VG!K81","v":0},{"$f":"VG!L81","v":0},{"$f":"VG!M81","v":0},{"$f":"VG!N81","v":0},{"$f":"VG!O81","v":0},{"$f":"IF(ISBLANK(VG!P81),\"\",VG!P81)","v":""},{"$f":"VG!Q81","v":""},{"$f":"IF(ISBLANK(VG!P33),(YM!H54+YM!J54+YM!L54)/3,(YM!H54+YM!J54+YM!L54+YM!N54)/4)","v":0},{"$f":"IF(ISBLANK(VG!P33),(YM!I54+YM!K54+YM!M54)/3,(YM!I54+YM!K54+YM!M54+YM!O54)/4)","v":0},0,0,0,0]
[{"$f":"VG!A82","v":""},{"$f":"VG!B82","v":0},null,{"$f":"VG!E82","v":0},null,{"$f":"VG!G82","v":0},{"$f":"VG!H82","v":0},{"$f":"VG!J82","v":0},{"$f":"VG!K82","v":0},{"$f":"VG!L82","v":0},{"$f":"VG!M82","v":0},{"$f":"VG!N82","v":0},{"$f":"VG!O82","v":0},{"$f":"IF(ISBLANK(VG!P82),\"\",VG!P82)","v":""},{"$f":"VG!Q82","v":""},{"$f":"IF(ISBLANK(VG!P33),(YM!H55+YM!J55+YM!L55)/3,(YM!H55+YM!J55+YM!L55+YM!N55)/4)","v":0},{"$f":"IF(ISBLANK(VG!P33),(YM!I55+YM!K55+YM!M55)/3,(YM!I55+YM!K55+YM!M55+YM!O55)/4)","v":0},0,0,0,0]
[{"$f":"VG!A83","v":""},{"$f":"VG!B83","v":0},null,{"$f":"VG!E83","v":0},null,{"$f":"VG!G83","v":0},{"$f":"VG!H83","v":0},{"$f":"VG!J83","v":0},{"$f":"VG!K83","v":0},{"$f":"VG!L83","v":0},{"$f":"VG!M83","v":0},{"$f":"VG!N83","v":0},{"$f":"VG!O83","v":0},{"$f":"IF(ISBLANK(VG!P83),\"\",VG!P83)","v":""},{"$f":"VG!Q83","v":""},{"$f":"IF(ISBLANK(VG!P33),(YM!H56+YM!J56+YM!L56)/3,(YM!H56+YM!J56+YM!L56+YM!N56)/4)","v":0},{"$f":"IF(ISBLANK(VG!P33),(YM!I56+YM!K56+YM!M56)/3,(YM!I56+YM!K56+YM!M56+YM!O56)/4)","v":0},0,0,0,0]
[{"$f":"VG!A84","v":""},{"$f":"VG!B84","v":0},null,{"$f":"VG!E84","v":0},null,{"$f":"VG!G84","v":0},{"$f":"VG!H84","v":0},{"$f":"VG!J84","v":0},{"$f":"VG!K84","v":0},{"$f":"VG!L84","v":0},{"$f":"VG!M84","v":0},{"$f":"VG!N84","v":0},{"$f":"VG!O84","v":0},{"$f":"IF(ISBLANK(VG!P84),\"\",VG!P84)","v":""},{"$f":"VG!Q84","v":""},{"$f":"IF(ISBLANK(VG!P33),(YM!H57+YM!J57+YM!L57)/3,(YM!H57+YM!J57+YM!L57+YM!N57)/4)","v":0},{"$f":"IF(ISBLANK(VG!P33),(YM!I57+YM!K57+YM!M57)/3,(YM!I57+YM!K57+YM!M57+YM!O57)/4)","v":0},0,0,0,0]
[{"$f":"VG!A85","v":""},{"$f":"VG!B85","v":0},null,{"$f":"VG!E85","v":0},null,{"$f":"VG!G85","v":0},{"$f":"VG!H85","v":0},{"$f":"VG!J85","v":0},{"$f":"VG!K85","v":0},{"$f":"VG!L85","v":0},{"$f":"VG!M85","v":0},{"$f":"VG!N85","v":0},{"$f":"VG!O85","v":0},{"$f":"IF(ISBLANK(VG!P85),\"\",VG!P85)","v":""},{"$f":"VG!Q85","v":""},{"$f":"IF(ISBLANK(VG!P33),(YM!H58+YM!J58+YM!L58)/3,(YM!H58+YM!J58+YM!L58+YM!N58)/4)","v":0},{"$f":"IF(ISBLANK(VG!P33),(YM!I58+YM!K58+YM!M58)/3,(YM!I58+YM!K58+YM!M58+YM!O58)/4)","v":0},0,0,0,0]
[{"$f":"VG!A86","v":""},{"$f":"VG!B86","v":0},null,{"$f":"VG!E86","v":0},null,{"$f":"VG!G86","v":0},{"$f":"VG!H86","v":0},{"$f":"VG!J86","v":0},{"$f":"VG!K86","v":0},{"$f":"VG!L86","v":0},{"$f":"VG!M86","v":0},{"$f":"VG!N86","v":0},{"$f":"VG!O86","v":0},{"$f":"IF(ISBLANK(VG!P86),\"\",VG!P86)","v":""},{"$f":"VG!Q86","v":""},{"$f":"IF(ISBLANK(VG!P33),(YM!H59+YM!J59+YM!L59)/3,(YM!H59+YM!J59+YM!L59+YM!N59)/4)","v":0},{"$f":"IF(ISBLANK(VG!P33),(YM!I59+YM!K59+YM!M59)/3,(YM!I59+YM!K59+YM!M59+YM!O59)/4)","v":0},0,0,0,0]
[{"$f":"VG!A87","v":""},{"$f":"VG!B87","v":0},null,{"$f":"VG!E87","v":0},null,{"$f":"VG!G87","v":0},{"$f":"VG!H87","v":0},{"$f":"VG!J87","v":0},{"$f":"VG!K87","v":0},{"$f":"VG!L87","v":0},{"$f":"VG!M87","v":0},{"$f":"VG!N87","v":0},{"$f":"VG!O87","v":0},{"$f":"IF(ISBLANK(VG!P87),\"\",VG!P87)","v":""},{"$f":"VG!Q87","v":""},{"$f":"IF(ISBLANK(VG!P33),(YM!H60+YM!J60+YM!L60)/3,(YM!H60+YM!J60+YM!L60+YM!N60)/4)","v":0},{"$f":"IF(ISBLANK(VG!P33),(YM!I60+YM!K60+YM!M60)/3,(YM!I60+YM!K60+YM!M60+YM!O60)/4)","v":0},0,0,0,0]
[{"$f":"VG!A88","v":""},{"$f":"VG!B88","v":0},null,{"$f":"VG!E88","v":0},null,{"$f":"VG!G88","v":0},{"$f":"VG!H88","v":0},{"$f":"VG!J88","v":0},{"$f":"VG!K88","v":0},{"$f":"VG!L88","v":0},{"$f":"VG!M88","v":0},{"$f":"VG!N88","v":0},{"$f":"VG!O88","v":0},{"$f":"IF(ISBLANK(VG!P88),\"\",VG!P88)","v":""},{"$f":"VG!Q88","v":""},{"$f":"IF(ISBLANK(VG!P33),(YM!H61+YM!J61+YM!L61)/3,(YM!H61+YM!J61+YM!L61+YM!N61)/4)","v":0},{"$f":"IF(ISBLANK(VG!P33),(YM!I61+YM!K61+YM!M61)/3,(YM!I61+YM!K61+YM!M61+YM!O61)/4)","v":0},0,0,0,0]
[{"$f":"VG!A89","v":""},{"$f":"VG!B89","v":0},null,{"$f":"VG!E89","v":0},null,{"$f":"VG!G89","v":0},{"$f":"VG!H89","v":0},{"$f":"VG!J89","v":0},{"$f":"VG!K89","v":0},{"$f":"VG!L89","v":0},{"$f":"VG!M89","v":0},{"$f":"VG!N89","v":0},{"$f":"VG!O89","v":0},{"$f":"IF(ISBLANK(VG!P89),\"\",VG!P89)","v":""},{"$f":"VG!Q89","v":""},{"$f":"IF(ISBLANK(VG!P33),(YM!H62+YM!J62+YM!L62)/3,(YM!H62+YM!J62+YM!L62+YM!N62)/4)","v":0},{"$f":"IF(ISBLANK(VG!P33),(YM!I62+YM!K62+YM!M62)/3,(YM!I62+YM!K62+YM!M62+YM!O62)/4)","v":0},0,0,0,0]
[{"$f":"VG!A90","v":""},{"$f":"VG!B90","v":0},null,{"$f":"VG!E90","v":0},null,{"$f":"VG!G90","v":0},{"$f":"VG!H90","v":0},{"$f":"VG!J90","v":0},{"$f":"VG!K90","v":0},{"$f":"VG!L90","v":0},{"$f":"VG!M90","v":0},{"$f":"VG!N90","v":0},{"$f":"VG!O90","v":0},{"$f":"IF(ISBLANK(VG!P90),\"\",VG!P90)","v":""},{"$f":"VG!Q90","v":""},{"$f":"IF(ISBLANK(VG!P33),(YM!H63+YM!J63+YM!L63)/3,(YM!H63+YM!J63+YM!L63+YM!N63)/4)","v":0},{"$f":"IF(ISBLANK(VG!P33),(YM!I63+YM!K63+YM!M63)/3,(YM!I63+YM!K63+YM!M63+YM!O63)/4)","v":0},0,0,0,0]
[{"$f":"VG!A91","v":""},{"$f":"VG!B91","v":0},null,{"$f":"VG!E91","v":0},null,{"$f":"VG!G91","v":0},{"$f":"VG!H91","v":0},{"$f":"VG!J91","v":0},{"$f":"VG!K91","v":0},{"$f":"VG!L91","v":0},{"$f":"VG!M91","v":0},{"$f":"VG!N91","v":0},{"$f":"VG!O91","v":0},{"$f":"IF(ISBLANK(VG!P91),\"\",VG!P91)","v":""},{"$f":"VG!Q91","v":""},{"$f":"IF(ISBLANK(VG!P33),(YM!H64+YM!J64+YM!L64)/3,(YM!H64+YM!J64+YM!L64+YM!N64)/4)","v":0},{"$f":"IF(ISBLANK(VG!P33),(YM!I64+YM!K64+YM!M64)/3,(YM!I64+YM!K64+YM!M64+YM!O64)/4)","v":0},0,0,0,0]
[{"$f":"VG!A92","v":""},{"$f":"VG!B92","v":0},null,{"$f":"VG!E92","v":0},null,{"$f":"VG!G92","v":0},{"$f":"VG!H92","v":0},{"$f":"VG!J92","v":0},{"$f":"VG!K92","v":0},{"$f":"VG!L92","v":0},{"$f":"VG!M92","v":0},{"$f":"VG!N92","v":0},{"$f":"VG!O92","v":0},{"$f":"IF(ISBLANK(VG!P92),\"\",VG!P92)","v":""},{"$f":"VG!Q92","v":""},{"$f":"IF(ISBLANK(VG!P33),(YM!H65+YM!J65+YM!L65)/3,(YM!H65+YM!J65+YM!L65+YM!N65)/4)","v":0},{"$f":"IF(ISBLANK(VG!P33),(YM!I65+YM!K65+YM!M65)/3,(YM!I65+YM!K65+YM!M65+YM!O65)/4)","v":0},0,0,0,0]
[{"$f":"VG!A93","v":""},{"$f":"VG!B93","v":0},null,{"$f":"VG!E93","v":0},null,{"$f":"VG!G93","v":0},{"$f":"VG!H93","v":0},{"$f":"VG!J93","v":0},{"$f":"VG!K93","v":0},{"$f":"VG!L93","v":0},{"$f":"VG!M93","v":0},{"$f":"VG!N93","v":0},{"$f":"VG!O93","v":0},{"$f":"IF(ISBLANK(VG!P93),\"\",VG!P93)","v":""},{"$f":"VG!Q93","v":""},{"$f":"IF(ISBLANK(VG!P33),(YM!H66+YM!J66+YM!L66)/3,(YM!H66+YM!J66+YM!L66+YM!N66)/4)","v":0},{"$f":"IF(ISBLANK(VG!P33),(YM!I66+YM!K66+YM!M66)/3,(YM!I66+YM!K66+YM!M66+YM!O66)/4)","v":0},0,0,0,0]
[{"$f":"VG!A94","v":""},{"$f":"VG!B94","v":0},null,{"$f":"VG!E94","v":0},null,{"$f":"VG!G94","v":0},{"$f":"VG!H94","v":0},{"$f":"VG!J94","v":0},{"$f":"VG!K94","v":0},{"$f":"VG!L94","v":0},{"$f":"VG!M94","v":0},{"$f":"VG!N94","v":0},{"$f":"VG!O94","v":0},{"$f":"IF(ISBLANK(VG!P94),\"\",VG!P94)","v":""},{"$f":"VG!Q94","v":""},{"$f":"IF(ISBLANK(VG!P33),(YM!H67+YM!J67+YM!L67)/3,(YM!H67+YM!J67+YM!L67+YM!N67)/4)","v":0},{"$f":"IF(ISBLANK(VG!P33),(YM!I67+YM!K67+YM!M67)/3,(YM!I67+YM!K67+YM!M67+YM!O67)/4)","v":0},0,0,0,0]
[{"$f":"VG!A95","v":""},{"$f":"VG!B95","v":0},null,{"$f":"VG!E95","v":0},null,{"$f":"VG!G95","v":0},{"$f":"VG!H95","v":0},{"$f":"VG!J95","v":0},{"$f":"VG!K95","v":0},{"$f":"VG!L95","v":0},{"$f":"VG!M95","v":0},{"$f":"VG!N95","v":0},{"$f":"VG!O95","v":0},{"$f":"IF(ISBLANK(VG!P95),\"\",VG!P95)","v":""},{"$f":"VG!Q95","v":""},{"$f":"IF(ISBLANK(VG!P33),(YM!H68+YM!J68+YM!L68)/3,(YM!H68+YM!J68+YM!L68+YM!N68)/4)","v":0},{"$f":"IF(ISBLANK(VG!P33),(YM!I68+YM!K68+YM!M68)/3,(YM!I68+YM!K68+YM!M68+YM!O68)/4)","v":0},0,0,0,0]
[{"$f":"VG!A96","v":""},{"$f":"VG!B96","v":0},null,{"$f":"VG!E96","v":0},null,{"$f":"VG!G96","v":0},{"$f":"VG!H96","v":0},{"$f":"VG!J96","v":0},{"$f":"VG!K96","v":0},{"$f":"VG!L96","v":0},{"$f":"VG!M96","v":0},{"$f":"VG!N96","v":0},{"$f":"VG!O96","v":0},{"$f":"IF(ISBLANK(VG!P96),\"\",VG!P96)","v":""},{"$f":"VG!Q96","v":""},{"$f":"IF(ISBLANK(VG!P33),(YM!H69+YM!J69+YM!L69)/3,(YM!H69+YM!J69+YM!L69+YM!N69)/4)","v":0},{"$f":"IF(ISBLANK(VG!P33),(YM!I69+YM!K69+YM!M69)/3,(YM!I69+YM!K69+YM!M69+YM!O69)/4)","v":0},0,0,0,0]
[{"$f":"VG!A97","v":""},{"$f":"VG!B97","v":0},null,{"$f":"VG!E97","v":0},null,{"$f":"VG!G97","v":0},{"$f":"VG!H97","v":0},{"$f":"VG!J97","v":0},{"$f":"VG!K97","v":0},{"$f":"VG!L97","v":0},{"$f":"VG!M97","v":0},{"$f":"VG!N97","v":0},{"$f":"VG!O97","v":0},{"$f":"IF(ISBLANK(VG!P97),\"\",VG!P97)","v":""},{"$f":"VG!Q97","v":""},{"$f":"IF(ISBLANK(VG!P33),(YM!H70+YM!J70+YM!L70)/3,(YM!H70+YM!J70+YM!L70+YM!N70)/4)","v":0},{"$f":"IF(ISBLANK(VG!P33),(YM!I70+YM!K70+YM!M70)/3,(YM!I70+YM!K70+YM!M70+YM!O70)/4)","v":0},0,0,0,0]
[{"$f":"VG!A98","v":""},{"$f":"VG!B98","v":0},null,{"$f":"VG!E98","v":0},null,{"$f":"VG!G98","v":0},{"$f":"VG!H98","v":0},{"$f":"VG!J98","v":0},{"$f":"VG!K98","v":0},{"$f":"VG!L98","v":0},{"$f":"VG!M98","v":0},{"$f":"VG!N98","v":0},{"$f":"VG!O98","v":0},{"$f":"IF(ISBLANK(VG!P98),\"\",VG!P98)","v":""},{"$f":"VG!Q98","v":""},{"$f":"IF(ISBLANK(VG!P33),(YM!H71+YM!J71+YM!L71)/3,(YM!H71+YM!J71+YM!L71+YM!N71)/4)","v":0},{"$f":"IF(ISBLANK(VG!P33),(YM!I71+YM!K71+YM!M71)/3,(YM!I71+YM!K71+YM!M71+YM!O71)/4)","v":0},0,0,0,0]
[{"$f":"VG!A99","v":""},{"$f":"VG!B99","v":0},null,{"$f":"VG!E99","v":0},null,{"$f":"VG!G99","v":0},{"$f":"VG!H99","v":0},{"$f":"VG!J99","v":0},{"$f":"VG!K99","v":0},{"$f":"VG!L99","v":0},{"$f":"VG!M99","v":0},{"$f":"VG!N99","v":0},{"$f":"VG!O99","v":0},{"$f":"IF(ISBLANK(VG!P99),\"\",VG!P99)","v":""},{"$f":"VG!Q99","v":""},{"$f":"IF(ISBLANK(VG!P33),(YM!H72+YM!J72+YM!L72)/3,(YM!H72+YM!J72+YM!L72+YM!N72)/4)","v":0},{"$f":"IF(ISBLANK(VG!P33),(YM!I72+YM!K72+YM!M72)/3,(YM!I72+YM!K72+YM!M72+YM!O72)/4)","v":0},0,0,0,0]
[{"$f":"VG!A100","v":""},{"$f":"VG!B100","v":0},null,{"$f":"VG!E100","v":0},null,{"$f":"VG!G100","v":0},{"$f":"VG!H100","v":0},{"$f":"VG!J100","v":0},{"$f":"VG!K100","v":0},{"$f":"VG!L100","v":0},{"$f":"VG!M100","v":0},{"$f":"VG!N100","v":0},{"$f":"VG!O100","v":0},{"$f":"IF(ISBLANK(VG!P100),\"\",VG!P100)","v":""},{"$f":"VG!Q100","v":""},{"$f":"IF(ISBLANK(VG!P33),(YM!H73+YM!J73+YM!L73)/3,(YM!H73+YM!J73+YM!L73+YM!N73)/4)","v":0},{"$f":"IF(ISBLANK(VG!P33),(YM!I73+YM!K73+YM!M73)/3,(YM!I73+YM!K73+YM!M73+YM!O73)/4)","v":0},{"$f":"H73+J73+L73","v":0},{"$f":"SUM(H73,J73,L73,N73)","v":0},{"$f":"SUM(I73,K73,M73)","v":0},{"$f":"SUM(I73,K73,M73,O73)","v":0}]
[{"$f":"VG!A101","v":""},{"$f":"VG!B101","v":0},null,{"$f":"VG!E101","v":0},null,{"$f":"VG!G101","v":0},{"$f":"VG!H101","v":0},{"$f":"VG!J101","v":0},{"$f":"VG!K101","v":0},{"$f":"VG!L101","v":0},{"$f":"VG!M101","v":0},{"$f":"VG!N101","v":0},{"$f":"VG!O101","v":0},{"$f":"IF(ISBLANK(VG!P101),\"\",VG!P101)","v":""},{"$f":"VG!Q101","v":""},{"$f":"IF(ISBLANK(VG!P33),(YM!H74+YM!J74+YM!L74)/3,(YM!H74+YM!J74+YM!L74+YM!N74)/4)","v":0},{"$f":"IF(ISBLANK(VG!P33),(YM!I74+YM!K74+YM!M74)/3,(YM!I74+YM!K74+YM!M74+YM!O74)/4)","v":0},0,0,0,0]
[{"$f":"VG!A102","v":""},{"$f":"VG!B102","v":0},null,{"$f":"VG!E102","v":0},null,{"$f":"VG!G102","v":0},{"$f":"VG!H102","v":0},{"$f":"VG!J102","v":0},{"$f":"VG!K102","v":0},{"$f":"VG!L102","v":0},{"$f":"VG!M102","v":0},{"$f":"VG!N102","v":0},{"$f":"VG!O102","v":0},{"$f":"IF(ISBLANK(VG!P102),\"\",VG!P102)","v":""},{"$f":"VG!Q102","v":""},{"$f":"IF(ISBLANK(VG!P33),(YM!H75+YM!J75+YM!L75)/3,(YM!H75+YM!J75+YM!L75+YM!N75)/4)","v":0},{"$f":"IF(ISBLANK(VG!P33),(YM!I75+YM!K75+YM!M75)/3,(YM!I75+YM!K75+YM!M75+YM!O75)/4)","v":0},0,0,0,0]
[{"$f":"VG!A103","v":""},{"$f":"VG!B103","v":0},null,{"$f":"VG!E103","v":0},null,{"$f":"VG!G103","v":0},{"$f":"VG!H103","v":0},{"$f":"VG!J103","v":0},{"$f":"VG!K103","v":0},{"$f":"VG!L103","v":0},{"$f":"VG!M103","v":0},{"$f":"VG!N103","v":0},{"$f":"VG!O103","v":0},{"$f":"IF(ISBLANK(VG!P103),\"\",VG!P103)","v":""},{"$f":"VG!Q103","v":""},{"$f":"IF(ISBLANK(VG!P33),(YM!H76+YM!J76+YM!L76)/3,(YM!H76+YM!J76+YM!L76+YM!N76)/4)","v":0},{"$f":"IF(ISBLANK(VG!P33),(YM!I76+YM!K76+YM!M76)/3,(YM!I76+YM!K76+YM!M76+YM!O76)/4)","v":0},0,0,0,0]
[{"$f":"VG!A104","v":""},{"$f":"VG!B104","v":0},null,{"$f":"VG!E104","v":0},null,{"$f":"VG!G104","v":0},{"$f":"VG!H104","v":0},{"$f":"VG!J104","v":0},{"$f":"VG!K104","v":0},{"$f":"VG!L104","v":0},{"$f":"VG!M104","v":0},{"$f":"VG!N104","v":0},{"$f":"VG!O104","v":0},{"$f":"IF(ISBLANK(VG!P104),\"\",VG!P104)","v":""},{"$f":"VG!Q104","v":""},{"$f":"IF(ISBLANK(VG!P33),(YM!H77+YM!J77+YM!L77)/3,(YM!H77+YM!J77+YM!L77+YM!N77)/4)","v":0},{"$f":"IF(ISBLANK(VG!P33),(YM!I77+YM!K77+YM!M77)/3,(YM!I77+YM!K77+YM!M77+YM!O77)/4)","v":0},0,0,0,0]
[{"$f":"VG!A105","v":""},{"$f":"VG!B105","v":0},null,{"$f":"VG!E105","v":0},null,{"$f":"VG!G105","v":0},{"$f":"VG!H105","v":0},{"$f":"VG!J105","v":0},{"$f":"VG!K105","v":0},{"$f":"VG!L105","v":0},{"$f":"VG!M105","v":0},{"$f":"VG!N105","v":0},{"$f":"VG!O105","v":0},{"$f":"IF(ISBLANK(VG!P105),\"\",VG!P105)","v":""},{"$f":"VG!Q105","v":""},{"$f":"IF(ISBLANK(VG!P33),(YM!H78+YM!J78+YM!L78)/3,(YM!H78+YM!J78+YM!L78+YM!N78)/4)","v":0},{"$f":"IF(ISBLANK(VG!P33),(YM!I78+YM!K78+YM!M78)/3,(YM!I78+YM!K78+YM!M78+YM!O78)/4)","v":0},0,0,0,0]
[{"$f":"VG!A106","v":""},{"$f":"VG!B106","v":0},null,{"$f":"VG!E106","v":0},null,{"$f":"VG!G106","v":0},{"$f":"VG!H106","v":0},{"$f":"VG!J106","v":0},{"$f":"VG!K106","v":0},{"$f":"VG!L106","v":0},{"$f":"VG!M106","v":0},{"$f":"VG!N106","v":0},{"$f":"VG!O106","v":0},{"$f":"IF(ISBLANK(VG!P106),\"\",VG!P106)","v":""},{"$f":"VG!Q106","v":""},{"$f":"IF(ISBLANK(VG!P33),(YM!H79+YM!J79+YM!L79)/3,(YM!H79+YM!J79+YM!L79+YM!N79)/4)","v":0},{"$f":"IF(ISBLANK(VG!P33),(YM!I79+YM!K79+YM!M79)/3,(YM!I79+YM!K79+YM!M79+YM!O79)/4)","v":0},0,0,0,0]
[{"$f":"VG!A107","v":""},{"$f":"VG!B107","v":0},null,{"$f":"VG!E107","v":0},null,{"$f":"VG!G107","v":0},{"$f":"VG!H107","v":0},{"$f":"VG!J107","v":0},{"$f":"VG!K107","v":0},{"$f":"VG!L107","v":0},{"$f":"VG!M107","v":0},{"$f":"VG!N107","v":0},{"$f":"VG!O107","v":0},{"$f":"IF(ISBLANK(VG!P107),\"\",VG!P107)","v":""},{"$f":"VG!Q107","v":""},{"$f":"IF(ISBLANK(VG!P33),(YM!H80+YM!J80+YM!L80)/3,(YM!H80+YM!J80+YM!L80+YM!N80)/4)","v":0},{"$f":"IF(ISBLANK(VG!P33),(YM!I80+YM!K80+YM!M80)/3,(YM!I80+YM!K80+YM!M80+YM!O80)/4)","v":0},0,0,0,0]
[{"$f":"VG!A108","v":""},{"$f":"VG!B108","v":0},null,{"$f":"VG!E108","v":0},null,{"$f":"VG!G108","v":0},{"$f":"VG!H108","v":0},{"$f":"VG!J108","v":0},{"$f":"VG!K108","v":0},{"$f":"VG!L108","v":0},{"$f":"VG!M108","v":0},{"$f":"VG!N108","v":0},{"$f":"VG!O108","v":0},{"$f":"IF(ISBLANK(VG!P108),\"\",VG!P108)","v":""},{"$f":"VG!Q108","v":""},{"$f":"IF(ISBLANK(VG!P33),(YM!H81+YM!J81+YM!L81)/3,(YM!H81+YM!J81+YM!L81+YM!N81)/4)","v":0},{"$f":"IF(ISBLANK(VG!P33),(YM!I81+YM!K81+YM!M81)/3,(YM!I81+YM!K81+YM!M81+YM!O81)/4)","v":0},0,0,0,0]
[{"$f":"VG!A109","v":""},{"$f":"VG!B109","v":0},null,{"$f":"VG!E109","v":0},null,{"$f":"VG!G109","v":0},{"$f":"VG!H109","v":0},{"$f":"VG!J109","v":0},{"$f":"VG!K109","v":0},{"$f":"VG!L109","v":0},{"$f":"VG!M109","v":0},{"$f":"VG!N109","v":0},{"$f":"VG!O109","v":0},{"$f":"IF(ISBLANK(VG!P109),\"\",VG!P109)","v":""},{"$f":"VG!Q109","v":""},{"$f":"IF(ISBLANK(VG!P33),(YM!H82+YM!J82+YM!L82)/3,(YM!H82+YM!J82+YM!L82+YM!N82)/4)","v":0},{"$f":"IF(ISBLANK(VG!P33),(YM!I82+YM!K82+YM!M82)/3,(YM!I82+YM!K82+YM!M82+YM!O82)/4)","v":0},0,0,0,0]
[{"$f":"VG!A110","v":""},{"$f":"VG!B110","v":0},null,{"$f":"VG!E110","v":0},null,{"$f":"VG!G110","v":0},{"$f":"VG!H110","v":0},{"$f":"VG!J110","v":0},{"$f":"VG!K110","v":0},{"$f":"VG!L110","v":0},{"$f":"VG!M110","v":0},{"$f":"VG!N110","v":0},{"$f":"VG!O110","v":0},{"$f":"IF(ISBLANK(VG!P110),\"\",VG!P110)","v":""},{"$f":"VG!Q110","v":""},{"$f":"IF(ISBLANK(VG!P33),(YM!H83+YM!J83+YM!L83)/3,(YM!H83+YM!J83+YM!L83+YM!N83)/4)","v":0},{"$f":"IF(ISBLANK(VG!P33),(YM!I83+YM!K83+YM!M83)/3,(YM!I83+YM!K83+YM!M83+YM!O83)/4)","v":0},0,0,0,0]
[{"$f":"VG!A111","v":""},{"$f":"VG!B111","v":0},null,{"$f":"VG!E111","v":0},null,{"$f":"VG!G111","v":0},{"$f":"VG!H111","v":0},{"$f":"VG!J111","v":0},{"$f":"VG!K111","v":0},{"$f":"VG!L111","v":0},{"$f":"VG!M111","v":0},{"$f":"VG!N111","v":0},{"$f":"VG!O111","v":0},{"$f":"IF(ISBLANK(VG!P111),\"\",VG!P111)","v":""},{"$f":"VG!Q111","v":""},{"$f":"IF(ISBLANK(VG!P33),(YM!H84+YM!J84+YM!L84)/3,(YM!H84+YM!J84+YM!L84+YM!N84)/4)","v":0},{"$f":"IF(ISBLANK(VG!P33),(YM!I84+YM!K84+YM!M84)/3,(YM!I84+YM!K84+YM!M84+YM!O84)/4)","v":0},0,0,0,0]
[{"$f":"VG!A112","v":""},{"$f":"VG!B112","v":0},null,{"$f":"VG!E112","v":0},null,{"$f":"VG!G112","v":0},{"$f":"VG!H112","v":0},{"$f":"VG!J112","v":0},{"$f":"VG!K112","v":0},{"$f":"VG!L112","v":0},{"$f":"VG!M112","v":0},{"$f":"VG!N112","v":0},{"$f":"VG!O112","v":0},{"$f":"IF(ISBLANK(VG!P112),\"\",VG!P112)","v":""},{"$f":"VG!Q112","v":""},{"$f":"IF(ISBLANK(VG!P33),(YM!H85+YM!J85+YM!L85)/3,(YM!H85+YM!J85+YM!L85+YM!N85)/4)","v":0},{"$f":"IF(ISBLANK(VG!P33),(YM!I85+YM!K85+YM!M85)/3,(YM!I85+YM!K85+YM!M85+YM!O85)/4)","v":0},0,0,0,0]
[{"$f":"VG!A113","v":""},{"$f":"VG!B113","v":0},null,{"$f":"VG!E113","v":0},null,{"$f":"VG!G113","v":0},{"$f":"VG!H113","v":0},{"$f":"VG!J113","v":0},{"$f":"VG!K113","v":0},{"$f":"VG!L113","v":0},{"$f":"VG!M113","v":0},{"$f":"VG!N113","v":0},{"$f":"VG!O113","v":0},{"$f":"IF(ISBLANK(VG!P113),\"\",VG!P113)","v":""},{"$f":"VG!Q113","v":""},{"$f":"IF(ISBLANK(VG!P33),(YM!H86+YM!J86+YM!L86)/3,(YM!H86+YM!J86+YM!L86+YM!N86)/4)","v":0},{"$f":"IF(ISBLANK(VG!P33),(YM!I86+YM!K86+YM!M86)/3,(YM!I86+YM!K86+YM!M86+YM!O86)/4)","v":0},0,0,0,0]
[{"$f":"VG!A114","v":""},{"$f":"VG!B114","v":0},null,{"$f":"VG!E114","v":0},null,{"$f":"VG!G114","v":0},{"$f":"VG!H114","v":0},{"$f":"VG!J114","v":0},{"$f":"VG!K114","v":0},{"$f":"VG!L114","v":0},{"$f":"VG!M114","v":0},{"$f":"VG!N114","v":0},{"$f":"VG!O114","v":0},{"$f":"IF(ISBLANK(VG!P114),\"\",VG!P114)","v":""},{"$f":"VG!Q114","v":""},{"$f":"IF(ISBLANK(VG!P33),(YM!H87+YM!J87+YM!L87)/3,(YM!H87+YM!J87+YM!L87+YM!N87)/4)","v":0},{"$f":"IF(ISBLANK(VG!P33),(YM!I87+YM!K87+YM!M87)/3,(YM!I87+YM!K87+YM!M87+YM!O87)/4)","v":0},0,0,0,0]
[{"$f":"VG!A115","v":""},{"$f":"VG!B115","v":0},null,{"$f":"VG!E115","v":0},null,{"$f":"VG!G115","v":0},{"$f":"VG!H115","v":0},{"$f":"VG!J115","v":0},{"$f":"VG!K115","v":0},{"$f":"VG!L115","v":0},{"$f":"VG!M115","v":0},{"$f":"VG!N115","v":0},{"$f":"VG!O115","v":0},{"$f":"IF(ISBLANK(VG!P115),\"\",VG!P115)","v":""},{"$f":"VG!Q115","v":""},{"$f":"IF(ISBLANK(VG!P33),(YM!H88+YM!J88+YM!L88)/3,(YM!H88+YM!J88+YM!L88+YM!N88)/4)","v":0},{"$f":"IF(ISBLANK(VG!P33),(YM!I88+YM!K88+YM!M88)/3,(YM!I88+YM!K88+YM!M88+YM!O88)/4)","v":0},0,0,0,0]
[{"$f":"VG!A116","v":""},{"$f":"VG!B116","v":0},null,{"$f":"VG!E116","v":0},null,{"$f":"VG!G116","v":0},{"$f":"VG!H116","v":0},{"$f":"VG!J116","v":0},{"$f":"VG!K116","v":0},{"$f":"VG!L116","v":0},{"$f":"VG!M116","v":0},{"$f":"VG!N116","v":0},{"$f":"VG!O116","v":0},{"$f":"IF(ISBLANK(VG!P116),\"\",VG!P116)","v":""},{"$f":"VG!Q116","v":""},{"$f":"IF(ISBLANK(VG!P33),(YM!H89+YM!J89+YM!L89)/3,(YM!H89+YM!J89+YM!L89+YM!N89)/4)","v":0},{"$f":"IF(ISBLANK(VG!P33),(YM!I89+YM!K89+YM!M89)/3,(YM!I89+YM!K89+YM!M89+YM!O89)/4)","v":0},0,0,0,0]
[{"$f":"VG!A117","v":""},{"$f":"VG!B117","v":0},null,{"$f":"VG!E117","v":0},null,{"$f":"VG!G117","v":0},{"$f":"VG!H117","v":0},{"$f":"VG!J117","v":0},{"$f":"VG!K117","v":0},{"$f":"VG!L117","v":0},{"$f":"VG!M117","v":0},{"$f":"VG!N117","v":0},{"$f":"VG!O117","v":0},{"$f":"IF(ISBLANK(VG!P117),\"\",VG!P117)","v":""},{"$f":"VG!Q117","v":""},{"$f":"IF(ISBLANK(VG!P33),(YM!H90+YM!J90+YM!L90)/3,(YM!H90+YM!J90+YM!L90+YM!N90)/4)","v":0},{"$f":"IF(ISBLANK(VG!P33),(YM!I90+YM!K90+YM!M90)/3,(YM!I90+YM!K90+YM!M90+YM!O90)/4)","v":0},0,0,0,0]
[{"$f":"VG!A118","v":""},{"$f":"VG!B118","v":0},null,{"$f":"VG!E118","v":0},null,{"$f":"VG!G118","v":0},{"$f":"VG!H118","v":0},{"$f":"VG!J118","v":0},{"$f":"VG!K118","v":0},{"$f":"VG!L118","v":0},{"$f":"VG!M118","v":0},{"$f":"VG!N118","v":0},{"$f":"VG!O118","v":0},{"$f":"IF(ISBLANK(VG!P118),\"\",VG!P118)","v":""},{"$f":"VG!Q118","v":""},{"$f":"IF(ISBLANK(VG!P33),(YM!H91+YM!J91+YM!L91)/3,(YM!H91+YM!J91+YM!L91+YM!N91)/4)","v":0},{"$f":"IF(ISBLANK(VG!P33),(YM!I91+YM!K91+YM!M91)/3,(YM!I91+YM!K91+YM!M91+YM!O91)/4)","v":0},0,0,0,0]
[{"$f":"VG!A119","v":""},{"$f":"VG!B119","v":0},null,{"$f":"VG!E119","v":0},null,{"$f":"VG!G119","v":0},{"$f":"VG!H119","v":0},{"$f":"VG!J119","v":0},{"$f":"VG!K119","v":0},{"$f":"VG!L119","v":0},{"$f":"VG!M119","v":0},{"$f":"VG!N119","v":0},{"$f":"VG!O119","v":0},{"$f":"IF(ISBLANK(VG!P119),\"\",VG!P119)","v":""},{"$f":"VG!Q119","v":""},{"$f":"IF(ISBLANK(VG!P33),(YM!H92+YM!J92+YM!L92)/3,(YM!H92+YM!J92+YM!L92+YM!N92)/4)","v":0},{"$f":"IF(ISBLANK(VG!P33),(YM!I92+YM!K92+YM!M92)/3,(YM!I92+YM!K92+YM!M92+YM!O92)/4)","v":0},0,0,0,0]
[{"$f":"VG!A120","v":""},{"$f":"VG!B120","v":0},null,{"$f":"VG!E120","v":0},null,{"$f":"VG!G120","v":0},{"$f":"VG!H120","v":0},{"$f":"VG!J120","v":0},{"$f":"VG!K120","v":0},{"$f":"VG!L120","v":0},{"$f":"VG!M120","v":0},{"$f":"VG!N120","v":0},{"$f":"VG!O120","v":0},{"$f":"IF(ISBLANK(VG!P120),\"\",VG!P120)","v":""},{"$f":"VG!Q120","v":""},{"$f":"IF(ISBLANK(VG!P33),(YM!H93+YM!J93+YM!L93)/3,(YM!H93+YM!J93+YM!L93+YM!N93)/4)","v":0},{"$f":"IF(ISBLANK(VG!P33),(YM!I93+YM!K93+YM!M93)/3,(YM!I93+YM!K93+YM!M93+YM!O93)/4)","v":0},0,0,0,0]
[{"$f":"VG!A121","v":""},{"$f":"VG!B121","v":0},null,{"$f":"VG!E121","v":0},null,{"$f":"VG!G121","v":0},{"$f":"VG!H121","v":0},{"$f":"VG!J121","v":0},{"$f":"VG!K121","v":0},{"$f":"VG!L121","v":0},{"$f":"VG!M121","v":0},{"$f":"VG!N121","v":0},{"$f":"VG!O121","v":0},{"$f":"IF(ISBLANK(VG!P121),\"\",VG!P121)","v":""},{"$f":"VG!Q121","v":""},{"$f":"IF(ISBLANK(VG!P33),(YM!H94+YM!J94+YM!L94)/3,(YM!H94+YM!J94+YM!L94+YM!N94)/4)","v":0},{"$f":"IF(ISBLANK(VG!P33),(YM!I94+YM!K94+YM!M94)/3,(YM!I94+YM!K94+YM!M94+YM!O94)/4)","v":0},0,0,0,0]
[{"$f":"VG!A122","v":""},{"$f":"VG!B122","v":0},null,{"$f":"VG!E122","v":0},null,{"$f":"VG!G122","v":0},{"$f":"VG!H122","v":0},{"$f":"VG!J122","v":0},{"$f":"VG!K122","v":0},{"$f":"VG!L122","v":0},{"$f":"VG!M122","v":0},{"$f":"VG!N122","v":0},{"$f":"VG!O122","v":0},{"$f":"IF(ISBLANK(VG!P122),\"\",VG!P122)","v":""},{"$f":"VG!Q122","v":""},{"$f":"IF(ISBLANK(VG!P33),(YM!H95+YM!J95+YM!L95)/3,(YM!H95+YM!J95+YM!L95+YM!N95)/4)","v":0},{"$f":"IF(ISBLANK(VG!P33),(YM!I95+YM!K95+YM!M95)/3,(YM!I95+YM!K95+YM!M95+YM!O95)/4)","v":0},0,0,0,0]
[{"$f":"VG!A123","v":""},{"$f":"VG!B123","v":0},null,{"$f":"VG!E123","v":0},null,{"$f":"VG!G123","v":0},{"$f":"VG!H123","v":0},{"$f":"VG!J123","v":0},{"$f":"VG!K123","v":0},{"$f":"VG!L123","v":0},{"$f":"VG!M123","v":0},{"$f":"VG!N123","v":0},{"$f":"VG!O123","v":0},{"$f":"IF(ISBLANK(VG!P123),\"\",VG!P123)","v":""},{"$f":"VG!Q123","v":""},{"$f":"IF(ISBLANK(VG!P33),(YM!H96+YM!J96+YM!L96)/3,(YM!H96+YM!J96+YM!L96+YM!N96)/4)","v":0},{"$f":"IF(ISBLANK(VG!P33),(YM!I96+YM!K96+YM!M96)/3,(YM!I96+YM!K96+YM!M96+YM!O96)/4)","v":0},0,0,0,0]
[{"$f":"VG!A124","v":""},{"$f":"VG!B124","v":0},null,{"$f":"VG!E124","v":0},null,{"$f":"VG!G124","v":0},{"$f":"VG!H124","v":0},{"$f":"VG!J124","v":0},{"$f":"VG!K124","v":0},{"$f":"VG!L124","v":0},{"$f":"VG!M124","v":0},{"$f":"VG!N124","v":0},{"$f":"VG!O124","v":0},{"$f":"IF(ISBLANK(VG!P124),\"\",VG!P124)","v":""},{"$f":"VG!Q124","v":""},{"$f":"IF(ISBLANK(VG!P33),(YM!H97+YM!J97+YM!L97)/3,(YM!H97+YM!J97+YM!L97+YM!N97)/4)","v":0},{"$f":"IF(ISBLANK(VG!P33),(YM!I97+YM!K97+YM!M97)/3,(YM!I97+YM!K97+YM!M97+YM!O97)/4)","v":0},0,0,0,0]
[{"$f":"VG!A125","v":""},{"$f":"VG!B125","v":0},null,{"$f":"VG!E125","v":0},null,{"$f":"VG!G125","v":0},{"$f":"VG!H125","v":0},{"$f":"VG!J125","v":0},{"$f":"VG!K125","v":0},{"$f":"VG!L125","v":0},{"$f":"VG!M125","v":0},{"$f":"VG!N125","v":0},{"$f":"VG!O125","v":0},{"$f":"IF(ISBLANK(VG!P125),\"\",VG!P125)","v":""},{"$f":"VG!Q125","v":""},{"$f":"IF(ISBLANK(VG!P33),(YM!H98+YM!J98+YM!L98)/3,(YM!H98+YM!J98+YM!L98+YM!N98)/4)","v":0},{"$f":"IF(ISBLANK(VG!P33),(YM!I98+YM!K98+YM!M98)/3,(YM!I98+YM!K98+YM!M98+YM!O98)/4)","v":0},0,0,0,0]
[{"$f":"VG!A126","v":""},{"$f":"VG!B126","v":0},null,{"$f":"VG!E126","v":0},null,{"$f":"VG!G126","v":0},{"$f":"VG!H126","v":0},{"$f":"VG!J126","v":0},{"$f":"VG!K126","v":0},{"$f":"VG!L126","v":0},{"$f":"VG!M126","v":0},{"$f":"VG!N126","v":0},{"$f":"VG!O126","v":0},{"$f":"IF(ISBLANK(VG!P126),\"\",VG!P126)","v":""},{"$f":"VG!Q126","v":""},{"$f":"IF(ISBLANK(VG!P33),(YM!H99+YM!J99+YM!L99)/3,(YM!H99+YM!J99+YM!L99+YM!N99)/4)","v":0},{"$f":"IF(ISBLANK(VG!P33),(YM!I99+YM!K99+YM!M99)/3,(YM!I99+YM!K99+YM!M99+YM!O99)/4)","v":0},0,0,0,0]
[{"$f":"VG!A127","v":""},{"$f":"VG!B127","v":0},null,{"$f":"VG!E127","v":0},null,{"$f":"VG!G127","v":0},{"$f":"VG!H127","v":0},{"$f":"VG!J127","v":0},{"$f":"VG!K127","v":0},{"$f":"VG!L127","v":0},{"$f":"VG!M127","v":0},{"$f":"VG!N127","v":0},{"$f":"VG!O127","v":0},{"$f":"IF(ISBLANK(VG!P127),\"\",VG!P127)","v":""},{"$f":"VG!Q127","v":""},{"$f":"IF(ISBLANK(VG!P33),(YM!H100+YM!J100+YM!L100)/3,(YM!H100+YM!J100+YM!L100+YM!N100)/4)","v":0},{"$f":"IF(ISBLANK(VG!P33),(YM!I100+YM!K100+YM!M100)/3,(YM!I100+YM!K100+YM!M100+YM!O100)/4)","v":0},0,0,0,0]
[{"$f":"VG!A128","v":""},{"$f":"VG!B128","v":0},null,{"$f":"VG!E128","v":0},null,{"$f":"VG!G128","v":0},{"$f":"VG!H128","v":0},{"$f":"VG!J128","v":0},{"$f":"VG!K128","v":0},{"$f":"VG!L128","v":0},{"$f":"VG!M128","v":0},{"$f":"VG!N128","v":0},{"$f":"VG!O128","v":0},{"$f":"IF(ISBLANK(VG!P128),\"\",VG!P128)","v":""},{"$f":"VG!Q128","v":""},{"$f":"IF(ISBLANK(VG!P33),(YM!H101+YM!J101+YM!L101)/3,(YM!H101+YM!J101+YM!L101+YM!N101)/4)","v":0},{"$f":"IF(ISBLANK(VG!P33),(YM!I101+YM!K101+YM!M101)/3,(YM!I101+YM!K101+YM!M101+YM!O101)/4)","v":0},0,0,0,0]
[{"$f":"VG!A129","v":""},{"$f":"VG!B129","v":0},null,{"$f":"VG!E129","v":0},null,{"$f":"VG!G129","v":0},{"$f":"VG!H129","v":0},{"$f":"VG!J129","v":0},{"$f":"VG!K129","v":0},{"$f":"VG!L129","v":0},{"$f":"VG!M129","v":0},{"$f":"VG!N129","v":0},{"$f":"VG!O129","v":0},{"$f":"IF(ISBLANK(VG!P129),\"\",VG!P129)","v":""},{"$f":"VG!Q129","v":""},{"$f":"IF(ISBLANK(VG!P33),(YM!H102+YM!J102+YM!L102)/3,(YM!H102+YM!J102+YM!L102+YM!N102)/4)","v":0},{"$f":"IF(ISBLANK(VG!P33),(YM!I102+YM!K102+YM!M102)/3,(YM!I102+YM!K102+YM!M102+YM!O102)/4)","v":0},0,0,0,0]
[{"$f":"VG!A130","v":""},{"$f":"VG!B130","v":0},null,{"$f":"VG!E130","v":0},null,{"$f":"VG!G130","v":0},{"$f":"VG!H130","v":0},{"$f":"VG!J130","v":0},{"$f":"VG!K130","v":0},{"$f":"VG!L130","v":0},{"$f":"VG!M130","v":0},{"$f":"VG!N130","v":0},{"$f":"VG!O130","v":0},{"$f":"IF(ISBLANK(VG!P130),\"\",VG!P130)","v":""},{"$f":"VG!Q130","v":""},{"$f":"IF(ISBLANK(VG!P33),(YM!H103+YM!J103+YM!L103)/3,(YM!H103+YM!J103+YM!L103+YM!N103)/4)","v":0},{"$f":"IF(ISBLANK(VG!P33),(YM!I103+YM!K103+YM!M103)/3,(YM!I103+YM!K103+YM!M103+YM!O103)/4)","v":0},0,0,0,0]
[{"$f":"VG!A131","v":""},{"$f":"VG!B131","v":0},null,{"$f":"VG!E131","v":0},null,{"$f":"VG!G131","v":0},{"$f":"VG!H131","v":0},{"$f":"VG!J131","v":0},{"$f":"VG!K131","v":0},{"$f":"VG!L131","v":0},{"$f":"VG!M131","v":0},{"$f":"VG!N131","v":0},{"$f":"VG!O131","v":0},{"$f":"IF(ISBLANK(VG!P131),\"\",VG!P131)","v":""},{"$f":"VG!Q131","v":""},{"$f":"IF(ISBLANK(VG!P33),(YM!H104+YM!J104+YM!L104)/3,(YM!H104+YM!J104+YM!L104+YM!N104)/4)","v":0},{"$f":"IF(ISBLANK(VG!P33),(YM!I104+YM!K104+YM!M104)/3,(YM!I104+YM!K104+YM!M104+YM!O104)/4)","v":0},0,0,0,0]
[{"$f":"VG!A132","v":""},{"$f":"VG!B132","v":0},null,{"$f":"VG!E132","v":0},null,{"$f":"VG!G132","v":0},{"$f":"VG!H132","v":0},{"$f":"VG!J132","v":0},{"$f":"VG!K132","v":0},{"$f":"VG!L132","v":0},{"$f":"VG!M132","v":0},{"$f":"VG!N132","v":0},{"$f":"VG!O132","v":0},{"$f":"IF(ISBLANK(VG!P132),\"\",VG!P132)","v":""},{"$f":"VG!Q132","v":""},{"$f":"IF(ISBLANK(VG!P33),(YM!H105+YM!J105+YM!L105)/3,(YM!H105+YM!J105+YM!L105+YM!N105)/4)","v":0},{"$f":"IF(ISBLANK(VG!P33),(YM!I105+YM!K105+YM!M105)/3,(YM!I105+YM!K105+YM!M105+YM!O105)/4)","v":0},0,0,0,0]
[{"$f":"VG!A133","v":""},{"$f":"VG!B133","v":0},null,{"$f":"VG!E133","v":0},null,{"$f":"VG!G133","v":0},{"$f":"VG!H133","v":0},{"$f":"VG!J133","v":0},{"$f":"VG!K133","v":0},{"$f":"VG!L133","v":0},{"$f":"VG!M133","v":0},{"$f":"VG!N133","v":0},{"$f":"VG!O133","v":0},{"$f":"IF(ISBLANK(VG!P133),\"\",VG!P133)","v":""},{"$f":"VG!Q133","v":""},{"$f":"IF(ISBLANK(VG!P33),(YM!H106+YM!J106+YM!L106)/3,(YM!H106+YM!J106+YM!L106+YM!N106)/4)","v":0},{"$f":"IF(ISBLANK(VG!P33),(YM!I106+YM!K106+YM!M106)/3,(YM!I106+YM!K106+YM!M106+YM!O106)/4)","v":0},0,0,0,0]
[{"$f":"VG!A134","v":""},{"$f":"VG!B134","v":0},null,{"$f":"VG!E134","v":0},null,{"$f":"VG!G134","v":0},{"$f":"VG!H134","v":0},{"$f":"VG!J134","v":0},{"$f":"VG!K134","v":0},{"$f":"VG!L134","v":0},{"$f":"VG!M134","v":0},{"$f":"VG!N134","v":0},{"$f":"VG!O134","v":0},{"$f":"IF(ISBLANK(VG!P134),\"\",VG!P134)","v":""},{"$f":"VG!Q134","v":""},{"$f":"IF(ISBLANK(VG!P33),(YM!H107+YM!J107+YM!L107)/3,(YM!H107+YM!J107+YM!L107+YM!N107)/4)","v":0},{"$f":"IF(ISBLANK(VG!P33),(YM!I107+YM!K107+YM!M107)/3,(YM!I107+YM!K107+YM!M107+YM!O107)/4)","v":0},0,0,0,0]
["Kişiler / Firmalarca Bildirilen Yaklaşık Maliyet Fiyatı Toplamı (KDV HARİÇ)",null,null,null,null,null,null,"TOPLAM",{"$f":"SUM(I8:I107)","v":11430},"TOPLAM",{"$f":"SUM(K8:K107)","v":13010},"TOPLAM",{"$f":"SUM(M8:M107)","v":12840},"TOPLAM",{"$f":"SUM(O8:O107)","v":0},"TOPLAM",{"$f":"SUM(Q8:Q107)","v":12426.666666666666}]
["          İdaremizce ihtiyaç duyulan ve satın alınması düşünülen yukarıda cinsi, özellikleri ve miktarları yazılı malların / hizmetlerin 4734 Sayılı Kamu İhale Kanununun 9. maddesi gereğince Yaklaşık Maliyetinin tesbitine esas olmak üzere ilgili Kişi, Kurum ve Firmalardan her türlü fiyat araştırması yapılmıştır. araştırma sonuçları yukarıdaki tabloda gösterilmiştir.\n          Yukarıda açıklandığı üzere ihaleye çıkılması düşünülen Malların / Hizmetlerin fiyat araştırması neticesinde 4734 Sayılı Kamu İhale Kanununun 9. maddesi gereğinice Yaklaşık Maliyetinin KDV HARİÇ yukarıda belirtildiği gibi takdir ve tespit edilerek iş bu hesap cetveli tarafımızca imza altına alınmıştır."]
["YAKLAŞIK MALİYET TESPİTİ YAPAN GÖREVLİLER"]
[]
[null,{"$f":"PAT!B115","v":0},null,null,null,null,null,{"$f":"PAT!H115","v":0},null,null,null,null,null,{"$f":"PAT!N115","v":0}]
[null,{"$f":"PAT!B116","v":"Müdür Yardımcsısı"},null,null,null,null,null,{"$f":"PAT!H116","v":"Öğretmen"},null,null,null,null,null,{"$f":"PAT!N116","v":"Öğretmen"}]

{"sheet":"PAT","index":7,"n_rows":116,"n_cols":18,"rows_kept":116,"cut":false,"hidden":false,"merged":[[116,7,116,8],[115,13,115,14],[116,13,116,14],[107,0,107,6],[108,5,108,14],[109,13,109,14],[110,13,110,14],[111,0,111,14],[108,0,109,4],[112,0,112,14],[114,1,114,2],[115,1,115,2],[114,7,114,8],[115,7,115,8],[110,0,110,4],[109,5,109,8],[110,5,110,8],[109,9,109,12],[110,9,110,12],[114,13,114,14],[105,1,105,2],[105,3,105,4],[106,1,106,2],[106,3,106,4],[102,1,102,2],[102,3,102,4],[103,1,103,2],[103,3,103,4],[104,1,104,2],[104,3,104,4],[99,1,99,2],[99,3,99,4],[100,1,100,2],[100,3,100,4],[101,1,101,2],[101,3,101,4],[96,1,96,2],[96,3,96,4],[97,1,97,2],[97,3,97,4],[98,1,98,2],[98,3,98,4],[93,1,93,2],[93,3,93,4],[94,1,94,2],[94,3,94,4],[95,1,95,2],[95,3,95,4],[90,1,90,2],[90,3,90,4],[91,1,91,2],[91,3,91,4],[92,1,92,2],[92,3,92,4],[87,1,87,2],[87,3,87,4],[88,1,88,2],[88,3,88,4],[89,1,89,2],[89,3,89,4],[84,1,84,2],[84,3,84,4],[85,1,85,2],[85,3,85,4],[86,1,86,2],[86,3,86,4],[81,1,81,2],[81,3,81,4],[82,1,82,2],[82,3,82,4],[83,1,83,2],[83,3,83,4],[78,1,78,2],[78,3,78,4],[79,1,79,2],[79,3,79,4],[80,1,80,2],[80,3,80,4],[75,1,75,2],[75,3,75,4],[76,1,76,2],[76,3,76,4],[77,1,77,2],[77,3,77,4],[72,1,72,2],[72,3,72,4],[73,1,73,2],[73,3,73,4],[74,1,74,2],[74,3,74,4],[69,1,69,2],[69,3,69,4],[70,1,70,2],[70,3,70,4],[71,1,71,2],[71,3,71,4],[66,1,66,2],[66,3,66,4],[67,1,67,2],[67,3,67,4],[68,1,68,2],[68,3,68,4],[63,1,63,2],[63,3,63,4],[64,1,64,2],[64,3,64,4],[65,1,65,2],[65,3,65,4],[60,1,60,2],[60,3,60,4],[61,1,61,2],[61,3,61,4],[62,1,62,2],[62,3,62,4],[57,1,57,2],[57,3,57,4],[58,1,58,2],[58,3,58,4],[59,1,59,2],[59,3,59,4],[54,1,54,2],[54,3,54,4],[55,1,55,2],[55,3,55,4],[56,1,56,2],[56,3,56,4],[51,1,51,2],[51,3,51,4],[52,1,52,2],[52,3,52,4],[53,1,53,2],[53,3,53,4],[48,1,48,2],[48,3,48,4],[49,1,49,2],[49,3,49,4],[50,1,50,2],[50,3,50,4],[45,1,45,2],[45,3,45,4],[46,1,46,2],[46,3,46,4],[47,1,47,2],[47,3,47,4],[42,1,42,2],[42,3,42,4],[43,1,43,2],[43,3,43,4],[44,1,44,2],[44,3,44,4],[39,1,39,2],[39,3,39,4],[40,1,40,2],[40,3,40,4],[41,1,41,2],[41,3,41,4],[36,1,36,2],[36,3,36,4],[37,1,37,2],[37,3,37,4],[38,1,38,2],[38,3,38,4],[33,1,33,2],[33,3,33,4],[34,1,34,2],[34,3,34,4],[35,1,35,2],[35,3,35,4],[30,1,30,2],[30,3,30,4],[31,1,31,2],[31,3,31,4],[32,1,32,2],[32,3,32,4],[27,1,27,2],[27,3,27,4],[28,1,28,2],[28,3,28,4],[29,1,29,2],[29,3,29,4],[24,1,24,2],[24,3,24,4],[25,1,25,2],[25,3,25,4],[26,1,26,2],[26,3,26,4],[21,1,21,2],[21,3,21,4],[22,1,22,2],[22,3,22,4],[23,1,23,2],[23,3,23,4],[18,1,18,2],[18,3,18,4],[19,1,19,2],[19,3,19,4],[20,1,20,2],[20,3,20,4],[0,0,0,14],[1,0,1,4],[2,0,2,4],[3,0,3,4],[1,5,1,14],[2,5,2,14],[3,5,3,14],[9,1,9,2],[9,3,9,4],[6,1,6,2],[6,3,6,4],[7,1,7,2],[7,3,7,4],[8,1,8,2],[8,3,8,4],[4,0,5,6],[4,7,4,14],[5,7,5,8],[5,9,5,10],[5,11,5,12],[5,13,5,14],[10,1,10,2],[10,3,10,4],[11,1,11,2],[11,3,11,4],[15,1,15,2],[15,3,15,4],[16,1,16,2],[16,3,16,4],[17,1,17,2],[17,3,17,4],[12,1,12,2],[12,3,12,4],[13,1,13,2],[13,3,13,4],[14,1,14,2],[14,3,14,4]]}
["PİYASA FİYAT ARAŞTIRMA TUTANAĞI"]
["İdarenin Adı",null,null,null,null,{"$f":"VG!D9","v":"Erdem Bayazıt İmam Hatip Ortaokulu"}]
["Yapılan Alımın Adı, Niteliği",null,null,null,null,{"$f":"CONCATENATE(VG!D17,VG!H17,VG!D16,VG!H16)","v":"Okul İhtiyacı  için Büro Mefruşat Alımları Alımı"}]
["Alım için Görevlendirilenlere ilişkin Onay Belgesinin Tarih ve Sayısı",null,null,null,null,{"$f":"CONCATENATE(VG!D26,B!C3,VG!F26)","v":"44460 / 2021-1"}]
["Satın Alınacak Mal veya Malzemenin",null,null,null,null,null,null,"Kişiler/Firmalar ve Fiyat Teklifleri (KDV HARİÇ)"]
[null,null,null,null,null,null,null,{"$f":"VG!R33","v":"GÖKTÜRK MEFRUŞAT"},null,{"$f":"VG!T33","v":"YILDIZLAR MANİFATURA"},null,{"$f":"VG!V33","v":"DENGE TEKSTİL"},null,{"$f":"IF(ISBLANK(VG!X33),\"\",VG!X33)","v":""}]
["SIRA","Cinsi",null,"Özelliği",null,"Miktarı","Ölçüsü","Birim Fiyat","Toplam Fiyat","Birim Fiyat","Toplam Fiyat","Birim Fiyat","Toplam Fiyat","Birim Fiyat","Toplam Fiyat"]
[{"$f":"VG!A35","v":1},{"$f":"VG!B35","v":" Perde"},null,{"$f":"VG!E35","v":"Fon"},null,{"$f":"VG!G35","v":120},{"$f":"VG!H35","v":"Metrekare"},{"$f":"VG!R35","v":70},{"$f":"VG!S35","v":8400},{"$f":"VG!T35","v":70},{"$f":"VG!U35","v":8400},{"$f":"VG!V35","v":70},{"$f":"VG!W35","v":8400},{"$f":"IF(ISBLANK(VG!X35),\"\",VG!X35)","v":""},{"$f":"VG!Y35","v":""}]
[{"$f":"VG!A36","v":2},{"$f":"VG!B36","v":" Perde"},null,{"$f":"VG!E36","v":"Zebra"},null,{"$f":"VG!G36","v":30},{"$f":"VG!H36","v":"Metrekare"},{"$f":"VG!R36","v":50},{"$f":"VG!S36","v":1500},{"$f":"VG!T36","v":80},{"$f":"VG!U36","v":2400},{"$f":"VG!V36","v":80},{"$f":"VG!W36","v":2400},{"$f":"IF(ISBLANK(VG!X36),\"\",VG!X36)","v":""},{"$f":"VG!Y36","v":""}]
[{"$f":"VG!A37","v":3},{"$f":"VG!B37","v":"Perde"},null,{"$f":"VG!E37","v":"Karartma"},null,{"$f":"VG!G37","v":34},{"$f":"VG!H37","v":"Metrekare"},{"$f":"VG!R37","v":45},{"$f":"VG!S37","v":1530},{"$f":"VG!T37","v":65},{"$f":"VG!U37","v":2210},{"$f":"VG!V37","v":60},{"$f":"VG!W37","v":2040},{"$f":"IF(ISBLANK(VG!X37),\"\",VG!X37)","v":""},{"$f":"VG!Y37","v":""}]
[{"$f":"VG!A38","v":""},{"$f":"VG!B38","v":0},null,{"$f":"VG!E38","v":0},null,{"$f":"VG!G38","v":0},{"$f":"VG!H38","v":0},{"$f":"VG!R38","v":0},{"$f":"VG!S38","v":0},{"$f":"VG!T38","v":0},{"$f":"VG!U38","v":0},{"$f":"VG!V38","v":0},{"$f":"VG!W38","v":0},{"$f":"IF(ISBLANK(VG!X38),\"\",VG!X38)","v":""},{"$f":"VG!Y38","v":""}]
[{"$f":"VG!A39","v":""},{"$f":"VG!B39","v":0},null,{"$f":"VG!E39","v":0},null,{"$f":"VG!G39","v":0},{"$f":"VG!H39","v":0},{"$f":"VG!R39","v":0},{"$f":"VG!S39","v":0},{"$f":"VG!T39","v":0},{"$f":"VG!U39","v":0},{"$f":"VG!V39","v":0},{"$f":"VG!W39","v":0},{"$f":"IF(ISBLANK(VG!X39),\"\",VG!X39)","v":""},{"$f":"VG!Y39","v":""}]
[{"$f":"VG!A40","v":""},{"$f":"VG!B40","v":0},null,{"$f":"VG!E40","v":0},null,{"$f":"VG!G40","v":0},{"$f":"VG!H40","v":0},{"$f":"VG!R40","v":0},{"$f":"VG!S40","v":0},{"$f":"VG!T40","v":0},{"$f":"VG!U40","v":0},{"$f":"VG!V40","v":0},{"$f":"VG!W40","v":0},{"$f":"IF(ISBLANK(VG!X40),\"\",VG!X40)","v":""},{"$f":"VG!Y40","v":""}]
[{"$f":"VG!A41","v":""},{"$f":"VG!B41","v":0},null,{"$f":"VG!E41","v":0},null,{"$f":"VG!G41","v":0},{"$f":"VG!H41","v":0},{"$f":"VG!R41","v":0},{"$f":"VG!S41","v":0},{"$f":"VG!T41","v":0},{"$f":"VG!U41","v":0},{"$f":"VG!V41","v":0},{"$f":"VG!W41","v":0},{"$f":"IF(ISBLANK(VG!X41),\"\",VG!X41)","v":""},{"$f":"VG!Y41","v":""}]
[{"$f":"VG!A42","v":""},{"$f":"VG!B42","v":0},null,{"$f":"VG!E42","v":0},null,{"$f":"VG!G42","v":0},{"$f":"VG!H42","v":0},{"$f":"VG!R42","v":0},{"$f":"VG!S42","v":0},{"$f":"VG!T42","v":0},{"$f":"VG!U42","v":0},{"$f":"VG!V42","v":0},{"$f":"VG!W42","v":0},{"$f":"IF(ISBLANK(VG!X42),\"\",VG!X42)","v":""},{"$f":"VG!Y42","v":""}]
[{"$f":"VG!A43","v":""},{"$f":"VG!B43","v":0},null,{"$f":"VG!E43","v":0},null,{"$f":"VG!G43","v":0},{"$f":"VG!H43","v":0},{"$f":"VG!R43","v":0},{"$f":"VG!S43","v":0},{"$f":"VG!T43","v":0},{"$f":"VG!U43","v":0},{"$f":"VG!V43","v":0},{"$f":"VG!W43","v":0},{"$f":"IF(ISBLANK(VG!X43),\"\",VG!X43)","v":""},{"$f":"VG!Y43","v":""}]
[{"$f":"VG!A44","v":""},{"$f":"VG!B44","v":0},null,{"$f":"VG!E44","v":0},null,{"$f":"VG!G44","v":0},{"$f":"VG!H44","v":0},{"$f":"VG!R44","v":0},{"$f":"VG!S44","v":0},{"$f":"VG!T44","v":0},{"$f":"VG!U44","v":0},{"$f":"VG!V44","v":0},{"$f":"VG!W44","v":0},{"$f":"IF(ISBLANK(VG!X44),\"\",VG!X44)","v":""},{"$f":"VG!Y44","v":""}]
[{"$f":"VG!A45","v":""},{"$f":"VG!B45","v":0},null,{"$f":"VG!E45","v":0},null,{"$f":"VG!G45","v":0},{"$f":"VG!H45","v":0},{"$f":"VG!R45","v":0},{"$f":"VG!S45","v":0},{"$f":"VG!T45","v":0},{"$f":"VG!U45","v":0},{"$f":"VG!V45","v":0},{"$f":"VG!W45","v":0},{"$f":"IF(ISBLANK(VG!X45),\"\",VG!X45)","v":""},{"$f":"VG!Y45","v":""}]
[{"$f":"VG!A46","v":""},{"$f":"VG!B46","v":0},null,{"$f":"VG!E46","v":0},null,{"$f":"VG!G46","v":0},{"$f":"VG!H46","v":0},{"$f":"VG!R46","v":0},{"$f":"VG!S46","v":0},{"$f":"VG!T46","v":0},{"$f":"VG!U46","v":0},{"$f":"VG!V46","v":0},{"$f":"VG!W46","v":0},{"$f":"IF(ISBLANK(VG!X46),\"\",VG!X46)","v":""},{"$f":"VG!Y46","v":""}]
[{"$f":"VG!A47","v":""},{"$f":"VG!B47","v":0},null,{"$f":"VG!E47","v":0},null,{"$f":"VG!G47","v":0},{"$f":"VG!H47","v":0},{"$f":"VG!R47","v":0},{"$f":"VG!S47","v":0},{"$f":"VG!T47","v":0},{"$f":"VG!U47","v":0},{"$f":"VG!V47","v":0},{"$f":"VG!W47","v":0},{"$f":"IF(ISBLANK(VG!X47),\"\",VG!X47)","v":""},{"$f":"VG!Y47","v":""}]
[{"$f":"VG!A48","v":""},{"$f":"VG!B48","v":0},null,{"$f":"VG!E48","v":0},null,{"$f":"VG!G48","v":0},{"$f":"VG!H48","v":0},{"$f":"VG!R48","v":0},{"$f":"VG!S48","v":0},{"$f":"VG!T48","v":0},{"$f":"VG!U48","v":0},{"$f":"VG!V48","v":0},{"$f":"VG!W48","v":0},{"$f":"IF(ISBLANK(VG!X48),\"\",VG!X48)","v":""},{"$f":"VG!Y48","v":""}]
[{"$f":"VG!A49","v":""},{"$f":"VG!B49","v":0},null,{"$f":"VG!E49","v":0},null,{"$f":"VG!G49","v":0},{"$f":"VG!H49","v":0},{"$f":"VG!R49","v":0},{"$f":"VG!S49","v":0},{"$f":"VG!T49","v":0},{"$f":"VG!U49","v":0},{"$f":"VG!V49","v":0},{"$f":"VG!W49","v":0},{"$f":"IF(ISBLANK(VG!X49),\"\",VG!X49)","v":""},{"$f":"VG!Y49","v":""}]
[{"$f":"VG!A50","v":""},{"$f":"VG!B50","v":0},null,{"$f":"VG!E50","v":0},null,{"$f":"VG!G50","v":0},{"$f":"VG!H50","v":0},{"$f":"VG!R50","v":0},{"$f":"VG!S50","v":0},{"$f":"VG!T50","v":0},{"$f":"VG!U50","v":0},{"$f":"VG!V50","v":0},{"$f":"VG!W50","v":0},{"$f":"IF(ISBLANK(VG!X50),\"\",VG!X50)","v":""},{"$f":"VG!Y50","v":""}]
[{"$f":"VG!A51","v":""},{"$f":"VG!B51","v":0},null,{"$f":"VG!E51","v":0},null,{"$f":"VG!G51","v":0},{"$f":"VG!H51","v":0},{"$f":"VG!R51","v":0},{"$f":"VG!S51","v":0},{"$f":"VG!T51","v":0},{"$f":"VG!U51","v":0},{"$f":"VG!V51","v":0},{"$f":"VG!W51","v":0},{"$f":"IF(ISBLANK(VG!X51),\"\",VG!X51)","v":""},{"$f":"VG!Y51","v":""}]
[{"$f":"VG!A52","v":""},{"$f":"VG!B52","v":0},null,{"$f":"VG!E52","v":0},null,{"$f":"VG!G52","v":0},{"$f":"VG!H52","v":0},{"$f":"VG!R52","v":0},{"$f":"VG!S52","v":0},{"$f":"VG!T52","v":0},{"$f":"VG!U52","v":0},{"$f":"VG!V52","v":0},{"$f":"VG!W52","v":0},{"$f":"IF(ISBLANK(VG!X52),\"\",VG!X52)","v":""},{"$f":"VG!Y52","v":""}]
[{"$f":"VG!A53","v":""},{"$f":"VG!B53","v":0},null,{"$f":"VG!E53","v":0},null,{"$f":"VG!G53","v":0},{"$f":"VG!H53","v":0},{"$f":"VG!R53","v":0},{"$f":"VG!S53","v":0},{"$f":"VG!T53","v":0},{"$f":"VG!U53","v":0},{"$f":"VG!V53","v":0},{"$f":"VG!W53","v":0},{"$f":"IF(ISBLANK(VG!X53),\"\",VG!X53)","v":""},{"$f":"VG!Y53","v":""}]
[{"$f":"VG!A54","v":""},{"$f":"VG!B54","v":0},null,{"$f":"VG!E54","v":0},null,{"$f":"VG!G54","v":0},{"$f":"VG!H54","v":0},{"$f":"VG!R54","v":0},{"$f":"VG!S54","v":0},{"$f":"VG!T54","v":0},{"$f":"VG!U54","v":0},{"$f":"VG!V54","v":0},{"$f":"VG!W54","v":0},{"$f":"IF(ISBLANK(VG!X54),\"\",VG!X54)","v":""},{"$f":"VG!Y54","v":""}]
[{"$f":"VG!A55","v":""},{"$f":"VG!B55","v":0},null,{"$f":"VG!E55","v":0},null,{"$f":"VG!G55","v":0},{"$f":"VG!H55","v":0},{"$f":"VG!R55","v":0},{"$f":"VG!S55","v":0},{"$f":"VG!T55","v":0},{"$f":"VG!U55","v":0},{"$f":"VG!V55","v":0},{"$f":"VG!W55","v":0},{"$f":"IF(ISBLANK(VG!X55),\"\",VG!X55)","v":""},{"$f":"VG!Y55","v":""}]
[{"$f":"VG!A56","v":""},{"$f":"VG!B56","v":0},null,{"$f":"VG!E56","v":0},null,{"$f":"VG!G56","v":0},{"$f":"VG!H56","v":0},{"$f":"VG!R56","v":0},{"$f":"VG!S56","v":0},{"$f":"VG!T56","v":0},{"$f":"VG!U56","v":0},{"$f":"VG!V56","v":0},{"$f":"VG!W56","v":0},{"$f":"IF(ISBLANK(VG!X56),\"\",VG!X56)","v":""},{"$f":"VG!Y56","v":""}]
[{"$f":"VG!A57","v":""},{"$f":"VG!B57","v":0},null,{"$f":"VG!E57","v":0},null,{"$f":"VG!G57","v":0},{"$f":"VG!H57","v":0},{"$f":"VG!R57","v":0},{"$f":"VG!S57","v":0},{"$f":"VG!T57","v":0},{"$f":"VG!U57","v":0},{"$f":"VG!V57","v":0},{"$f":"VG!W57","v":0},{"$f":"IF(ISBLANK(VG!X57),\"\",VG!X57)","v":""},{"$f":"VG!Y57","v":""}]
[{"$f":"VG!A58","v":""},{"$f":"VG!B58","v":0},null,{"$f":"VG!E58","v":0},null,{"$f":"VG!G58","v":0},{"$f":"VG!H58","v":0},{"$f":"VG!R58","v":0},{"$f":"VG!S58","v":0},{"$f":"VG!T58","v":0},{"$f":"VG!U58","v":0},{"$f":"VG!V58","v":0},{"$f":"VG!W58","v":0},{"$f":"IF(ISBLANK(VG!X58),\"\",VG!X58)","v":""},{"$f":"VG!Y58","v":""}]
[{"$f":"VG!A59","v":""},{"$f":"VG!B59","v":0},null,{"$f":"VG!E59","v":0},null,{"$f":"VG!G59","v":0},{"$f":"VG!H59","v":0},{"$f":"VG!R59","v":0},{"$f":"VG!S59","v":0},{"$f":"VG!T59","v":0},{"$f":"VG!U59","v":0},{"$f":"VG!V59","v":0},{"$f":"VG!W59","v":0},{"$f":"IF(ISBLANK(VG!X59),\"\",VG!X59)","v":""},{"$f":"VG!Y59","v":""}]
[{"$f":"VG!A60","v":""},{"$f":"VG!B60","v":0},null,{"$f":"VG!E60","v":0},null,{"$f":"VG!G60","v":0},{"$f":"VG!H60","v":0},{"$f":"VG!R60","v":0},{"$f":"VG!S60","v":0},{"$f":"VG!T60","v":0},{"$f":"VG!U60","v":0},{"$f":"VG!V60","v":0},{"$f":"VG!W60","v":0},{"$f":"IF(ISBLANK(VG!X60),\"\",VG!X60)","v":""},{"$f":"VG!Y60","v":""}]
[{"$f":"VG!A61","v":""},{"$f":"VG!B61","v":0},null,{"$f":"VG!E61","v":0},null,{"$f":"VG!G61","v":0},{"$f":"VG!H61","v":0},{"$f":"VG!R61","v":0},{"$f":"VG!S61","v":0},{"$f":"VG!T61","v":0},{"$f":"VG!U61","v":0},{"$f":"VG!V61","v":0},{"$f":"VG!W61","v":0},{"$f":"IF(ISBLANK(VG!X61),\"\",VG!X61)","v":""},{"$f":"VG!Y61","v":""}]
[{"$f":"VG!A62","v":""},{"$f":"VG!B62","v":0},null,{"$f":"VG!E62","v":0},null,{"$f":"VG!G62","v":0},{"$f":"VG!H62","v":0},{"$f":"VG!R62","v":0},{"$f":"VG!S62","v":0},{"$f":"VG!T62","v":0},{"$f":"VG!U62","v":0},{"$f":"VG!V62","v":0},{"$f":"VG!W62","v":0},{"$f":"IF(ISBLANK(VG!X62),\"\",VG!X62)","v":""},{"$f":"VG!Y62","v":""}]
[{"$f":"VG!A63","v":""},{"$f":"VG!B63","v":0},null,{"$f":"VG!E63","v":0},null,{"$f":"VG!G63","v":0},{"$f":"VG!H63","v":0},{"$f":"VG!R63","v":0},{"$f":"VG!S63","v":0},{"$f":"VG!T63","v":0},{"$f":"VG!U63","v":0},{"$f":"VG!V63","v":0},{"$f":"VG!W63","v":0},{"$f":"IF(ISBLANK(VG!X63),\"\",VG!X63)","v":""},{"$f":"VG!Y63","v":""}]
[{"$f":"VG!A64","v":""},{"$f":"VG!B64","v":0},null,{"$f":"VG!E64","v":0},null,{"$f":"VG!G64","v":0},{"$f":"VG!H64","v":0},{"$f":"VG!R64","v":0},{"$f":"VG!S64","v":0},{"$f":"VG!T64","v":0},{"$f":"VG!U64","v":0},{"$f":"VG!V64","v":0},{"$f":"VG!W64","v":0},{"$f":"IF(ISBLANK(VG!X64),\"\",VG!X64)","v":""},{"$f":"VG!Y64","v":""}]
[{"$f":"VG!A65","v":""},{"$f":"VG!B65","v":0},null,{"$f":"VG!E65","v":0},null,{"$f":"VG!G65","v":0},{"$f":"VG!H65","v":0},{"$f":"VG!R65","v":0},{"$f":"VG!S65","v":0},{"$f":"VG!T65","v":0},{"$f":"VG!U65","v":0},{"$f":"VG!V65","v":0},{"$f":"VG!W65","v":0},{"$f":"IF(ISBLANK(VG!X65),\"\",VG!X65)","v":""},{"$f":"VG!Y65","v":""}]
[{"$f":"VG!A66","v":""},{"$f":"VG!B66","v":0},null,{"$f":"VG!E66","v":0},null,{"$f":"VG!G66","v":0},{"$f":"VG!H66","v":0},{"$f":"VG!R66","v":0},{"$f":"VG!S66","v":0},{"$f":"VG!T66","v":0},{"$f":"VG!U66","v":0},{"$f":"VG!V66","v":0},{"$f":"VG!W66","v":0},{"$f":"IF(ISBLANK(VG!X66),\"\",VG!X66)","v":""},{"$f":"VG!Y66","v":""}]
[{"$f":"VG!A67","v":""},{"$f":"VG!B67","v":0},null,{"$f":"VG!E67","v":0},null,{"$f":"VG!G67","v":0},{"$f":"VG!H67","v":0},{"$f":"VG!R67","v":0},{"$f":"VG!S67","v":0},{"$f":"VG!T67","v":0},{"$f":"VG!U67","v":0},{"$f":"VG!V67","v":0},{"$f":"VG!W67","v":0},{"$f":"IF(ISBLANK(VG!X67),\"\",VG!X67)","v":""},{"$f":"VG!Y67","v":""}]
[{"$f":"VG!A68","v":""},{"$f":"VG!B68","v":0},null,{"$f":"VG!E68","v":0},null,{"$f":"VG!G68","v":0},{"$f":"VG!H68","v":0},{"$f":"VG!R68","v":0},{"$f":"VG!S68","v":0},{"$f":"VG!T68","v":0},{"$f":"VG!U68","v":0},{"$f":"VG!V68","v":0},{"$f":"VG!W68","v":0},{"$f":"IF(ISBLANK(VG!X68),\"\",VG!X68)","v":""},{"$f":"VG!Y68","v":""}]
[{"$f":"VG!A69","v":""},{"$f":"VG!B69","v":0},null,{"$f":"VG!E69","v":0},null,{"$f":"VG!G69","v":0},{"$f":"VG!H69","v":0},{"$f":"VG!R69","v":0},{"$f":"VG!S69","v":0},{"$f":"VG!T69","v":0},{"$f":"VG!U69","v":0},{"$f":"VG!V69","v":0},{"$f":"VG!W69","v":0},{"$f":"IF(ISBLANK(VG!X69),\"\",VG!X69)","v":""},{"$f":"VG!Y69","v":""}]
[{"$f":"VG!A70","v":""},{"$f":"VG!B70","v":0},null,{"$f":"VG!E70","v":0},null,{"$f":"VG!G70","v":0},{"$f":"VG!H70","v":0},{"$f":"VG!R70","v":0},{"$f":"VG!S70","v":0},{"$f":"VG!T70","v":0},{"$f":"VG!U70","v":0},{"$f":"VG!V70","v":0},{"$f":"VG!W70","v":0},{"$f":"IF(ISBLANK(VG!X70),\"\",VG!X70)","v":""},{"$f":"VG!Y70","v":""}]
[{"$f":"VG!A71","v":""},{"$f":"VG!B71","v":0},null,{"$f":"VG!E71","v":0},null,{"$f":"VG!G71","v":0},{"$f":"VG!H71","v":0},{"$f":"VG!R71","v":0},{"$f":"VG!S71","v":0},{"$f":"VG!T71","v":0},{"$f":"VG!U71","v":0},{"$f":"VG!V71","v":0},{"$f":"VG!W71","v":0},{"$f":"IF(ISBLANK(VG!X71),\"\",VG!X71)","v":""},{"$f":"VG!Y71","v":""}]
[{"$f":"VG!A72","v":""},{"$f":"VG!B72","v":0},null,{"$f":"VG!E72","v":0},null,{"$f":"VG!G72","v":0},{"$f":"VG!H72","v":0},{"$f":"VG!R72","v":0},{"$f":"VG!S72","v":0},{"$f":"VG!T72","v":0},{"$f":"VG!U72","v":0},{"$f":"VG!V72","v":0},{"$f":"VG!W72","v":0},{"$f":"IF(ISBLANK(VG!X72),\"\",VG!X72)","v":""},{"$f":"VG!Y72","v":""}]
[{"$f":"VG!A73","v":""},{"$f":"VG!B73","v":0},null,{"$f":"VG!E73","v":0},null,{"$f":"VG!G73","v":0},{"$f":"VG!H73","v":0},{"$f":"VG!R73","v":0},{"$f":"VG!S73","v":0},{"$f":"VG!T73","v":0},{"$f":"VG!U73","v":0},{"$f":"VG!V73","v":0},{"$f":"VG!W73","v":0},{"$f":"IF(ISBLANK(VG!X73),\"\",VG!X73)","v":""},{"$f":"VG!Y73","v":""}]
[{"$f":"VG!A74","v":""},{"$f":"VG!B74","v":0},null,{"$f":"VG!E74","v":0},null,{"$f":"VG!G74","v":0},{"$f":"VG!H74","v":0},{"$f":"VG!R74","v":0},{"$f":"VG!S74","v":0},{"$f":"VG!T74","v":0},{"$f":"VG!U74","v":0},{"$f":"VG!V74","v":0},{"$f":"VG!W74","v":0},{"$f":"IF(ISBLANK(VG!X74),\"\",VG!X74)","v":""},{"$f":"VG!Y74","v":""}]
[{"$f":"VG!A75","v":""},{"$f":"VG!B75","v":0},null,{"$f":"VG!E75","v":0},null,{"$f":"VG!G75","v":0},{"$f":"VG!H75","v":0},{"$f":"VG!R75","v":0},{"$f":"VG!S75","v":0},{"$f":"VG!T75","v":0},{"$f":"VG!U75","v":0},{"$f":"VG!V75","v":0},{"$f":"VG!W75","v":0},{"$f":"IF(ISBLANK(VG!X75),\"\",VG!X75)","v":""},{"$f":"VG!Y75","v":""}]
[{"$f":"VG!A76","v":""},{"$f":"VG!B76","v":0},null,{"$f":"VG!E76","v":0},null,{"$f":"VG!G76","v":0},{"$f":"VG!H76","v":0},{"$f":"VG!R76","v":0},{"$f":"VG!S76","v":0},{"$f":"VG!T76","v":0},{"$f":"VG!U76","v":0},{"$f":"VG!V76","v":0},{"$f":"VG!W76","v":0},{"$f":"IF(ISBLANK(VG!X76),\"\",VG!X76)","v":""},{"$f":"VG!Y76","v":""}]
[{"$f":"VG!A77","v":""},{"$f":"VG!B77","v":0},null,{"$f":"VG!E77","v":0},null,{"$f":"VG!G77","v":0},{"$f":"VG!H77","v":0},{"$f":"VG!R77","v":0},{"$f":"VG!S77","v":0},{"$f":"VG!T77","v":0},{"$f":"VG!U77","v":0},{"$f":"VG!V77","v":0},{"$f":"VG!W77","v":0},{"$f":"IF(ISBLANK(VG!X77),\"\",VG!X77)","v":""},{"$f":"VG!Y77","v":""}]
[{"$f":"VG!A78","v":""},{"$f":"VG!B78","v":0},null,{"$f":"VG!E78","v":0},null,{"$f":"VG!G78","v":0},{"$f":"VG!H78","v":0},{"$f":"VG!R78","v":0},{"$f":"VG!S78","v":0},{"$f":"VG!T78","v":0},{"$f":"VG!U78","v":0},{"$f":"VG!V78","v":0},{"$f":"VG!W78","v":0},{"$f":"IF(ISBLANK(VG!X78),\"\",VG!X78)","v":""},{"$f":"VG!Y78","v":""}]
[{"$f":"VG!A79","v":""},{"$f":"VG!B79","v":0},null,{"$f":"VG!E79","v":0},null,{"$f":"VG!G79","v":0},{"$f":"VG!H79","v":0},{"$f":"VG!R79","v":0},{"$f":"VG!S79","v":0},{"$f":"VG!T79","v":0},{"$f":"VG!U79","v":0},{"$f":"VG!V79","v":0},{"$f":"VG!W79","v":0},{"$f":"IF(ISBLANK(VG!X79),\"\",VG!X79)","v":""},{"$f":"VG!Y79","v":""}]
[{"$f":"VG!A80","v":""},{"$f":"VG!B80","v":0},null,{"$f":"VG!E80","v":0},null,{"$f":"VG!G80","v":0},{"$f":"VG!H80","v":0},{"$f":"VG!R80","v":0},{"$f":"VG!S80","v":0},{"$f":"VG!T80","v":0},{"$f":"VG!U80","v":0},{"$f":"VG!V80","v":0},{"$f":"VG!W80","v":0},{"$f":"IF(ISBLANK(VG!X80),\"\",VG!X80)","v":""},{"$f":"VG!Y80","v":""}]
[{"$f":"VG!A81","v":""},{"$f":"VG!B81","v":0},null,{"$f":"VG!E81","v":0},null,{"$f":"VG!G81","v":0},{"$f":"VG!H81","v":0},{"$f":"VG!R81","v":0},{"$f":"VG!S81","v":0},{"$f":"VG!T81","v":0},{"$f":"VG!U81","v":0},{"$f":"VG!V81","v":0},{"$f":"VG!W81","v":0},{"$f":"IF(ISBLANK(VG!X81),\"\",VG!X81)","v":""},{"$f":"VG!Y81","v":""}]
[{"$f":"VG!A82","v":""},{"$f":"VG!B82","v":0},null,{"$f":"VG!E82","v":0},null,{"$f":"VG!G82","v":0},{"$f":"VG!H82","v":0},{"$f":"VG!R82","v":0},{"$f":"VG!S82","v":0},{"$f":"VG!T82","v":0},{"$f":"VG!U82","v":0},{"$f":"VG!V82","v":0},{"$f":"VG!W82","v":0},{"$f":"IF(ISBLANK(VG!X82),\"\",VG!X82)","v":""},{"$f":"VG!Y82","v":""}]
[{"$f":"VG!A83","v":""},{"$f":"VG!B83","v":0},null,{"$f":"VG!E83","v":0},null,{"$f":"VG!G83","v":0},{"$f":"VG!H83","v":0},{"$f":"VG!R83","v":0},{"$f":"VG!S83","v":0},{"$f":"VG!T83","v":0},{"$f":"VG!U83","v":0},{"$f":"VG!V83","v":0},{"$f":"VG!W83","v":0},{"$f":"IF(ISBLANK(VG!X83),\"\",VG!X83)","v":""},{"$f":"VG!Y83","v":""}]
[{"$f":"VG!A84","v":""},{"$f":"VG!B84","v":0},null,{"$f":"VG!E84","v":0},null,{"$f":"VG!G84","v":0},{"$f":"VG!H84","v":0},{"$f":"VG!R84","v":0},{"$f":"VG!S84","v":0},{"$f":"VG!T84","v":0},{"$f":"VG!U84","v":0},{"$f":"VG!V84","v":0},{"$f":"VG!W84","v":0},{"$f":"IF(ISBLANK(VG!X84),\"\",VG!X84)","v":""},{"$f":"VG!Y84","v":""}]
[{"$f":"VG!A85","v":""},{"$f":"VG!B85","v":0},null,{"$f":"VG!E85","v":0},null,{"$f":"VG!G85","v":0},{"$f":"VG!H85","v":0},{"$f":"VG!R85","v":0},{"$f":"VG!S85","v":0},{"$f":"VG!T85","v":0},{"$f":"VG!U85","v":0},{"$f":"VG!V85","v":0},{"$f":"VG!W85","v":0},{"$f":"IF(ISBLANK(VG!X85),\"\",VG!X85)","v":""},{"$f":"VG!Y85","v":""}]
[{"$f":"VG!A86","v":""},{"$f":"VG!B86","v":0},null,{"$f":"VG!E86","v":0},null,{"$f":"VG!G86","v":0},{"$f":"VG!H86","v":0},{"$f":"VG!R86","v":0},{"$f":"VG!S86","v":0},{"$f":"VG!T86","v":0},{"$f":"VG!U86","v":0},{"$f":"VG!V86","v":0},{"$f":"VG!W86","v":0},{"$f":"IF(ISBLANK(VG!X86),\"\",VG!X86)","v":""},{"$f":"VG!Y86","v":""}]
[{"$f":"VG!A87","v":""},{"$f":"VG!B87","v":0},null,{"$f":"VG!E87","v":0},null,{"$f":"VG!G87","v":0},{"$f":"VG!H87","v":0},{"$f":"VG!R87","v":0},{"$f":"VG!S87","v":0},{"$f":"VG!T87","v":0},{"$f":"VG!U87","v":0},{"$f":"VG!V87","v":0},{"$f":"VG!W87","v":0},{"$f":"IF(ISBLANK(VG!X87),\"\",VG!X87)","v":""},{"$f":"VG!Y87","v":""}]
[{"$f":"VG!A88","v":""},{"$f":"VG!B88","v":0},null,{"$f":"VG!E88","v":0},null,{"$f":"VG!G88","v":0},{"$f":"VG!H88","v":0},{"$f":"VG!R88","v":0},{"$f":"VG!S88","v":0},{"$f":"VG!T88","v":0},{"$f":"VG!U88","v":0},{"$f":"VG!V88","v":0},{"$f":"VG!W88","v":0},{"$f":"IF(ISBLANK(VG!X88),\"\",VG!X88)","v":""},{"$f":"VG!Y88","v":""}]
[{"$f":"VG!A89","v":""},{"$f":"VG!B89","v":0},null,{"$f":"VG!E89","v":0},null,{"$f":"VG!G89","v":0},{"$f":"VG!H89","v":0},{"$f":"VG!R89","v":0},{"$f":"VG!S89","v":0},{"$f":"VG!T89","v":0},{"$f":"VG!U89","v":0},{"$f":"VG!V89","v":0},{"$f":"VG!W89","v":0},{"$f":"IF(ISBLANK(VG!X89),\"\",VG!X89)","v":""},{"$f":"VG!Y89","v":""}]
[{"$f":"VG!A90","v":""},{"$f":"VG!B90","v":0},null,{"$f":"VG!E90","v":0},null,{"$f":"VG!G90","v":0},{"$f":"VG!H90","v":0},{"$f":"VG!R90","v":0},{"$f":"VG!S90","v":0},{"$f":"VG!T90","v":0},{"$f":"VG!U90","v":0},{"$f":"VG!V90","v":0},{"$f":"VG!W90","v":0},{"$f":"IF(ISBLANK(VG!X90),\"\",VG!X90)","v":""},{"$f":"VG!Y90","v":""}]
[{"$f":"VG!A91","v":""},{"$f":"VG!B91","v":0},null,{"$f":"VG!E91","v":0},null,{"$f":"VG!G91","v":0},{"$f":"VG!H91","v":0},{"$f":"VG!R91","v":0},{"$f":"VG!S91","v":0},{"$f":"VG!T91","v":0},{"$f":"VG!U91","v":0},{"$f":"VG!V91","v":0},{"$f":"VG!W91","v":0},{"$f":"IF(ISBLANK(VG!X91),\"\",VG!X91)","v":""},{"$f":"VG!Y91","v":""}]
[{"$f":"VG!A92","v":""},{"$f":"VG!B92","v":0},null,{"$f":"VG!E92","v":0},null,{"$f":"VG!G92","v":0},{"$f":"VG!H92","v":0},{"$f":"VG!R92","v":0},{"$f":"VG!S92","v":0},{"$f":"VG!T92","v":0},{"$f":"VG!U92","v":0},{"$f":"VG!V92","v":0},{"$f":"VG!W92","v":0},{"$f":"IF(ISBLANK(VG!X92),\"\",VG!X92)","v":""},{"$f":"VG!Y92","v":""}]
[{"$f":"VG!A93","v":""},{"$f":"VG!B93","v":0},null,{"$f":"VG!E93","v":0},null,{"$f":"VG!G93","v":0},{"$f":"VG!H93","v":0},{"$f":"VG!R93","v":0},{"$f":"VG!S93","v":0},{"$f":"VG!T93","v":0},{"$f":"VG!U93","v":0},{"$f":"VG!V93","v":0},{"$f":"VG!W93","v":0},{"$f":"IF(ISBLANK(VG!X93),\"\",VG!X93)","v":""},{"$f":"VG!Y93","v":""}]
[{"$f":"VG!A94","v":""},{"$f":"VG!B94","v":0},null,{"$f":"VG!E94","v":0},null,{"$f":"VG!G94","v":0},{"$f":"VG!H94","v":0},{"$f":"VG!R94","v":0},{"$f":"VG!S94","v":0},{"$f":"VG!T94","v":0},{"$f":"VG!U94","v":0},{"$f":"VG!V94","v":0},{"$f":"VG!W94","v":0},{"$f":"IF(ISBLANK(VG!X94),\"\",VG!X94)","v":""},{"$f":"VG!Y94","v":""}]
[{"$f":"VG!A95","v":""},{"$f":"VG!B95","v":0},null,{"$f":"VG!E95","v":0},null,{"$f":"VG!G95","v":0},{"$f":"VG!H95","v":0},{"$f":"VG!R95","v":0},{"$f":"VG!S95","v":0},{"$f":"VG!T95","v":0},{"$f":"VG!U95","v":0},{"$f":"VG!V95","v":0},{"$f":"VG!W95","v":0},{"$f":"IF(ISBLANK(VG!X95),\"\",VG!X95)","v":""},{"$f":"VG!Y95","v":""}]
[{"$f":"VG!A96","v":""},{"$f":"VG!B96","v":0},null,{"$f":"VG!E96","v":0},null,{"$f":"VG!G96","v":0},{"$f":"VG!H96","v":0},{"$f":"VG!R96","v":0},{"$f":"VG!S96","v":0},{"$f":"VG!T96","v":0},{"$f":"VG!U96","v":0},{"$f":"VG!V96","v":0},{"$f":"VG!W96","v":0},{"$f":"IF(ISBLANK(VG!X96),\"\",VG!X96)","v":""},{"$f":"VG!Y96","v":""}]
[{"$f":"VG!A97","v":""},{"$f":"VG!B97","v":0},null,{"$f":"VG!E97","v":0},null,{"$f":"VG!G97","v":0},{"$f":"VG!H97","v":0},{"$f":"VG!R97","v":0},{"$f":"VG!S97","v":0},{"$f":"VG!T97","v":0},{"$f":"VG!U97","v":0},{"$f":"VG!V97","v":0},{"$f":"VG!W97","v":0},{"$f":"IF(ISBLANK(VG!X97),\"\",VG!X97)","v":""},{"$f":"VG!Y97","v":""}]
[{"$f":"VG!A98","v":""},{"$f":"VG!B98","v":0},null,{"$f":"VG!E98","v":0},null,{"$f":"VG!G98","v":0},{"$f":"VG!H98","v":0},{"$f":"VG!R98","v":0},{"$f":"VG!S98","v":0},{"$f":"VG!T98","v":0},{"$f":"VG!U98","v":0},{"$f":"VG!V98","v":0},{"$f":"VG!W98","v":0},{"$f":"IF(ISBLANK(VG!X98),\"\",VG!X98)","v":""},{"$f":"VG!Y98","v":""}]
[{"$f":"VG!A99","v":""},{"$f":"VG!B99","v":0},null,{"$f":"VG!E99","v":0},null,{"$f":"VG!G99","v":0},{"$f":"VG!H99","v":0},{"$f":"VG!R99","v":0},{"$f":"VG!S99","v":0},{"$f":"VG!T99","v":0},{"$f":"VG!U99","v":0},{"$f":"VG!V99","v":0},{"$f":"VG!W99","v":0},{"$f":"IF(ISBLANK(VG!X99),\"\",VG!X99)","v":""},{"$f":"VG!Y99","v":""}]
[{"$f":"VG!A100","v":""},{"$f":"VG!B100","v":0},null,{"$f":"VG!E100","v":0},null,{"$f":"VG!G100","v":0},{"$f":"VG!H100","v":0},{"$f":"VG!R100","v":0},{"$f":"VG!S100","v":0},{"$f":"VG!T100","v":0},{"$f":"VG!U100","v":0},{"$f":"VG!V100","v":0},{"$f":"VG!W100","v":0},{"$f":"IF(ISBLANK(VG!X100),\"\",VG!X100)","v":""},{"$f":"VG!Y100","v":""}]
[{"$f":"VG!A101","v":""},{"$f":"VG!B101","v":0},null,{"$f":"VG!E101","v":0},null,{"$f":"VG!G101","v":0},{"$f":"VG!H101","v":0},{"$f":"VG!R101","v":0},{"$f":"VG!S101","v":0},{"$f":"VG!T101","v":0},{"$f":"VG!U101","v":0},{"$f":"VG!V101","v":0},{"$f":"VG!W101","v":0},{"$f":"IF(ISBLANK(VG!X101),\"\",VG!X101)","v":""},{"$f":"VG!Y101","v":""}]
[{"$f":"VG!A102","v":""},{"$f":"VG!B102","v":0},null,{"$f":"VG!E102","v":0},null,{"$f":"VG!G102","v":0},{"$f":"VG!H102","v":0},{"$f":"VG!R102","v":0},{"$f":"VG!S102","v":0},{"$f":"VG!T102","v":0},{"$f":"VG!U102","v":0},{"$f":"VG!V102","v":0},{"$f":"VG!W102","v":0},{"$f":"IF(ISBLANK(VG!X102),\"\",VG!X102)","v":""},{"$f":"VG!Y102","v":""}]
[{"$f":"VG!A103","v":""},{"$f":"VG!B103","v":0},null,{"$f":"VG!E103","v":0},null,{"$f":"VG!G103","v":0},{"$f":"VG!H103","v":0},{"$f":"VG!R103","v":0},{"$f":"VG!S103","v":0},{"$f":"VG!T103","v":0},{"$f":"VG!U103","v":0},{"$f":"VG!V103","v":0},{"$f":"VG!W103","v":0},{"$f":"IF(ISBLANK(VG!X103),\"\",VG!X103)","v":""},{"$f":"VG!Y103","v":""}]
[{"$f":"VG!A104","v":""},{"$f":"VG!B104","v":0},null,{"$f":"VG!E104","v":0},null,{"$f":"VG!G104","v":0},{"$f":"VG!H104","v":0},{"$f":"VG!R104","v":0},{"$f":"VG!S104","v":0},{"$f":"VG!T104","v":0},{"$f":"VG!U104","v":0},{"$f":"VG!V104","v":0},{"$f":"VG!W104","v":0},{"$f":"IF(ISBLANK(VG!X104),\"\",VG!X104)","v":""},{"$f":"VG!Y104","v":""}]
[{"$f":"VG!A105","v":""},{"$f":"VG!B105","v":0},null,{"$f":"VG!E105","v":0},null,{"$f":"VG!G105","v":0},{"$f":"VG!H105","v":0},{"$f":"VG!R105","v":0},{"$f":"VG!S105","v":0},{"$f":"VG!T105","v":0},{"$f":"VG!U105","v":0},{"$f":"VG!V105","v":0},{"$f":"VG!W105","v":0},{"$f":"IF(ISBLANK(VG!X105),\"\",VG!X105)","v":""},{"$f":"VG!Y105","v":""}]
[{"$f":"VG!A106","v":""},{"$f":"VG!B106","v":0},null,{"$f":"VG!E106","v":0},null,{"$f":"VG!G106","v":0},{"$f":"VG!H106","v":0},{"$f":"VG!R106","v":0},{"$f":"VG!S106","v":0},{"$f":"VG!T106","v":0},{"$f":"VG!U106","v":0},{"$f":"VG!V106","v":0},{"$f":"VG!W106","v":0},{"$f":"IF(ISBLANK(VG!X106),\"\",VG!X106)","v":""},{"$f":"VG!Y106","v":""}]
[{"$f":"VG!A107","v":""},{"$f":"VG!B107","v":0},null,{"$f":"VG!E107","v":0},null,{"$f":"VG!G107","v":0},{"$f":"VG!H107","v":0},{"$f":"VG!R107","v":0},{"$f":"VG!S107","v":0},{"$f":"VG!T107","v":0},{"$f":"VG!U107","v":0},{"$f":"VG!V107","v":0},{"$f":"VG!W107","v":0},{"$f":"IF(ISBLANK(VG!X107),\"\",VG!X107)","v":""},{"$f":"VG!Y107","v":""}]
[{"$f":"VG!A108","v":""},{"$f":"VG!B108","v":0},null,{"$f":"VG!E108","v":0},null,{"$f":"VG!G108","v":0},{"$f":"VG!H108","v":0},{"$f":"VG!R108","v":0},{"$f":"VG!S108","v":0},{"$f":"VG!T108","v":0},{"$f":"VG!U108","v":0},{"$f":"VG!V108","v":0},{"$f":"VG!W108","v":0},{"$f":"IF(ISBLANK(VG!X108),\"\",VG!X108)","v":""},{"$f":"VG!Y108","v":""}]
[{"$f":"VG!A109","v":""},{"$f":"VG!B109","v":0},null,{"$f":"VG!E109","v":0},null,{"$f":"VG!G109","v":0},{"$f":"VG!H109","v":0},{"$f":"VG!R109","v":0},{"$f":"VG!S109","v":0},{"$f":"VG!T109","v":0},{"$f":"VG!U109","v":0},{"$f":"VG!V109","v":0},{"$f":"VG!W109","v":0},{"$f":"IF(ISBLANK(VG!X109),\"\",VG!X109)","v":""},{"$f":"VG!Y109","v":""}]
[{"$f":"VG!A110","v":""},{"$f":"VG!B110","v":0},null,{"$f":"VG!E110","v":0},null,{"$f":"VG!G110","v":0},{"$f":"VG!H110","v":0},{"$f":"VG!R110","v":0},{"$f":"VG!S110","v":0},{"$f":"VG!T110","v":0},{"$f":"VG!U110","v":0},{"$f":"VG!V110","v":0},{"$f":"VG!W110","v":0},{"$f":"IF(ISBLANK(VG!X110),\"\",VG!X110)","v":""},{"$f":"VG!Y110","v":""}]
[{"$f":"VG!A111","v":""},{"$f":"VG!B111","v":0},null,{"$f":"VG!E111","v":0},null,{"$f":"VG!G111","v":0},{"$f":"VG!H111","v":0},{"$f":"VG!R111","v":0},{"$f":"VG!S111","v":0},{"$f":"VG!T111","v":0},{"$f":"VG!U111","v":0},{"$f":"VG!V111","v":0},{"$f":"VG!W111","v":0},{"$f":"IF(ISBLANK(VG!X111),\"\",VG!X111)","v":""},{"$f":"VG!Y111","v":""}]
[{"$f":"VG!A112","v":""},{"$f":"VG!B112","v":0},null,{"$f":"VG!E112","v":0},null,{"$f":"VG!G112","v":0},{"$f":"VG!H112","v":0},{"$f":"VG!R112","v":0},{"$f":"VG!S112","v":0},{"$f":"VG!T112","v":0},{"$f":"VG!U112","v":0},{"$f":"VG!V112","v":0},{"$f":"VG!W112","v":0},{"$f":"IF(ISBLANK(VG!X112),\"\",VG!X112)","v":""},{"$f":"VG!Y112","v":""}]
[{"$f":"VG!A113","v":""},{"$f":"VG!B113","v":0},null,{"$f":"VG!E113","v":0},null,{"$f":"VG!G113","v":0},{"$f":"VG!H113","v":0},{"$f":"VG!R113","v":0},{"$f":"VG!S113","v":0},{"$f":"VG!T113","v":0},{"$f":"VG!U113","v":0},{"$f":"VG!V113","v":0},{"$f":"VG!W113","v":0},{"$f":"IF(ISBLANK(VG!X113),\"\",VG!X113)","v":""},{"$f":"VG!Y113","v":""}]
[{"$f":"VG!A114","v":""},{"$f":"VG!B114","v":0},null,{"$f":"VG!E114","v":0},null,{"$f":"VG!G114","v":0},{"$f":"VG!H114","v":0},{"$f":"VG!R114","v":0},{"$f":"VG!S114","v":0},{"$f":"VG!T114","v":0},{"$f":"VG!U114","v":0},{"$f":"VG!V114","v":0},{"$f":"VG!W114","v":0},{"$f":"IF(ISBLANK(VG!X114),\"\",VG!X114)","v":""},{"$f":"VG!Y114","v":""}]
[{"$f":"VG!A115","v":""},{"$f":"VG!B115","v":0},null,{"$f":"VG!E115","v":0},null,{"$f":"VG!G115","v":0},{"$f":"VG!H115","v":0},{"$f":"VG!R115","v":0},{"$f":"VG!S115","v":0},{"$f":"VG!T115","v":0},{"$f":"VG!U115","v":0},{"$f":"VG!V115","v":0},{"$f":"VG!W115","v":0},{"$f":"IF(ISBLANK(VG!X115),\"\",VG!X115)","v":""},{"$f":"VG!Y115","v":""}]
[{"$f":"VG!A116","v":""},{"$f":"VG!B116","v":0},null,{"$f":"VG!E116","v":0},null,{"$f":"VG!G116","v":0},{"$f":"VG!H116","v":0},{"$f":"VG!R116","v":0},{"$f":"VG!S116","v":0},{"$f":"VG!T116","v":0},{"$f":"VG!U116","v":0},{"$f":"VG!V116","v":0},{"$f":"VG!W116","v":0},{"$f":"IF(ISBLANK(VG!X116),\"\",VG!X116)","v":""},{"$f":"VG!Y116","v":""}]
[{"$f":"VG!A117","v":""},{"$f":"VG!B117","v":0},null,{"$f":"VG!E117","v":0},null,{"$f":"VG!G117","v":0},{"$f":"VG!H117","v":0},{"$f":"VG!R117","v":0},{"$f":"VG!S117","v":0},{"$f":"VG!T117","v":0},{"$f":"VG!U117","v":0},{"$f":"VG!V117","v":0},{"$f":"VG!W117","v":0},{"$f":"IF(ISBLANK(VG!X117),\"\",VG!X117)","v":""},{"$f":"VG!Y117","v":""}]
[{"$f":"VG!A118","v":""},{"$f":"VG!B118","v":0},null,{"$f":"VG!E118","v":0},null,{"$f":"VG!G118","v":0},{"$f":"VG!H118","v":0},{"$f":"VG!R118","v":0},{"$f":"VG!S118","v":0},{"$f":"VG!T118","v":0},{"$f":"VG!U118","v":0},{"$f":"VG!V118","v":0},{"$f":"VG!W118","v":0},{"$f":"IF(ISBLANK(VG!X118),\"\",VG!X118)","v":""},{"$f":"VG!Y118","v":""}]
[{"$f":"VG!A119","v":""},{"$f":"VG!B119","v":0},null,{"$f":"VG!E119","v":0},null,{"$f":"VG!G119","v":0},{"$f":"VG!H119","v":0},{"$f":"VG!R119","v":0},{"$f":"VG!S119","v":0},{"$f":"VG!T119","v":0},{"$f":"VG!U119","v":0},{"$f":"VG!V119","v":0},{"$f":"VG!W119","v":0},{"$f":"IF(ISBLANK(VG!X119),\"\",VG!X119)","v":""},{"$f":"VG!Y119","v":""}]
[{"$f":"VG!A120","v":""},{"$f":"VG!B120","v":0},null,{"$f":"VG!E120","v":0},null,{"$f":"VG!G120","v":0},{"$f":"VG!H120","v":0},{"$f":"VG!R120","v":0},{"$f":"VG!S120","v":0},{"$f":"VG!T120","v":0},{"$f":"VG!U120","v":0},{"$f":"VG!V120","v":0},{"$f":"VG!W120","v":0},{"$f":"IF(ISBLANK(VG!X120),\"\",VG!X120)","v":""},{"$f":"VG!Y120","v":""}]
[{"$f":"VG!A121","v":""},{"$f":"VG!B121","v":0},null,{"$f":"VG!E121","v":0},null,{"$f":"VG!G121","v":0},{"$f":"VG!H121","v":0},{"$f":"VG!R121","v":0},{"$f":"VG!S121","v":0},{"$f":"VG!T121","v":0},{"$f":"VG!U121","v":0},{"$f":"VG!V121","v":0},{"$f":"VG!W121","v":0},{"$f":"IF(ISBLANK(VG!X121),\"\",VG!X121)","v":""},{"$f":"VG!Y121","v":""}]
[{"$f":"VG!A122","v":""},{"$f":"VG!B122","v":0},null,{"$f":"VG!E122","v":0},null,{"$f":"VG!G122","v":0},{"$f":"VG!H122","v":0},{"$f":"VG!R122","v":0},{"$f":"VG!S122","v":0},{"$f":"VG!T122","v":0},{"$f":"VG!U122","v":0},{"$f":"VG!V122","v":0},{"$f":"VG!W122","v":0},{"$f":"IF(ISBLANK(VG!X122),\"\",VG!X122)","v":""},{"$f":"VG!Y122","v":""}]
[{"$f":"VG!A123","v":""},{"$f":"VG!B123","v":0},null,{"$f":"VG!E123","v":0},null,{"$f":"VG!G123","v":0},{"$f":"VG!H123","v":0},{"$f":"VG!R123","v":0},{"$f":"VG!S123","v":0},{"$f":"VG!T123","v":0},{"$f":"VG!U123","v":0},{"$f":"VG!V123","v":0},{"$f":"VG!W123","v":0},{"$f":"IF(ISBLANK(VG!X123),\"\",VG!X123)","v":""},{"$f":"VG!Y123","v":""}]
[{"$f":"VG!A124","v":""},{"$f":"VG!B124","v":0},null,{"$f":"VG!E124","v":0},null,{"$f":"VG!G124","v":0},{"$f":"VG!H124","v":0},{"$f":"VG!R124","v":0},{"$f":"VG!S124","v":0},{"$f":"VG!T124","v":0},{"$f":"VG!U124","v":0},{"$f":"VG!V124","v":0},{"$f":"VG!W124","v":0},{"$f":"IF(ISBLANK(VG!X124),\"\",VG!X124)","v":""},{"$f":"VG!Y124","v":""}]
[{"$f":"VG!A125","v":""},{"$f":"VG!B125","v":0},null,{"$f":"VG!E125","v":0},null,{"$f":"VG!G125","v":0},{"$f":"VG!H125","v":0},{"$f":"VG!R125","v":0},{"$f":"VG!S125","v":0},{"$f":"VG!T125","v":0},{"$f":"VG!U125","v":0},{"$f":"VG!V125","v":0},{"$f":"VG!W125","v":0},{"$f":"IF(ISBLANK(VG!X125),\"\",VG!X125)","v":""},{"$f":"VG!Y125","v":""}]
[{"$f":"VG!A126","v":""},{"$f":"VG!B126","v":0},null,{"$f":"VG!E126","v":0},null,{"$f":"VG!G126","v":0},{"$f":"VG!H126","v":0},{"$f":"VG!R126","v":0},{"$f":"VG!S126","v":0},{"$f":"VG!T126","v":0},{"$f":"VG!U126","v":0},{"$f":"VG!V126","v":0},{"$f":"VG!W126","v":0},{"$f":"IF(ISBLANK(VG!X126),\"\",VG!X126)","v":""},{"$f":"VG!Y126","v":""}]
[{"$f":"VG!A127","v":""},{"$f":"VG!B127","v":0},null,{"$f":"VG!E127","v":0},null,{"$f":"VG!G127","v":0},{"$f":"VG!H127","v":0},{"$f":"VG!R127","v":0},{"$f":"VG!S127","v":0},{"$f":"VG!T127","v":0},{"$f":"VG!U127","v":0},{"$f":"VG!V127","v":0},{"$f":"VG!W127","v":0},{"$f":"IF(ISBLANK(VG!X127),\"\",VG!X127)","v":""},{"$f":"VG!Y127","v":""}]
[{"$f":"VG!A128","v":""},{"$f":"VG!B128","v":0},null,{"$f":"VG!E128","v":0},null,{"$f":"VG!G128","v":0},{"$f":"VG!H128","v":0},{"$f":"VG!R128","v":0},{"$f":"VG!S128","v":0},{"$f":"VG!T128","v":0},{"$f":"VG!U128","v":0},{"$f":"VG!V128","v":0},{"$f":"VG!W128","v":0},{"$f":"IF(ISBLANK(VG!X128),\"\",VG!X128)","v":""},{"$f":"VG!Y128","v":""}]
[{"$f":"VG!A129","v":""},{"$f":"VG!B129","v":0},null,{"$f":"VG!E129","v":0},null,{"$f":"VG!G129","v":0},{"$f":"VG!H129","v":0},{"$f":"VG!R129","v":0},{"$f":"VG!S129","v":0},{"$f":"VG!T129","v":0},{"$f":"VG!U129","v":0},{"$f":"VG!V129","v":0},{"$f":"VG!W129","v":0},{"$f":"IF(ISBLANK(VG!X129),\"\",VG!X129)","v":""},{"$f":"VG!Y129","v":""}]
[{"$f":"VG!A130","v":""},{"$f":"VG!B130","v":0},null,{"$f":"VG!E130","v":0},null,{"$f":"VG!G130","v":0},{"$f":"VG!H130","v":0},{"$f":"VG!R130","v":0},{"$f":"VG!S130","v":0},{"$f":"VG!T130","v":0},{"$f":"VG!U130","v":0},{"$f":"VG!V130","v":0},{"$f":"VG!W130","v":0},{"$f":"IF(ISBLANK(VG!X130),\"\",VG!X130)","v":""},{"$f":"VG!Y130","v":""}]
[{"$f":"VG!A131","v":""},{"$f":"VG!B131","v":0},null,{"$f":"VG!E131","v":0},null,{"$f":"VG!G131","v":0},{"$f":"VG!H131","v":0},{"$f":"VG!R131","v":0},{"$f":"VG!S131","v":0},{"$f":"VG!T131","v":0},{"$f":"VG!U131","v":0},{"$f":"VG!V131","v":0},{"$f":"VG!W131","v":0},{"$f":"IF(ISBLANK(VG!X131),\"\",VG!X131)","v":""},{"$f":"VG!Y131","v":""}]
[{"$f":"VG!A132","v":""},{"$f":"VG!B132","v":0},null,{"$f":"VG!E132","v":0},null,{"$f":"VG!G132","v":0},{"$f":"VG!H132","v":0},{"$f":"VG!R132","v":0},{"$f":"VG!S132","v":0},{"$f":"VG!T132","v":0},{"$f":"VG!U132","v":0},{"$f":"VG!V132","v":0},{"$f":"VG!W132","v":0},{"$f":"IF(ISBLANK(VG!X132),\"\",VG!X132)","v":""},{"$f":"VG!Y132","v":""}]
[{"$f":"VG!A133","v":""},{"$f":"VG!B133","v":0},null,{"$f":"VG!E133","v":0},null,{"$f":"VG!G133","v":0},{"$f":"VG!H133","v":0},{"$f":"VG!R133","v":0},{"$f":"VG!S133","v":0},{"$f":"VG!T133","v":0},{"$f":"VG!U133","v":0},{"$f":"VG!V133","v":0},{"$f":"VG!W133","v":0},{"$f":"IF(ISBLANK(VG!X133),\"\",VG!X133)","v":""},{"$f":"VG!Y133","v":""}]
[{"$f":"VG!A134","v":""},{"$f":"VG!B134","v":0},null,{"$f":"VG!E134","v":0},null,{"$f":"VG!G134","v":0},{"$f":"VG!H134","v":0},{"$f":"VG!R134","v":0},{"$f":"VG!S134","v":0},{"$f":"VG!T134","v":0},{"$f":"VG!U134","v":0},{"$f":"VG!V134","v":0},{"$f":"VG!W134","v":0},{"$f":"IF(ISBLANK(VG!X134),\"\",VG!X134)","v":""},{"$f":"VG!Y134","v":""}]
["Kişinin Firmanın Teklifleri Toplamı (KDV HARİÇ)",null,null,null,null,null,null,"TEKLİF TOPLAMI",{"$f":"SUM(I8:I107)","v":11430},"TEKLİF TOPLAMI",{"$f":"SUM(K8:K107)","v":13010},"TEKLİF TOPLAMI",{"$f":"SUM(M8:M107)","v":12840},"TEKLİF TOPLAMI",{"$f":"SUM(O8:O107)","v":0},null,{"$f":"MIN(I108,K108,M108,O108)","v":0},{"$f":"MIN(I108,K108,M108)","v":11430}]
["Satın Alınacak Malın/Hizmetin",null,null,null,null,"TEKLİFİ UYGUN GÖRÜLEN KİŞİ / FİRMA"]
[null,null,null,null,null,"ADI",null,null,null,"ADRESİ",null,null,null,"TOPLAM TEKLİF"]
["Tümünün bu Kişi/Firmadan Alımı Uygun Görülmüştir.",null,null,null,null,{"$f":"VG!L15","v":0},null,null,null,{"$f":"CONCATENATE(VG!L17,B!C3,VG!L18)","v":" / "},null,null,null,{"$f":"IF(O108=0,R108,Q108)","v":11430}]
["          4734 Sayılı Kamu İhale Kanununun 22. maddesi uyarınca Doğrudan Temin usulüyle yapılacak alımlara ilişkin yapılan piyasa araştırmasında Firmalarca / Kişilerce teklif edilen fiyatlar tarafımızca değerlendirilerek yukarıda adı ve adresi belirtilen Kişi / Firmadan alım yapılması uygun görülmüştür. "]
["PİYASA FİYAT ARAŞTIRMASI GÖREVLİLERİ"]
[]
[null,{"$f":"VG!J8","v":0},null,null,null,null,null,{"$f":"VG!J7","v":0},null,null,null,null,null,{"$f":"VG!J6","v":0}]
[null,{"$f":"VG!M8","v":"Müdür Yardımcsısı"},null,null,null,null,null,{"$f":"VG!M7","v":"Öğretmen"},null,null,null,null,null,{"$f":"VG!M6","v":"Öğretmen"}]

{"sheet":"ONAY","index":8,"n_rows":40,"n_cols":6,"rows_kept":40,"cut":false,"hidden":false,"merged":[[39,0,39,2],[39,3,39,5],[0,0,0,5],[36,0,36,2],[37,0,37,2],[38,0,38,2],[36,3,36,5],[37,3,37,5],[38,3,38,5],[27,0,27,5],[28,0,30,5],[31,0,31,5],[32,0,34,2],[32,3,34,5],[22,3,22,5],[23,0,26,2],[23,3,23,4],[24,3,24,4],[25,3,25,4],[26,3,26,4],[17,3,17,5],[18,3,18,5],[19,3,19,5],[20,3,20,5],[21,3,21,5],[12,3,12,5],[13,3,13,5],[14,3,14,5],[15,3,15,5],[16,3,16,5],[1,0,1,5],[2,0,2,5],[3,0,3,5],[4,0,4,2],[11,0,11,5],[4,3,4,5],[5,3,5,5],[8,3,8,5],[9,3,9,5],[10,3,10,5],[5,0,5,2],[6,0,7,5],[8,0,8,2],[9,0,9,2],[10,0,10,2],[12,0,12,2],[13,0,13,2],[14,0,14,2],[15,0,15,2],[16,0,16,2],[22,0,22,2],[17,0,17,2],[18,0,18,2],[19,0,19,2],[20,0,20,2],[21,0,21,2]]}
[]
[]
[]
["ONAY BELGESİ"]
["Doğrudan Temin Yapan İdarenin Adı",null,null,{"$f":"VG!D9","v":"Erdem Bayazıt İmam Hatip Ortaokulu"}]
["Belge Tarihi ve Sayısı",null,null,{"$f":"CONCATENATE(VG!D26,B!C3,VG!F26)","v":"44460 / 2021-1"}]
[{"$f":"CONCATENATE(B!A2,B!B2,B!A1,B!C1)","v":"OSMANİYE ERDEM BAYAZIT İMAM HATİP ORTAOKULU MÜDÜRLÜĞÜNE"}]
[]
["İşin Tanımı",null,null,{"$f":"CONCATENATE(VG!D16,VG!H16)","v":"Büro Mefruşat Alımları Alımı"}]
["İşin Niteliği",null,null,{"$f":"CONCATENATE(VG!D17,VG!H17)","v":"Okul İhtiyacı  için "}]
["İşin Miktarı",null,null,{"$f":"CONCATENATE(B!F1,B!H1)","v":"3 Kalem "}]
[]
["Yaklaşık Maliyet (KDV HARİÇ)",null,null,{"$f":"YM!Q108","v":12426.666666666666}]
["Kullanılabilir Ödenek Tutarı (KDV DAHİL)",null,null,"Ödenek Müsaittir"]
["Yatırım Projesi Numarası (Varsa)"]
["Bütçe Tertibi ",null,null,{"$f":"VG!D18","v":"Okul Bütçesinden"}]
["Avans Verilecekse Miktarı",null,null,"Avans Verilmeyecektir"]
["İhale Usulu",null,null,"4734 Sayılı Kanunun 22/D Maddesi"]
["İlan Şekli ve Adeti ",null,null,"İlan Yapılmayacak"]
["İhale Dökümanı Satış Bedeli",null,null,"Yoktur."]
["Fiyat Farkı Ödenecekse Dayanağı BKK",null,null,"Ödenmeyecek"]
["Şartname Düzenlenip Düzenlenmeyeceği",null,null,{"$f":"VG!D19","v":"Hayır"}]
["Şartname Düzenlenip Düzenlenmeyeceği",null,null,{"$f":"VG!D20","v":"Hayır"}]
["Doğrudan Temin Yoluyla Mal / Hizmet satın alınacaksa piyasa fiyat araştırması yapmak üzere görevlendirilecek kişiler",null,null,"Adı Soyadı",null,"Unvanı"]
[null,null,null,{"$f":"VG!J6","v":0},null,{"$f":"VG!M6","v":"Öğretmen"}]
[null,null,null,{"$f":"VG!J7","v":0},null,{"$f":"VG!M7","v":"Öğretmen"}]
[null,null,null,{"$f":"VG!J8","v":0},null,{"$f":"VG!M8","v":"Müdür Yardımcsısı"}]
["DİĞER AÇIKLAMALAR"]
[{"$f":"YM!F3","v":"Okul İhtiyacı  için Büro Mefruşat Alımları Alımı"}]
[]
[]
["ONAY"]
["      Yukarıda Belirtilen Mal / Hizmet Satın alınması için ilgililerin görevlendirilmeleri hususunu Onaylarınıza arz ve teklif ederim.",null,null,"UYGUNDUR"]
[]
[]
[]
[]
[{"$f":"VG!D26","v":44460},null,null,{"$f":"VG!D26","v":44460}]
[{"$f":"VG!D13","v":0},null,null,{"$f":"VG!D11","v":0}]
[{"$f":"VG!D14","v":"Müdür Yardımcsısı"},null,null,{"$f":"VG!D12","v":"Okul Müdürü"}]

{"sheet":"MKT","index":9,"n_rows":133,"n_cols":6,"rows_kept":133,"cut":false,"hidden":false,"merged":[[8,0,8,5],[5,0,5,5],[9,1,9,2],[10,1,10,2],[11,1,11,2],[120,0,120,5],[111,3,111,4],[112,3,112,4],[113,3,113,4],[17,1,17,2],[18,1,18,2],[19,1,19,2],[20,1,20,2],[21,1,21,2],[12,1,12,2],[13,1,13,2],[14,1,14,2],[15,1,15,2],[16,1,16,2],[27,1,27,2],[28,1,28,2],[29,1,29,2],[30,1,30,2],[31,1,31,2],[22,1,22,2],[23,1,23,2],[24,1,24,2],[25,1,25,2],[26,1,26,2],[37,1,37,2],[38,1,38,2],[39,1,39,2],[40,1,40,2],[41,1,41,2],[32,1,32,2],[33,1,33,2],[34,1,34,2],[35,1,35,2],[36,1,36,2],[47,1,47,2],[48,1,48,2],[49,1,49,2],[50,1,50,2],[51,1,51,2],[42,1,42,2],[43,1,43,2],[44,1,44,2],[45,1,45,2],[46,1,46,2],[57,1,57,2],[58,1,58,2],[59,1,59,2],[60,1,60,2],[61,1,61,2],[52,1,52,2],[53,1,53,2],[54,1,54,2],[55,1,55,2],[56,1,56,2],[67,1,67,2],[68,1,68,2],[69,1,69,2],[70,1,70,2],[71,1,71,2],[62,1,62,2],[63,1,63,2],[64,1,64,2],[65,1,65,2],[66,1,66,2],[77,1,77,2],[78,1,78,2],[79,1,79,2],[80,1,80,2],[81,1,81,2],[72,1,72,2],[73,1,73,2],[74,1,74,2],[75,1,75,2],[76,1,76,2],[87,1,87,2],[88,1,88,2],[89,1,89,2],[90,1,90,2],[91,1,91,2],[82,1,82,2],[83,1,83,2],[84,1,84,2],[85,1,85,2],[86,1,86,2],[97,1,97,2],[98,1,98,2],[99,1,99,2],[100,1,100,2],[101,1,101,2],[92,1,92,2],[93,1,93,2],[94,1,94,2],[95,1,95,2],[96,1,96,2],[117,0,117,1],[0,0,0,5],[1,0,1,5],[2,0,2,5],[129,0,129,5],[132,0,132,5],[131,0,131,5],[122,0,122,5],[124,0,124,1],[124,2,124,3],[124,4,124,5],[125,4,125,5],[125,2,125,3],[125,0,125,1],[107,1,107,2],[108,1,108,2],[109,1,109,2],[116,0,116,1],[116,2,116,5],[102,1,102,2],[103,1,103,2],[104,1,104,2],[105,1,105,2],[106,1,106,2]]}
[{"$f":"VG!A5","v":"T.C."}]
[{"$f":"VG!A6","v":"OSMANİYE VALİLİĞİ"}]
[{"$f":"VG!A7","v":"Erdem Bayazıt İmam Hatip Ortaokulu Müdürlüğü"}]
[]
[]
["MUAYENE VE KABUL TUTANAĞI"]
[]
[]
["MUAYENE VE KABULÜ YAPILAN MALIN"]
["SIRA","ADI",null,"ÖZELLİĞİ","MİKTARI","BİRİMİ"]
[{"$f":"VG!A35","v":1},{"$f":"VG!B35","v":" Perde"},null,{"$f":"VG!E35","v":"Fon"},{"$f":"VG!G35","v":120},{"$f":"VG!H35","v":"Metrekare"}]
[{"$f":"VG!A36","v":2},{"$f":"VG!B36","v":" Perde"},null,{"$f":"VG!E36","v":"Zebra"},{"$f":"VG!G36","v":30},{"$f":"VG!H36","v":"Metrekare"}]
[{"$f":"VG!A37","v":3},{"$f":"VG!B37","v":"Perde"},null,{"$f":"VG!E37","v":"Karartma"},{"$f":"VG!G37","v":34},{"$f":"VG!H37","v":"Metrekare"}]
[{"$f":"VG!A38","v":""},{"$f":"VG!B38","v":0},null,{"$f":"VG!E38","v":0},{"$f":"VG!G38","v":0},{"$f":"VG!H38","v":0}]
[{"$f":"VG!A39","v":""},{"$f":"VG!B39","v":0},null,{"$f":"VG!E39","v":0},{"$f":"VG!G39","v":0},{"$f":"VG!H39","v":0}]
[{"$f":"VG!A40","v":""},{"$f":"VG!B40","v":0},null,{"$f":"VG!E40","v":0},{"$f":"VG!G40","v":0},{"$f":"VG!H40","v":0}]
[{"$f":"VG!A41","v":""},{"$f":"VG!B41","v":0},null,{"$f":"VG!E41","v":0},{"$f":"VG!G41","v":0},{"$f":"VG!H41","v":0}]
[{"$f":"VG!A42","v":""},{"$f":"VG!B42","v":0},null,{"$f":"VG!E42","v":0},{"$f":"VG!G42","v":0},{"$f":"VG!H42","v":0}]
[{"$f":"VG!A43","v":""},{"$f":"VG!B43","v":0},null,{"$f":"VG!E43","v":0},{"$f":"VG!G43","v":0},{"$f":"VG!H43","v":0}]
[{"$f":"VG!A44","v":""},{"$f":"VG!B44","v":0},null,{"$f":"VG!E44","v":0},{"$f":"VG!G44","v":0},{"$f":"VG!H44","v":0}]
[{"$f":"VG!A45","v":""},{"$f":"VG!B45","v":0},null,{"$f":"VG!E45","v":0},{"$f":"VG!G45","v":0},{"$f":"VG!H45","v":0}]
[{"$f":"VG!A46","v":""},{"$f":"VG!B46","v":0},null,{"$f":"VG!E46","v":0},{"$f":"VG!G46","v":0},{"$f":"VG!H46","v":0}]
[{"$f":"VG!A47","v":""},{"$f":"VG!B47","v":0},null,{"$f":"VG!E47","v":0},{"$f":"VG!G47","v":0},{"$f":"VG!H47","v":0}]
[{"$f":"VG!A48","v":""},{"$f":"VG!B48","v":0},null,{"$f":"VG!E48","v":0},{"$f":"VG!G48","v":0},{"$f":"VG!H48","v":0}]
[{"$f":"VG!A49","v":""},{"$f":"VG!B49","v":0},null,{"$f":"VG!E49","v":0},{"$f":"VG!G49","v":0},{"$f":"VG!H49","v":0}]
[{"$f":"VG!A50","v":""},{"$f":"VG!B50","v":0},null,{"$f":"VG!E50","v":0},{"$f":"VG!G50","v":0},{"$f":"VG!H50","v":0}]
[{"$f":"VG!A51","v":""},{"$f":"VG!B51","v":0},null,{"$f":"VG!E51","v":0},{"$f":"VG!G51","v":0},{"$f":"VG!H51","v":0}]
[{"$f":"VG!A52","v":""},{"$f":"VG!B52","v":0},null,{"$f":"VG!E52","v":0},{"$f":"VG!G52","v":0},{"$f":"VG!H52","v":0}]
[{"$f":"VG!A53","v":""},{"$f":"VG!B53","v":0},null,{"$f":"VG!E53","v":0},{"$f":"VG!G53","v":0},{"$f":"VG!H53","v":0}]
[{"$f":"VG!A54","v":""},{"$f":"VG!B54","v":0},null,{"$f":"VG!E54","v":0},{"$f":"VG!G54","v":0},{"$f":"VG!H54","v":0}]
[{"$f":"VG!A55","v":""},{"$f":"VG!B55","v":0},null,{"$f":"VG!E55","v":0},{"$f":"VG!G55","v":0},{"$f":"VG!H55","v":0}]
[{"$f":"VG!A56","v":""},{"$f":"VG!B56","v":0},null,{"$f":"VG!E56","v":0},{"$f":"VG!G56","v":0},{"$f":"VG!H56","v":0}]
[{"$f":"VG!A57","v":""},{"$f":"VG!B57","v":0},null,{"$f":"VG!E57","v":0},{"$f":"VG!G57","v":0},{"$f":"VG!H57","v":0}]
[{"$f":"VG!A58","v":""},{"$f":"VG!B58","v":0},null,{"$f":"VG!E58","v":0},{"$f":"VG!G58","v":0},{"$f":"VG!H58","v":0}]
[{"$f":"VG!A59","v":""},{"$f":"VG!B59","v":0},null,{"$f":"VG!E59","v":0},{"$f":"VG!G59","v":0},{"$f":"VG!H59","v":0}]
[{"$f":"VG!A60","v":""},{"$f":"VG!B60","v":0},null,{"$f":"VG!E60","v":0},{"$f":"VG!G60","v":0},{"$f":"VG!H60","v":0}]
[{"$f":"VG!A61","v":""},{"$f":"VG!B61","v":0},null,{"$f":"VG!E61","v":0},{"$f":"VG!G61","v":0},{"$f":"VG!H61","v":0}]
[{"$f":"VG!A62","v":""},{"$f":"VG!B62","v":0},null,{"$f":"VG!E62","v":0},{"$f":"VG!G62","v":0},{"$f":"VG!H62","v":0}]
[{"$f":"VG!A63","v":""},{"$f":"VG!B63","v":0},null,{"$f":"VG!E63","v":0},{"$f":"VG!G63","v":0},{"$f":"VG!H63","v":0}]
[{"$f":"VG!A64","v":""},{"$f":"VG!B64","v":0},null,{"$f":"VG!E64","v":0},{"$f":"VG!G64","v":0},{"$f":"VG!H64","v":0}]
[{"$f":"VG!A65","v":""},{"$f":"VG!B65","v":0},null,{"$f":"VG!E65","v":0},{"$f":"VG!G65","v":0},{"$f":"VG!H65","v":0}]
[{"$f":"VG!A66","v":""},{"$f":"VG!B66","v":0},null,{"$f":"VG!E66","v":0},{"$f":"VG!G66","v":0},{"$f":"VG!H66","v":0}]
[{"$f":"VG!A67","v":""},{"$f":"VG!B67","v":0},null,{"$f":"VG!E67","v":0},{"$f":"VG!G67","v":0},{"$f":"VG!H67","v":0}]
[{"$f":"VG!A68","v":""},{"$f":"VG!B68","v":0},null,{"$f":"VG!E68","v":0},{"$f":"VG!G68","v":0},{"$f":"VG!H68","v":0}]
[{"$f":"VG!A69","v":""},{"$f":"VG!B69","v":0},null,{"$f":"VG!E69","v":0},{"$f":"VG!G69","v":0},{"$f":"VG!H69","v":0}]
[{"$f":"VG!A70","v":""},{"$f":"VG!B70","v":0},null,{"$f":"VG!E70","v":0},{"$f":"VG!G70","v":0},{"$f":"VG!H70","v":0}]
[{"$f":"VG!A71","v":""},{"$f":"VG!B71","v":0},null,{"$f":"VG!E71","v":0},{"$f":"VG!G71","v":0},{"$f":"VG!H71","v":0}]
[{"$f":"VG!A72","v":""},{"$f":"VG!B72","v":0},null,{"$f":"VG!E72","v":0},{"$f":"VG!G72","v":0},{"$f":"VG!H72","v":0}]
[{"$f":"VG!A73","v":""},{"$f":"VG!B73","v":0},null,{"$f":"VG!E73","v":0},{"$f":"VG!G73","v":0},{"$f":"VG!H73","v":0}]
[{"$f":"VG!A74","v":""},{"$f":"VG!B74","v":0},null,{"$f":"VG!E74","v":0},{"$f":"VG!G74","v":0},{"$f":"VG!H74","v":0}]
[{"$f":"VG!A75","v":""},{"$f":"VG!B75","v":0},null,{"$f":"VG!E75","v":0},{"$f":"VG!G75","v":0},{"$f":"VG!H75","v":0}]
[{"$f":"VG!A76","v":""},{"$f":"VG!B76","v":0},null,{"$f":"VG!E76","v":0},{"$f":"VG!G76","v":0},{"$f":"VG!H76","v":0}]
[{"$f":"VG!A77","v":""},{"$f":"VG!B77","v":0},null,{"$f":"VG!E77","v":0},{"$f":"VG!G77","v":0},{"$f":"VG!H77","v":0}]
[{"$f":"VG!A78","v":""},{"$f":"VG!B78","v":0},null,{"$f":"VG!E78","v":0},{"$f":"VG!G78","v":0},{"$f":"VG!H78","v":0}]
[{"$f":"VG!A79","v":""},{"$f":"VG!B79","v":0},null,{"$f":"VG!E79","v":0},{"$f":"VG!G79","v":0},{"$f":"VG!H79","v":0}]
[{"$f":"VG!A80","v":""},{"$f":"VG!B80","v":0},null,{"$f":"VG!E80","v":0},{"$f":"VG!G80","v":0},{"$f":"VG!H80","v":0}]
[{"$f":"VG!A81","v":""},{"$f":"VG!B81","v":0},null,{"$f":"VG!E81","v":0},{"$f":"VG!G81","v":0},{"$f":"VG!H81","v":0}]
[{"$f":"VG!A82","v":""},{"$f":"VG!B82","v":0},null,{"$f":"VG!E82","v":0},{"$f":"VG!G82","v":0},{"$f":"VG!H82","v":0}]
[{"$f":"VG!A83","v":""},{"$f":"VG!B83","v":0},null,{"$f":"VG!E83","v":0},{"$f":"VG!G83","v":0},{"$f":"VG!H83","v":0}]
[{"$f":"VG!A84","v":""},{"$f":"VG!B84","v":0},null,{"$f":"VG!E84","v":0},{"$f":"VG!G84","v":0},{"$f":"VG!H84","v":0}]
[{"$f":"VG!A85","v":""},{"$f":"VG!B85","v":0},null,{"$f":"VG!E85","v":0},{"$f":"VG!G85","v":0},{"$f":"VG!H85","v":0}]
[{"$f":"VG!A86","v":""},{"$f":"VG!B86","v":0},null,{"$f":"VG!E86","v":0},{"$f":"VG!G86","v":0},{"$f":"VG!H86","v":0}]
[{"$f":"VG!A87","v":""},{"$f":"VG!B87","v":0},null,{"$f":"VG!E87","v":0},{"$f":"VG!G87","v":0},{"$f":"VG!H87","v":0}]
[{"$f":"VG!A88","v":""},{"$f":"VG!B88","v":0},null,{"$f":"VG!E88","v":0},{"$f":"VG!G88","v":0},{"$f":"VG!H88","v":0}]
[{"$f":"VG!A89","v":""},{"$f":"VG!B89","v":0},null,{"$f":"VG!E89","v":0},{"$f":"VG!G89","v":0},{"$f":"VG!H89","v":0}]
[{"$f":"VG!A90","v":""},{"$f":"VG!B90","v":0},null,{"$f":"VG!E90","v":0},{"$f":"VG!G90","v":0},{"$f":"VG!H90","v":0}]
[{"$f":"VG!A91","v":""},{"$f":"VG!B91","v":0},null,{"$f":"VG!E91","v":0},{"$f":"VG!G91","v":0},{"$f":"VG!H91","v":0}]
[{"$f":"VG!A92","v":""},{"$f":"VG!B92","v":0},null,{"$f":"VG!E92","v":0},{"$f":"VG!G92","v":0},{"$f":"VG!H92","v":0}]
[{"$f":"VG!A93","v":""},{"$f":"VG!B93","v":0},null,{"$f":"VG!E93","v":0},{"$f":"VG!G93","v":0},{"$f":"VG!H93","v":0}]
[{"$f":"VG!A94","v":""},{"$f":"VG!B94","v":0},null,{"$f":"VG!E94","v":0},{"$f":"VG!G94","v":0},{"$f":"VG!H94","v":0}]
[{"$f":"VG!A95","v":""},{"$f":"VG!B95","v":0},null,{"$f":"VG!E95","v":0},{"$f":"VG!G95","v":0},{"$f":"VG!H95","v":0}]
[{"$f":"VG!A96","v":""},{"$f":"VG!B96","v":0},null,{"$f":"VG!E96","v":0},{"$f":"VG!G96","v":0},{"$f":"VG!H96","v":0}]
[{"$f":"VG!A97","v":""},{"$f":"VG!B97","v":0},null,{"$f":"VG!E97","v":0},{"$f":"VG!G97","v":0},{"$f":"VG!H97","v":0}]
[{"$f":"VG!A98","v":""},{"$f":"VG!B98","v":0},null,{"$f":"VG!E98","v":0},{"$f":"VG!G98","v":0},{"$f":"VG!H98","v":0}]
[{"$f":"VG!A99","v":""},{"$f":"VG!B99","v":0},null,{"$f":"VG!E99","v":0},{"$f":"VG!G99","v":0},{"$f":"VG!H99","v":0}]
[{"$f":"VG!A100","v":""},{"$f":"VG!B100","v":0},null,{"$f":"VG!E100","v":0},{"$f":"VG!G100","v":0},{"$f":"VG!H100","v":0}]
[{"$f":"VG!A101","v":""},{"$f":"VG!B101","v":0},null,{"$f":"VG!E101","v":0},{"$f":"VG!G101","v":0},{"$f":"VG!H101","v":0}]
[{"$f":"VG!A102","v":""},{"$f":"VG!B102","v":0},null,{"$f":"VG!E102","v":0},{"$f":"VG!G102","v":0},{"$f":"VG!H102","v":0}]
[{"$f":"VG!A103","v":""},{"$f":"VG!B103","v":0},null,{"$f":"VG!E103","v":0},{"$f":"VG!G103","v":0},{"$f":"VG!H103","v":0}]
[{"$f":"VG!A104","v":""},{"$f":"VG!B104","v":0},null,{"$f":"VG!E104","v":0},{"$f":"VG!G104","v":0},{"$f":"VG!H104","v":0}]
[{"$f":"VG!A105","v":""},{"$f":"VG!B105","v":0},null,{"$f":"VG!E105","v":0},{"$f":"VG!G105","v":0},{"$f":"VG!H105","v":0}]
[{"$f":"VG!A106","v":""},{"$f":"VG!B106","v":0},null,{"$f":"VG!E106","v":0},{"$f":"VG!G106","v":0},{"$f":"VG!H106","v":0}]
[{"$f":"VG!A107","v":""},{"$f":"VG!B107","v":0},null,{"$f":"VG!E107","v":0},{"$f":"VG!G107","v":0},{"$f":"VG!H107","v":0}]
[{"$f":"VG!A108","v":""},{"$f":"VG!B108","v":0},null,{"$f":"VG!E108","v":0},{"$f":"VG!G108","v":0},{"$f":"VG!H108","v":0}]
[{"$f":"VG!A109","v":""},{"$f":"VG!B109","v":0},null,{"$f":"VG!E109","v":0},{"$f":"VG!G109","v":0},{"$f":"VG!H109","v":0}]
[{"$f":"VG!A110","v":""},{"$f":"VG!B110","v":0},null,{"$f":"VG!E110","v":0},{"$f":"VG!G110","v":0},{"$f":"VG!H110","v":0}]
[{"$f":"VG!A111","v":""},{"$f":"VG!B111","v":0},null,{"$f":"VG!E111","v":0},{"$f":"VG!G111","v":0},{"$f":"VG!H111","v":0}]
[{"$f":"VG!A112","v":""},{"$f":"VG!B112","v":0},null,{"$f":"VG!E112","v":0},{"$f":"VG!G112","v":0},{"$f":"VG!H112","v":0}]
[{"$f":"VG!A113","v":""},{"$f":"VG!B113","v":0},null,{"$f":"VG!E113","v":0},{"$f":"VG!G113","v":0},{"$f":"VG!H113","v":0}]
[{"$f":"VG!A114","v":""},{"$f":"VG!B114","v":0},null,{"$f":"VG!E114","v":0},{"$f":"VG!G114","v":0},{"$f":"VG!H114","v":0}]
[{"$f":"VG!A115","v":""},{"$f":"VG!B115","v":0},null,{"$f":"VG!E115","v":0},{"$f":"VG!G115","v":0},{"$f":"VG!H115","v":0}]
[{"$f":"VG!A116","v":""},{"$f":"VG!B116","v":0},null,{"$f":"VG!E116","v":0},{"$f":"VG!G116","v":0},{"$f":"VG!H116","v":0}]
[{"$f":"VG!A117","v":""},{"$f":"VG!B117","v":0},null,{"$f":"VG!E117","v":0},{"$f":"VG!G117","v":0},{"$f":"VG!H117","v":0}]
[{"$f":"VG!A118","v":""},{"$f":"VG!B118","v":0},null,{"$f":"VG!E118","v":0},{"$f":"VG!G118","v":0},{"$f":"VG!H118","v":0}]
[{"$f":"VG!A119","v":""},{"$f":"VG!B119","v":0},null,{"$f":"VG!E119","v":0},{"$f":"VG!G119","v":0},{"$f":"VG!H119","v":0}]
[{"$f":"VG!A120","v":""},{"$f":"VG!B120","v":0},null,{"$f":"VG!E120","v":0},{"$f":"VG!G120","v":0},{"$f":"VG!H120","v":0}]
[{"$f":"VG!A121","v":""},{"$f":"VG!B121","v":0},null,{"$f":"VG!E121","v":0},{"$f":"VG!G121","v":0},{"$f":"VG!H121","v":0}]
[{"$f":"VG!A122","v":""},{"$f":"VG!B122","v":0},null,{"$f":"VG!E122","v":0},{"$f":"VG!G122","v":0},{"$f":"VG!H122","v":0}]
[{"$f":"VG!A123","v":""},{"$f":"VG!B123","v":0},null,{"$f":"VG!E123","v":0},{"$f":"VG!G123","v":0},{"$f":"VG!H123","v":0}]
[{"$f":"VG!A124","v":""},{"$f":"VG!B124","v":0},null,{"$f":"VG!E124","v":0},{"$f":"VG!G124","v":0},{"$f":"VG!H124","v":0}]
[{"$f":"VG!A125","v":""},{"$f":"VG!B125","v":0},null,{"$f":"VG!E125","v":0},{"$f":"VG!G125","v":0},{"$f":"VG!H125","v":0}]
[{"$f":"VG!A126","v":""},{"$f":"VG!B126","v":0},null,{"$f":"VG!E126","v":0},{"$f":"VG!G126","v":0},{"$f":"VG!H126","v":0}]
[{"$f":"VG!A127","v":""},{"$f":"VG!B127","v":0},null,{"$f":"VG!E127","v":0},{"$f":"VG!G127","v":0},{"$f":"VG!H127","v":0}]
[{"$f":"VG!A128","v":""},{"$f":"VG!B128","v":0},null,{"$f":"VG!E128","v":0},{"$f":"VG!G128","v":0},{"$f":"VG!H128","v":0}]
[{"$f":"VG!A129","v":""},{"$f":"VG!B129","v":0},null,{"$f":"VG!E129","v":0},{"$f":"VG!G129","v":0},{"$f":"VG!H129","v":0}]
[{"$f":"VG!A130","v":""},{"$f":"VG!B130","v":0},null,{"$f":"VG!E130","v":0},{"$f":"VG!G130","v":0},{"$f":"VG!H130","v":0}]
[{"$f":"VG!A131","v":""},{"$f":"VG!B131","v":0},null,{"$f":"VG!E131","v":0},{"$f":"VG!G131","v":0},{"$f":"VG!H131","v":0}]
[{"$f":"VG!A132","v":""},{"$f":"VG!B132","v":0},null,{"$f":"VG!E132","v":0},{"$f":"VG!G132","v":0},{"$f":"VG!H132","v":0}]
[{"$f":"VG!A133","v":""},{"$f":"VG!B133","v":0},null,{"$f":"VG!E133","v":0},{"$f":"VG!G133","v":0},{"$f":"VG!H133","v":0}]
[{"$f":"VG!A134","v":""},{"$f":"VG!B134","v":0},null,{"$f":"VG!E134","v":0},{"$f":"VG!G134","v":0},{"$f":"VG!H134","v":0}]
[]
[null,null,null,"FİYAT TOPLAMI :",null,{"$f":"PAT!N111","v":11430}]
[null,null,null,"KDV TOPLAMI   :",null,{"$f":"F112*VG!I35/100","v":914.4}]
[null,null,null,"TOPLAM TUTAR :",null,{"$f":"F112+F113","v":12344.4}]
[]
[]
["YÜKLENİCİ FİRMA / KİŞİ",null,{"$f":"VG!L15","v":0}]
["YÜKLENİCİ VKN",null,{"$f":"VG!L16","v":0}]
[]
[]
[{"$f":"CONCATENATE(B!A10,ONAY!D11,B!A11)","v":"          Yukarıda Adı ve miktarları yazılı 3 Kalem Malın / Malzemenin ihale evraklarında yazılı nitelikleri muayene edilmiş olup komisyonumuzca tespit edilen niteliklere uygundur."}]
[]
[{"$f":"VG!D30","v":"2021-09-25"}]
[]
[{"$f":"VG!J13","v":0},null,{"$f":"VG!J12","v":0},null,{"$f":"VG!J11","v":0}]
[{"$f":"VG!O13","v":0},null,{"$f":"VG!O12","v":"Komisyon Üyesi"},null,{"$f":"VG!O11","v":"Komisyon Üyesi"}]
[]
[]
[]
["UYGUNDUR"]
[]
[{"$f":"VG!D11","v":0}]
[{"$f":"VG!D12","v":"Okul Müdürü"}]

{"sheet":"PROFORMA","index":10,"n_rows":125,"n_cols":7,"rows_kept":125,"cut":false,"hidden":false,"merged":[[0,0,0,6],[1,0,1,6],[2,0,2,6],[3,0,3,4],[5,0,5,1],[4,0,4,6],[5,2,5,6],[6,0,6,1],[7,0,7,1],[8,0,8,1],[9,0,9,1],[10,0,10,1],[116,0,116,1],[116,4,116,5],[121,0,121,6],[123,3,123,6],[124,3,129,6],[118,0,118,1],[118,4,118,5],[119,0,119,1],[119,2,119,6],[117,4,117,5],[6,2,6,6],[7,2,7,6],[8,2,8,6],[9,2,9,6],[10,2,10,6]]}
["PROFORMA FATURA"]
[]
[]
[]
["FİYAT VERİLEN"]
["Kurum / Kişi / Firma Adı"]
["TC Kimlik / Vergi Kimlik No"]
["Kurum / Kişi / Firma Telefon",null,"(0328) 825 83 35"]
["Kurum / Kişi / Firma Faks",null,"(0328) 825 83 38"]
["Kurum / Kişi / Firma Adres"]
["Teklif Edilen Fiyatın Geçerlilik Tarihi"]
[]
[]
[]
[]
["SIRA","ADI","ÖZELLİĞİ","MİKTARI","BİRİMİ","BİRİM FİYATI","TOPLAM TUTAR"]
[{"$f":"VG!A35","v":1},{"$f":"VG!B35","v":" Perde"},{"$f":"VG!E35","v":"Fon"},{"$f":"VG!G35","v":120},{"$f":"VG!H35","v":"Metrekare"}]
[{"$f":"VG!A36","v":2},{"$f":"VG!B36","v":" Perde"},{"$f":"VG!E36","v":"Zebra"},{"$f":"VG!G36","v":30},{"$f":"VG!H36","v":"Metrekare"}]
[{"$f":"VG!A37","v":3},{"$f":"VG!B37","v":"Perde"},{"$f":"VG!E37","v":"Karartma"},{"$f":"VG!G37","v":34},{"$f":"VG!H37","v":"Metrekare"}]
[{"$f":"VG!A38","v":""},{"$f":"VG!B38","v":0},{"$f":"VG!E38","v":0},{"$f":"VG!G38","v":0},{"$f":"VG!H38","v":0}]
[{"$f":"VG!A39","v":""},{"$f":"VG!B39","v":0},{"$f":"VG!E39","v":0},{"$f":"VG!G39","v":0},{"$f":"VG!H39","v":0}]
[{"$f":"VG!A40","v":""},{"$f":"VG!B40","v":0},{"$f":"VG!E40","v":0},{"$f":"VG!G40","v":0},{"$f":"VG!H40","v":0}]
[{"$f":"VG!A41","v":""},{"$f":"VG!B41","v":0},{"$f":"VG!E41","v":0},{"$f":"VG!G41","v":0},{"$f":"VG!H41","v":0}]
[{"$f":"VG!A42","v":""},{"$f":"VG!B42","v":0},{"$f":"VG!E42","v":0},{"$f":"VG!G42","v":0},{"$f":"VG!H42","v":0}]
[{"$f":"VG!A43","v":""},{"$f":"VG!B43","v":0},{"$f":"VG!E43","v":0},{"$f":"VG!G43","v":0},{"$f":"VG!H43","v":0}]
[{"$f":"VG!A44","v":""},{"$f":"VG!B44","v":0},{"$f":"VG!E44","v":0},{"$f":"VG!G44","v":0},{"$f":"VG!H44","v":0}]
[{"$f":"VG!A45","v":""},{"$f":"VG!B45","v":0},{"$f":"VG!E45","v":0},{"$f":"VG!G45","v":0},{"$f":"VG!H45","v":0}]
[{"$f":"VG!A46","v":""},{"$f":"VG!B46","v":0},{"$f":"VG!E46","v":0},{"$f":"VG!G46","v":0},{"$f":"VG!H46","v":0}]
[{"$f":"VG!A47","v":""},{"$f":"VG!B47","v":0},{"$f":"VG!E47","v":0},{"$f":"VG!G47","v":0},{"$f":"VG!H47","v":0}]
[{"$f":"VG!A48","v":""},{"$f":"VG!B48","v":0},{"$f":"VG!E48","v":0},{"$f":"VG!G48","v":0},{"$f":"VG!H48","v":0}]
[{"$f":"VG!A49","v":""},{"$f":"VG!B49","v":0},{"$f":"VG!E49","v":0},{"$f":"VG!G49","v":0},{"$f":"VG!H49","v":0}]
[{"$f":"VG!A50","v":""},{"$f":"VG!B50","v":0},{"$f":"VG!E50","v":0},{"$f":"VG!G50","v":0},{"$f":"VG!H50","v":0}]
[{"$f":"VG!A51","v":""},{"$f":"VG!B51","v":0},{"$f":"VG!E51","v":0},{"$f":"VG!G51","v":0},{"$f":"VG!H51","v":0}]
[{"$f":"VG!A52","v":""},{"$f":"VG!B52","v":0},{"$f":"VG!E52","v":0},{"$f":"VG!G52","v":0},{"$f":"VG!H52","v":0}]
[{"$f":"VG!A53","v":""},{"$f":"VG!B53","v":0},{"$f":"VG!E53","v":0},{"$f":"VG!G53","v":0},{"$f":"VG!H53","v":0}]
[{"$f":"VG!A54","v":""},{"$f":"VG!B54","v":0},{"$f":"VG!E54","v":0},{"$f":"VG!G54","v":0},{"$f":"VG!H54","v":0}]
[{"$f":"VG!A55","v":""},{"$f":"VG!B55","v":0},{"$f":"VG!E55","v":0},{"$f":"VG!G55","v":0},{"$f":"VG!H55","v":0}]
[{"$f":"VG!A56","v":""},{"$f":"VG!B56","v":0},{"$f":"VG!E56","v":0},{"$f":"VG!G56","v":0},{"$f":"VG!H56","v":0}]
[{"$f":"VG!A57","v":""},{"$f":"VG!B57","v":0},{"$f":"VG!E57","v":0},{"$f":"VG!G57","v":0},{"$f":"VG!H57","v":0}]
[{"$f":"VG!A58","v":""},{"$f":"VG!B58","v":0},{"$f":"VG!E58","v":0},{"$f":"VG!G58","v":0},{"$f":"VG!H58","v":0}]
[{"$f":"VG!A59","v":""},{"$f":"VG!B59","v":0},{"$f":"VG!E59","v":0},{"$f":"VG!G59","v":0},{"$f":"VG!H59","v":0}]
[{"$f":"VG!A60","v":""},{"$f":"VG!B60","v":0},{"$f":"VG!E60","v":0},{"$f":"VG!G60","v":0},{"$f":"VG!H60","v":0}]
[{"$f":"VG!A61","v":""},{"$f":"VG!B61","v":0},{"$f":"VG!E61","v":0},{"$f":"VG!G61","v":0},{"$f":"VG!H61","v":0}]
[{"$f":"VG!A62","v":""},{"$f":"VG!B62","v":0},{"$f":"VG!E62","v":0},{"$f":"VG!G62","v":0},{"$f":"VG!H62","v":0}]
[{"$f":"VG!A63","v":""},{"$f":"VG!B63","v":0},{"$f":"VG!E63","v":0},{"$f":"VG!G63","v":0},{"$f":"VG!H63","v":0}]
[{"$f":"VG!A64","v":""},{"$f":"VG!B64","v":0},{"$f":"VG!E64","v":0},{"$f":"VG!G64","v":0},{"$f":"VG!H64","v":0}]
[{"$f":"VG!A65","v":""},{"$f":"VG!B65","v":0},{"$f":"VG!E65","v":0},{"$f":"VG!G65","v":0},{"$f":"VG!H65","v":0}]
[{"$f":"VG!A66","v":""},{"$f":"VG!B66","v":0},{"$f":"VG!E66","v":0},{"$f":"VG!G66","v":0},{"$f":"VG!H66","v":0}]
[{"$f":"VG!A67","v":""},{"$f":"VG!B67","v":0},{"$f":"VG!E67","v":0},{"$f":"VG!G67","v":0},{"$f":"VG!H67","v":0}]
[{"$f":"VG!A68","v":""},{"$f":"VG!B68","v":0},{"$f":"VG!E68","v":0},{"$f":"VG!G68","v":0},{"$f":"VG!H68","v":0}]
[{"$f":"VG!A69","v":""},{"$f":"VG!B69","v":0},{"$f":"VG!E69","v":0},{"$f":"VG!G69","v":0},{"$f":"VG!H69","v":0}]
[{"$f":"VG!A70","v":""},{"$f":"VG!B70","v":0},{"$f":"VG!E70","v":0},{"$f":"VG!G70","v":0},{"$f":"VG!H70","v":0}]
[{"$f":"VG!A71","v":""},{"$f":"VG!B71","v":0},{"$f":"VG!E71","v":0},{"$f":"VG!G71","v":0},{"$f":"VG!H71","v":0}]
[{"$f":"VG!A72","v":""},{"$f":"VG!B72","v":0},{"$f":"VG!E72","v":0},{"$f":"VG!G72","v":0},{"$f":"VG!H72","v":0}]
[{"$f":"VG!A73","v":""},{"$f":"VG!B73","v":0},{"$f":"VG!E73","v":0},{"$f":"VG!G73","v":0},{"$f":"VG!H73","v":0}]
[{"$f":"VG!A74","v":""},{"$f":"VG!B74","v":0},{"$f":"VG!E74","v":0},{"$f":"VG!G74","v":0},{"$f":"VG!H74","v":0}]
[{"$f":"VG!A75","v":""},{"$f":"VG!B75","v":0},{"$f":"VG!E75","v":0},{"$f":"VG!G75","v":0},{"$f":"VG!H75","v":0}]
[{"$f":"VG!A76","v":""},{"$f":"VG!B76","v":0},{"$f":"VG!E76","v":0},{"$f":"VG!G76","v":0},{"$f":"VG!H76","v":0}]
[{"$f":"VG!A77","v":""},{"$f":"VG!B77","v":0},{"$f":"VG!E77","v":0},{"$f":"VG!G77","v":0},{"$f":"VG!H77","v":0}]
[{"$f":"VG!A78","v":""},{"$f":"VG!B78","v":0},{"$f":"VG!E78","v":0},{"$f":"VG!G78","v":0},{"$f":"VG!H78","v":0}]
[{"$f":"VG!A79","v":""},{"$f":"VG!B79","v":0},{"$f":"VG!E79","v":0},{"$f":"VG!G79","v":0},{"$f":"VG!H79","v":0}]
[{"$f":"VG!A80","v":""},{"$f":"VG!B80","v":0},{"$f":"VG!E80","v":0},{"$f":"VG!G80","v":0},{"$f":"VG!H80","v":0}]
[{"$f":"VG!A81","v":""},{"$f":"VG!B81","v":0},{"$f":"VG!E81","v":0},{"$f":"VG!G81","v":0},{"$f":"VG!H81","v":0}]
[{"$f":"VG!A82","v":""},{"$f":"VG!B82","v":0},{"$f":"VG!E82","v":0},{"$f":"VG!G82","v":0},{"$f":"VG!H82","v":0}]
[{"$f":"VG!A83","v":""},{"$f":"VG!B83","v":0},{"$f":"VG!E83","v":0},{"$f":"VG!G83","v":0},{"$f":"VG!H83","v":0}]
[{"$f":"VG!A84","v":""},{"$f":"VG!B84","v":0},{"$f":"VG!E84","v":0},{"$f":"VG!G84","v":0},{"$f":"VG!H84","v":0}]
[{"$f":"VG!A85","v":""},{"$f":"VG!B85","v":0},{"$f":"VG!E85","v":0},{"$f":"VG!G85","v":0},{"$f":"VG!H85","v":0}]
[{"$f":"VG!A86","v":""},{"$f":"VG!B86","v":0},{"$f":"VG!E86","v":0},{"$f":"VG!G86","v":0},{"$f":"VG!H86","v":0}]
[{"$f":"VG!A87","v":""},{"$f":"VG!B87","v":0},{"$f":"VG!E87","v":0},{"$f":"VG!G87","v":0},{"$f":"VG!H87","v":0}]
[{"$f":"VG!A88","v":""},{"$f":"VG!B88","v":0},{"$f":"VG!E88","v":0},{"$f":"VG!G88","v":0},{"$f":"VG!H88","v":0}]
[{"$f":"VG!A89","v":""},{"$f":"VG!B89","v":0},{"$f":"VG!E89","v":0},{"$f":"VG!G89","v":0},{"$f":"VG!H89","v":0}]
[{"$f":"VG!A90","v":""},{"$f":"VG!B90","v":0},{"$f":"VG!E90","v":0},{"$f":"VG!G90","v":0},{"$f":"VG!H90","v":0}]
[{"$f":"VG!A91","v":""},{"$f":"VG!B91","v":0},{"$f":"VG!E91","v":0},{"$f":"VG!G91","v":0},{"$f":"VG!H91","v":0}]
[{"$f":"VG!A92","v":""},{"$f":"VG!B92","v":0},{"$f":"VG!E92","v":0},{"$f":"VG!G92","v":0},{"$f":"VG!H92","v":0}]
[{"$f":"VG!A93","v":""},{"$f":"VG!B93","v":0},{"$f":"VG!E93","v":0},{"$f":"VG!G93","v":0},{"$f":"VG!H93","v":0}]
[{"$f":"VG!A94","v":""},{"$f":"VG!B94","v":0},{"$f":"VG!E94","v":0},{"$f":"VG!G94","v":0},{"$f":"VG!H94","v":0}]
[{"$f":"VG!A95","v":""},{"$f":"VG!B95","v":0},{"$f":"VG!E95","v":0},{"$f":"VG!G95","v":0},{"$f":"VG!H95","v":0}]
[{"$f":"VG!A96","v":""},{"$f":"VG!B96","v":0},{"$f":"VG!E96","v":0},{"$f":"VG!G96","v":0},{"$f":"VG!H96","v":0}]
[{"$f":"VG!A97","v":""},{"$f":"VG!B97","v":0},{"$f":"VG!E97","v":0},{"$f":"VG!G97","v":0},{"$f":"VG!H97","v":0}]
[{"$f":"VG!A98","v":""},{"$f":"VG!B98","v":0},{"$f":"VG!E98","v":0},{"$f":"VG!G98","v":0},{"$f":"VG!H98","v":0}]
[{"$f":"VG!A99","v":""},{"$f":"VG!B99","v":0},{"$f":"VG!E99","v":0},{"$f":"VG!G99","v":0},{"$f":"VG!H99","v":0}]
[{"$f":"VG!A100","v":""},{"$f":"VG!B100","v":0},{"$f":"VG!E100","v":0},{"$f":"VG!G100","v":0},{"$f":"VG!H100","v":0}]
[{"$f":"VG!A101","v":""},{"$f":"VG!B101","v":0},{"$f":"VG!E101","v":0},{"$f":"VG!G101","v":0},{"$f":"VG!H101","v":0}]
[{"$f":"VG!A102","v":""},{"$f":"VG!B102","v":0},{"$f":"VG!E102","v":0},{"$f":"VG!G102","v":0},{"$f":"VG!H102","v":0}]
[{"$f":"VG!A103","v":""},{"$f":"VG!B103","v":0},{"$f":"VG!E103","v":0},{"$f":"VG!G103","v":0},{"$f":"VG!H103","v":0}]
[{"$f":"VG!A104","v":""},{"$f":"VG!B104","v":0},{"$f":"VG!E104","v":0},{"$f":"VG!G104","v":0},{"$f":"VG!H104","v":0}]
[{"$f":"VG!A105","v":""},{"$f":"VG!B105","v":0},{"$f":"VG!E105","v":0},{"$f":"VG!G105","v":0},{"$f":"VG!H105","v":0}]
[{"$f":"VG!A106","v":""},{"$f":"VG!B106","v":0},{"$f":"VG!E106","v":0},{"$f":"VG!G106","v":0},{"$f":"VG!H106","v":0}]
[{"$f":"VG!A107","v":""},{"$f":"VG!B107","v":0},{"$f":"VG!E107","v":0},{"$f":"VG!G107","v":0},{"$f":"VG!H107","v":0}]
[{"$f":"VG!A108","v":""},{"$f":"VG!B108","v":0},{"$f":"VG!E108","v":0},{"$f":"VG!G108","v":0},{"$f":"VG!H108","v":0}]
[{"$f":"VG!A109","v":""},{"$f":"VG!B109","v":0},{"$f":"VG!E109","v":0},{"$f":"VG!G109","v":0},{"$f":"VG!H109","v":0}]
[{"$f":"VG!A110","v":""},{"$f":"VG!B110","v":0},{"$f":"VG!E110","v":0},{"$f":"VG!G110","v":0},{"$f":"VG!H110","v":0}]
[{"$f":"VG!A111","v":""},{"$f":"VG!B111","v":0},{"$f":"VG!E111","v":0},{"$f":"VG!G111","v":0},{"$f":"VG!H111","v":0}]
[{"$f":"VG!A112","v":""},{"$f":"VG!B112","v":0},{"$f":"VG!E112","v":0},{"$f":"VG!G112","v":0},{"$f":"VG!H112","v":0}]
[{"$f":"VG!A113","v":""},{"$f":"VG!B113","v":0},{"$f":"VG!E113","v":0},{"$f":"VG!G113","v":0},{"$f":"VG!H113","v":0}]
[{"$f":"VG!A114","v":""},{"$f":"VG!B114","v":0},{"$f":"VG!E114","v":0},{"$f":"VG!G114","v":0},{"$f":"VG!H114","v":0}]
[{"$f":"VG!A115","v":""},{"$f":"VG!B115","v":0},{"$f":"VG!E115","v":0},{"$f":"VG!G115","v":0},{"$f":"VG!H115","v":0}]
[{"$f":"VG!A116","v":""},{"$f":"VG!B116","v":0},{"$f":"VG!E116","v":0},{"$f":"VG!G116","v":0},{"$f":"VG!H116","v":0}]
[{"$f":"VG!A117","v":""},{"$f":"VG!B117","v":0},{"$f":"VG!E117","v":0},{"$f":"VG!G117","v":0},{"$f":"VG!H117","v":0}]
[{"$f":"VG!A118","v":""},{"$f":"VG!B118","v":0},{"$f":"VG!E118","v":0},{"$f":"VG!G118","v":0},{"$f":"VG!H118","v":0}]
[{"$f":"VG!A119","v":""},{"$f":"VG!B119","v":0},{"$f":"VG!E119","v":0},{"$f":"VG!G119","v":0},{"$f":"VG!H119","v":0}]
[{"$f":"VG!A120","v":""},{"$f":"VG!B120","v":0},{"$f":"VG!E120","v":0},{"$f":"VG!G120","v":0},{"$f":"VG!H120","v":0}]
[{"$f":"VG!A121","v":""},{"$f":"VG!B121","v":0},{"$f":"VG!E121","v":0},{"$f":"VG!G121","v":0},{"$f":"VG!H121","v":0}]
[{"$f":"VG!A122","v":""},{"$f":"VG!B122","v":0},{"$f":"VG!E122","v":0},{"$f":"VG!G122","v":0},{"$f":"VG!H122","v":0}]
[{"$f":"VG!A123","v":""},{"$f":"VG!B123","v":0},{"$f":"VG!E123","v":0},{"$f":"VG!G123","v":0},{"$f":"VG!H123","v":0}]
[{"$f":"VG!A124","v":""},{"$f":"VG!B124","v":0},{"$f":"VG!E124","v":0},{"$f":"VG!G124","v":0},{"$f":"VG!H124","v":0}]
[{"$f":"VG!A125","v":""},{"$f":"VG!B125","v":0},{"$f":"VG!E125","v":0},{"$f":"VG!G125","v":0},{"$f":"VG!H125","v":0}]
[{"$f":"VG!A126","v":""},{"$f":"VG!B126","v":0},{"$f":"VG!E126","v":0},{"$f":"VG!G126","v":0},{"$f":"VG!H126","v":0}]
[{"$f":"VG!A127","v":""},{"$f":"VG!B127","v":0},{"$f":"VG!E127","v":0},{"$f":"VG!G127","v":0},{"$f":"VG!H127","v":0}]
[{"$f":"VG!A128","v":""},{"$f":"VG!B128","v":0},{"$f":"VG!E128","v":0},{"$f":"VG!G128","v":0},{"$f":"VG!H128","v":0}]
[{"$f":"VG!A129","v":""},{"$f":"VG!B129","v":0},{"$f":"VG!E129","v":0},{"$f":"VG!G129","v":0},{"$f":"VG!H129","v":0}]
[{"$f":"VG!A130","v":""},{"$f":"VG!B130","v":0},{"$f":"VG!E130","v":0},{"$f":"VG!G130","v":0},{"$f":"VG!H130","v":0}]
[{"$f":"VG!A131","v":""},{"$f":"VG!B131","v":0},{"$f":"VG!E131","v":0},{"$f":"VG!G131","v":0},{"$f":"VG!H131","v":0}]
[{"$f":"VG!A132","v":""},{"$f":"VG!B132","v":0},{"$f":"VG!E132","v":0},{"$f":"VG!G132","v":0},{"$f":"VG!H132","v":0}]
[{"$f":"VG!A133","v":""},{"$f":"VG!B133","v":0},{"$f":"VG!E133","v":0},{"$f":"VG!G133","v":0},{"$f":"VG!H133","v":0}]
[{"$f":"VG!A134","v":""},{"$f":"VG!B134","v":0},{"$f":"VG!E134","v":0},{"$f":"VG!G134","v":0},{"$f":"VG!H134","v":0}]
[null,null,null,null,"TOPLAM TURAR"]
[null,null,null,null,"KDV MİKTARI"]
[null,null,null,null,"GENEL TOPLAM"]
["TEKLİF TOPLAMI YAZIYLA (KDV DAHİL)"]
[]
["         Yukarda Adı, özelliği ve miktarı yazılı Malın / Malzemenin belirtilen tarih itibariyle satış fiyatı belirttiğimiz gibi olup istenilmesi halinde temin edilebilecektir."]
[]
[null,null,null,"PROFORMA FATURA DÜZENLEYEN FİRMA/KİŞİ"]
[null,null,null,"İmza / Kaşe/Adres"]